Workbook
Name Excel_BuiltIn__FilterDatabase_3: #REF!
Name Excel_BuiltIn__FilterDatabase_3: #REF!
Name Excel_BuiltIn__FilterDatabase_3: #REF!

Sheet Matriz de riesgo CPR
E3: MATRIZ DE RIESGOS ORGANISMOS DE CERTIFICACIÓN DE PRODUCTO, PROCESOS Y SERVICIOS | S3: Anexo I_ PR-3.3-01 Versión 04 Fecha. 2022-10-12
E4: PROCESO | F4: Organismos Certificadores de Productos, Procesos y Servicios | H4: Objetivo | I4: Proporcionar confianza a todas las partes interesadas en queun producto, proceso o servicio cumple los requisitos especificados
A6: No | B6: ACTIVIDAD / REQUISITO | C6: REQUISITO RELACIONADO DE ISO/IEC 17065 | D6: TIPOS DE ESQUEMA DE CERTIFICACIÓN ISO/IEC 17067 | E6: IDENTIFICACIÓN DEL RIESGO | L6: ANÁLISIS DE RIESGO | P6: EVALUACIÓN DE RIESGO | R6: TÉCNICA DE EVALUACIÓN
L7: Consecuencias Áreas de Impacto | N7: Ocurrencia
E8: Fuente del Riesgo | F8: Evento | G8: Efecto / Consecuencia / impacto | H8: Causa / Debilidad (por que puede ocurrir) | I8: Promedio de No Conformidades en el periodo | J8: Eventos (quejas, apelaciones o sanciones contra los OEC | K8: Tipo de Riesgo | L8: Confianza en la Evaluación | M8: Calidad / Imagen | N8: No conformidades | O8: Quejas o apelaciones | P8: Nivel de riesgo | Q8: Clasificación Riesgo | R8: Tipo de técnica de evaluación 17011 | S8: Etapa de evaluación
A9: 1 | B9: Responsabilidad legal | C9: 4.1.1 | D9: 1a, 1b, 2, 3, 4, 5 y 6 | E9: Normatividad y Regulación | F9: Organismo de certificación pierde su estatus legal o incumple requisitos de habilitación (si aplican) | G9: Incumplimiento de requisitos de acreditación | H9: Falta de control de cumplimiento de requisitos legales | I9: ='Promedio NC'!C4/'Promedio NC'!$C$2 -> 0 | J9: =Eventos!C4+Eventos!F4+Eventos!I4 -> 0 | K9: Estrategico | L9: 1 | M9: 1 | N9: =IF(I9>=0.71,5,IF(I9>=0.51,4,IF(I9>=0.21,3,IF(I9>0,2,1)))) -> 1 | O9: 1 | P9: =(AVERAGE(L9:M9))*(AVERAGE(N9:O9)) -> 1 | Q9: =IF(P9>15,"Crítico",IF(P9>8,"Alto",IF(P9>4,"Medio","Bajo"))) -> Bajo | R9: Evaluación en sitio: Evaluación Documental | S9: Etapa 1 y confirmación en etapa 2
A10: 2 | B10: Acuerdo de certificación | C10: 4.1.2 | D10: 1a, 1b, 2, 3, 4, 5 y 6 | E10: Relaciones Comerciales y Contractuales | F10: Suscribir acuerdos contractuales con los clientes con requisitos ambiguos, incompletos o errados | G10: Quejas por incumplimiento contractual | H10: Falta de revisión de las condiciones contractuales | I10: ='Promedio NC'!C5/'Promedio NC'!$C$2 -> 0.029304029 | J10: =Eventos!C5+Eventos!F5+Eventos!I5 -> 0 | K10: De Mercado | L10: 3 | M10: 3 | N10: =IF(I10>=0.71,5,IF(I10>=0.51,4,IF(I10>=0.21,3,IF(I10>0,2,1)))) -> 2 | O10: 1 | P10: =(AVERAGE(L10:M10))*(AVERAGE(N10:O10)) -> 4.5 | Q10: =IF(P10>15,"Crítico",IF(P10>8,"Alto",IF(P10>4,"Medio","Bajo"))) -> Medio | R10: Evaluación en sitio: Evaluación de registros | S10: Etapa 2
A11: 3 | B11: Uso de la licencia, los certificados y las marcas de conformidad | C11: 4.1.3 | D11: 1a, 1b, 2, 3, 4, 5 y 6 | E11: Relaciones Comerciales y Contractuales | F11: Uso indebido o engañoso de la certificación por parte de los clientes certificados | G11: Desinformación en el mercado | H11: Falta de claridad en reglas de uso de la certificación Falta de seguimiento al uso de la certificación | I11: ='Promedio NC'!C6/'Promedio NC'!$C$2 -> 0.014652015 | J11: =Eventos!C6+Eventos!F6+Eventos!I6 -> 0 | K11: De Mercado | L11: 5 | M11: 5 | N11: =IF(I11>=0.71,5,IF(I11>=0.51,4,IF(I11>=0.21,3,IF(I11>0,2,1)))) -> 2 | O11: 1 | P11: =(AVERAGE(L11:M11))*(AVERAGE(N11:O11)) -> 7.5 | Q11: =IF(P11>15,"Crítico",IF(P11>8,"Alto",IF(P11>4,"Medio","Bajo"))) -> Medio | R11: Evaluación en sitio: Evaluación de registros | S11: Etapa 2
A12: 4 | B12: Gestión de la imparcialidad | C12: 4.2.1 4.2.2 4.2.3 4.2.4 | D12: 1a, 1b, 2, 3, 4, 5 y 6 | E12: Actividades Administrativas y Controles de proceso | F12: Inadecuada identificación, análisis, valoración y tratamiento de riesgos de imparcialidad | G12: Incumplimiento de requisitos de acreditación | H12: Desconocimiento y fallas en metodología de gestión de riesgos | I12: ='Promedio NC'!C7/'Promedio NC'!$C$2 -> 0.036630037 | J12: =Eventos!C7+Eventos!F7+Eventos!I7 -> 0 | K12: De Mercado | L12: 2 | M12: 1 | N12: =IF(I12>=0.71,5,IF(I12>=0.51,4,IF(I12>=0.21,3,IF(I12>0,2,1)))) -> 2 | O12: 1 | P12: =(AVERAGE(L12:M12))*(AVERAGE(N12:O12)) -> 2.25 | Q12: =IF(P12>15,"Crítico",IF(P12>8,"Alto",IF(P12>4,"Medio","Bajo"))) -> Bajo | R12: Evaluación en remota: Evaluación Documental | S12: Etapa 1 y confirmación en etapa 2
A13: 5 | B13: Gestión de la imparcialidad | C13: 4.2 | D13: 1a, 1b, 2, 3, 4, 5 y 6 | E13: Normatividad y Regulación | F13: Ofrecer servicios consultoría en sistemas de gestión, auditoria interna o consultoría en certificación de producto (de forma directa o a través de terceros) | G13: Incumplimiento de requisitos de imparcialidad, que pueden llevar a suspensión o pérdida de la acreditación | H13: Políticas de casa matriz Presión comercial y financiera Debilidad en las políticas de imparcialidad del Organismo Mecanismo ineficaz para salvaguardar la imparcialidad | I13: ='Promedio NC'!C8/'Promedio NC'!$C$2 -> 0 | J13: =Eventos!C8+Eventos!F8+Eventos!I8 -> 0 | K13: Estrategico | L13: 5 | M13: 5 | N13: =IF(I13>=0.71,5,IF(I13>=0.51,4,IF(I13>=0.21,3,IF(I13>0,2,1)))) -> 1 | O13: 1 | P13: =(AVERAGE(L13:M13))*(AVERAGE(N13:O13)) -> 5 | Q13: =IF(P13>15,"Crítico",IF(P13>8,"Alto",IF(P13>4,"Medio","Bajo"))) -> Medio | R13: Evaluación en sitio: Entrevistas | S13: Etapa 2
A14: 6 | B14: Gestión de la imparcialidad | C14: 4.2 | D14: 1a, 1b, 2, 3, 4, 5 y 6 | E14: Relaciones Comerciales y Contractuales | F14: Realizar actividades de diseño, fabricación, instalación, venta o mantenimiento de los productos certificados | G14: Incumplimiento de requisitos de imparcialidad, que pueden llevar a suspensión o pérdida de la acreditación | H14: Políticas de casa matriz Presión comercial y financiera Debilidad en las políticas de imparcialidad del Organismo Mecanismo ineficaz para salvaguardar la imparcialidad | I14: ='Promedio NC'!C9/'Promedio NC'!$C$2 -> 0 | J14: =Eventos!C9+Eventos!F9+Eventos!I9 -> 2 | K14: Estrategico | L14: 5 | M14: 5 | N14: =IF(I14>=0.71,5,IF(I14>=0.51,4,IF(I14>=0.21,3,IF(I14>0,2,1)))) -> 1 | O14: 1 | P14: =(AVERAGE(L14:M14))*(AVERAGE(N14:O14)) -> 5 | Q14: =IF(P14>15,"Crítico",IF(P14>8,"Alto",IF(P14>4,"Medio","Bajo"))) -> Medio | R14: Evaluación en sitio: Entrevistas | S14: Etapa 2
A15: 7 | B15: Gestión de la imparcialidad | C15: 4.2 | D15: 1a, 1b, 2, 3, 4, 5 y 6 | E15: Normatividad y Regulación | F15: Realizar actividades de capacitación en certificación de producto condicionando las actividades de certificación | G15: Incumplimiento de requisitos de imparcialidad, que pueden llevar a suspensión o pérdida de la acreditación | H15: Políticas de casa matriz Presión comercial y financiera Debilidad en las políticas de imparcialidad del Organismo Mecanismo ineficaz para salvaguardar la imparcialidad | I15: ='Promedio NC'!C10/'Promedio NC'!$C$2 -> 0 | J15: =Eventos!C10+Eventos!F10+Eventos!I10 -> 2 | K15: Estrategico | L15: 5 | M15: 5 | N15: =IF(I15>=0.71,5,IF(I15>=0.51,4,IF(I15>=0.21,3,IF(I15>0,2,1)))) -> 1 | O15: 1 | P15: =(AVERAGE(L15:M15))*(AVERAGE(N15:O15)) -> 5 | Q15: =IF(P15>15,"Crítico",IF(P15>8,"Alto",IF(P15>4,"Medio","Bajo"))) -> Medio | R15: Evaluación en sitio: Entrevistas | S15: Etapa 2
A16: 8 | B16: Responsabilidad legal y financiamiento | C16: 4.3 | D16: 1a, 1b, 2, 3, 4, 5 y 6 | E16: Relaciones Comerciales y Contractuales | F16: Presión del cliente condicionando el acuerdo de certificación o contrato a los resultados de la evaluación | G16: Incumplimiento de requisitos de imparcialidad, que pueden llevar a suspensión o pérdida de la acreditación | H16: Presión comercial y financiera Metas comerciales y sistemas de bonificación Debilidad en las políticas de imparcialidad del Organismo Mecanismo ineficaz para salvaguardar la imparcialidad | I16: ='Promedio NC'!C11/'Promedio NC'!$C$2 -> 0.014652015 | J16: =Eventos!C11+Eventos!F11+Eventos!I11 -> 0 | K16: De Mercado | L16: 5 | M16: 5 | N16: =IF(I16>=0.71,5,IF(I16>=0.51,4,IF(I16>=0.21,3,IF(I16>0,2,1)))) -> 2 | O16: 1 | P16: =(AVERAGE(L16:M16))*(AVERAGE(N16:O16)) -> 7.5 | Q16: =IF(P16>15,"Crítico",IF(P16>8,"Alto",IF(P16>4,"Medio","Bajo"))) -> Medio | R16: Evaluación en sitio: Evaluación de registros | S16: Etapa 2
A17: 9 | B17: Responsabilidad legal y financiamiento | C17: 4.3 | D17: 1a, 1b, 2, 3, 4, 5 y 6 | E17: Relaciones Comerciales y Contractuales | F17: Presión de la alta dirección a los auditores / evaluadores para hacer mas fácil la certificación de producto y no ser calificados como "demasiado exigentes" | G17: Incumplimiento de requisitos de imparcialidad, que pueden llevar a suspensión o pérdida de la acreditación | H17: Presión comercial y financiera Metas comerciales y sistemas de bonificación Debilidad en las políticas de imparcialidad del Organismo Mecanismo ineficaz para salvaguardar la imparcialidad | I17: ='Promedio NC'!C12/'Promedio NC'!$C$2 -> 0.0036630037 | J17: =Eventos!C12+Eventos!F12+Eventos!I12 -> 0 | K17: Estratégico | L17: 5 | M17: 5 | N17: =IF(I17>=0.71,5,IF(I17>=0.51,4,IF(I17>=0.21,3,IF(I17>0,2,1)))) -> 2 | O17: 1 | P17: =(AVERAGE(L17:M17))*(AVERAGE(N17:O17)) -> 7.5 | Q17: =IF(P17>15,"Crítico",IF(P17>8,"Alto",IF(P17>4,"Medio","Bajo"))) -> Medio | R17: Evaluación en sitio: Entrevistas | S17: Etapa 2
A18: 10 | B18: Responsabilidad legal y financiamiento | C18: 4.3 | D18: 1a, 1b, 2, 3, 4, 5 y 6 | E18: Actividades Administrativas y Controles de proceso | F18: Incumplimiento de requisitos de polizas de seguros | G18: Incumplimiento de compromisos con las partes interesadas | H18: Inadecuada planeación y control de financieros | I18: ='Promedio NC'!C13/'Promedio NC'!$C$2 -> 0 | J18: =Eventos!C13+Eventos!F13+Eventos!I13 -> 0 | K18: Estratégico | L18: 1 | M18: 1 | N18: =IF(I18>=0.71,5,IF(I18>=0.51,4,IF(I18>=0.21,3,IF(I18>0,2,1)))) -> 1 | O18: 1 | P18: =(AVERAGE(L18:M18))*(AVERAGE(N18:O18)) -> 1 | Q18: =IF(P18>15,"Crítico",IF(P18>8,"Alto",IF(P18>4,"Medio","Bajo"))) -> Bajo | R18: Evaluación en sitio: Evaluación de registros | S18: Etapa 2
A19: 11 | B19: Condiciones no discriminatorias | C19: 4.4 | D19: 1a, 1b, 2, 3, 4, 5 y 6 | E19: Relaciones Comerciales y Contractuales | F19: Ofrecer servicios de certificación dando a entender que es mas fácil o ventajoso para asociados o afiliados | G19: Incumplimiento de requisitos de imparcialidad, que pueden llevar a suspensión o pérdida de la acreditación | H19: Presión comercial y financiera Metas comerciales y sistemas de bonificación Debilidad en las políticas de imparcialidad del Organismo | I19: ='Promedio NC'!C14/'Promedio NC'!$C$2 -> 0 | J19: =Eventos!C14+Eventos!F14+Eventos!I14 -> 0 | K19: De Mercado | L19: 4 | M19: 4 | N19: =IF(I19>=0.71,5,IF(I19>=0.51,4,IF(I19>=0.21,3,IF(I19>0,2,1)))) -> 1 | O19: 1 | P19: =(AVERAGE(L19:M19))*(AVERAGE(N19:O19)) -> 4 | Q19: =IF(P19>15,"Crítico",IF(P19>8,"Alto",IF(P19>4,"Medio","Bajo"))) -> Bajo | R19: Evaluación en sitio: Entrevistas | S19: Etapa 2
A20: 12 | B20: Confidencialidad | C20: 4.5 | D20: 1a, 1b, 2, 3, 4, 5 y 6 | E20: Actividades Administrativas y Controles de proceso | F20: Entrega de información confidencial de los clientes por parte del personal del OEC a otros clientes actuales o potenciales como orientación en el proceso de certificación | G20: Incumplimiento de acuerdos y políticas de confidencialidad, quejas, reclamos y conflictos con los clientes | H20: Manejo informal de documentos del cliente Falta de políticas de intercambio de información Debilidad en políticas de confidencialidad Desconocimiento de requisitos legales | I20: ='Promedio NC'!C15/'Promedio NC'!$C$2 -> 0 | J20: =Eventos!C15+Eventos!F15+Eventos!I15 -> 0 | K20: Operativo | L20: 3 | M20: 5 | N20: =IF(I20>=0.71,5,IF(I20>=0.51,4,IF(I20>=0.21,3,IF(I20>0,2,1)))) -> 1 | O20: 1 | P20: =(AVERAGE(L20:M20))*(AVERAGE(N20:O20)) -> 4 | Q20: =IF(P20>15,"Crítico",IF(P20>8,"Alto",IF(P20>4,"Medio","Bajo"))) -> Bajo | R20: Evaluación en sitio: Evaluación de registros | S20: Etapa 2
... A61: 53 | B61: Acciones preventivas | C61: 8.8 | D61: 1a, 1b, 2, 3, 4, 5 y 6 | E61: Actividades Administrativas y Controles de proceso | F61: No implementación de acciones preventivas | G61: No hay mejoramiento continuo en la Organización | H61: No se aplican mecanismos para determinar problemas potenciales Falta de análisis de causas Desconocimiento de conceptos y criterios para la mejora | I61: ='Promedio NC'!C56/'Promedio NC'!$C$2 -> 0.0073260073 | J61: =Eventos!C56+Eventos!F56+Eventos!I56 -> 0 | K61: Operativo | L61: 2 | M61: 1 | N61: =IF(I61>=0.71,5,IF(I61>=0.51,4,IF(I61>=0.21,3,IF(I61>0,2,1)))) -> 2 | O61: 1 | P61: =(AVERAGE(L61:M61))*(AVERAGE(N61:O61)) -> 2.25 | Q61: =IF(P61>15,"Crítico",IF(P61>8,"Alto",IF(P61>4,"Medio","Bajo"))) -> Bajo | R61: Evaluación en sitio: Evaluación de registros | S61: Etapa 1 y confirmación en etapa 2

Sheet Promedio NC
B2: NUMERO TOTAL DE NC | C2: 273
B3: Requisito | C3: Total NC por Requisito
B4: 4.1.1Responsabilidad legal | C4: 0
B5: 4.1.2Acuerdo de certificación | C5: 8
B6: 4.1.3Uso de la licencia, los certificados y las marcas de conformidad | C6: 4
B7: 4.2.1 4.2.2 4.2.3 4.2.4Gestión de la imparcialidad | C7: 10
B8: 4.2Gestión de la imparcialidad | C8: 0
B9: 4.2Gestión de la imparcialidad | C9: 0
B10: 4.2Gestión de la imparcialidad | C10: 0
B11: 4.3Responsabilidad legal y financiamiento | C11: 4
B12: 4.3Responsabilidad legal y financiamiento | C12: 1
B13: 4.3Responsabilidad legal y financiamiento | C13: 0
B14: 4.4Condiciones no discriminatorias | C14: 0
B15: 4.5Confidencialidad | C15: 0
... B56: 8.8Acciones preventivas | C56: 2

Sheet Eventos
B2: QUEJAS | E2: APELACIONES | H2: SANCIONES
B3: Requisito | C3: Total por Requisito | E3: Requisito | F3: Total por Requisito | H3: Requisito | I3: Total por Requisito
B4: 4.1.1Responsabilidad legal | C4: 0 | E4: 4.1.1Responsabilidad legal | F4: 0 | H4: 4.1.1Responsabilidad legal | I4: 0
B5: 4.1.2Acuerdo de certificación | C5: 0 | E5: 4.1.2Acuerdo de certificación | F5: 0 | H5: 4.1.2Acuerdo de certificación | I5: 0
B6: 4.1.3Uso de la licencia, los certificados y las marcas de conformidad | C6: 0 | E6: 4.1.3Uso de la licencia, los certificados y las marcas de conformidad | F6: 0 | H6: 4.1.3Uso de la licencia, los certificados y las marcas de conformidad | I6: 0
B7: 4.2.1 4.2.2 4.2.3 4.2.4Gestión de la imparcialidad | C7: 0 | E7: 4.2.1 4.2.2 4.2.3 4.2.4Gestión de la imparcialidad | F7: 0 | H7: 4.2.1 4.2.2 4.2.3 4.2.4Gestión de la imparcialidad | I7: 0
B8: 4.2Gestión de la imparcialidad | C8: 0 | E8: 4.2Gestión de la imparcialidad | F8: 0 | H8: 4.2Gestión de la imparcialidad | I8: 0
B9: 4.2Gestión de la imparcialidad | C9: 2 | E9: 4.2Gestión de la imparcialidad | F9: 0 | H9: 4.2Gestión de la imparcialidad | I9: 0
B10: 4.2Gestión de la imparcialidad | C10: 2 | E10: 4.2Gestión de la imparcialidad | F10: 0 | H10: 4.2Gestión de la imparcialidad | I10: 0
B11: 4.3Responsabilidad legal y financiamiento | C11: 0 | E11: 4.3Responsabilidad legal y financiamiento | F11: 0 | H11: 4.3Responsabilidad legal y financiamiento | I11: 0
B12: 4.3Responsabilidad legal y financiamiento | C12: 0 | E12: 4.3Responsabilidad legal y financiamiento | F12: 0 | H12: 4.3Responsabilidad legal y financiamiento | I12: 0
B13: 4.3Responsabilidad legal y financiamiento | C13: 0 | E13: 4.3Responsabilidad legal y financiamiento | F13: 0 | H13: 4.3Responsabilidad legal y financiamiento | I13: 0
B14: 4.4Condiciones no discriminatorias | C14: 0 | E14: 4.4Condiciones no discriminatorias | F14: 0 | H14: 4.4Condiciones no discriminatorias | I14: 0
B15: 4.5Confidencialidad | C15: 0 | E15: 4.5Confidencialidad | F15: 0 | H15: 4.5Confidencialidad | I15: 0
... B56: 8.8Acciones preventivas | C56: 0 | E56: 8.8Acciones preventivas | F56: 0 | H56: 8.8Acciones preventivas | I56: 0

Sheet Mapa de riesgo CPR
E2: MAPA DE RIESGOS ORGANISMOS DE CERTIFICACIÓN DE PRODUCTOS PROCEOS Y SERVICIOS | Q2: Anexo I_ PR-3.3-01 Versión 04 Fecha. 2022-10-12
B5: No | C5: REQUISITOS | D5: Análisis de riesgo | F5: Nivel de riesgo | G5: Riesgo | H5: Tipo de riesgo | I5: Descripción del evento
D6: C | E6: O
B7: ='Matriz de riesgo CPR'!A9 -> 1 | C7: ='Matriz de riesgo CPR'!B9 -> Responsabilidad legal | D7: =AVERAGE('Matriz de riesgo CPR'!L9:M9) -> 1 | E7: =AVERAGE('Matriz de riesgo CPR'!N9:O9) -> 1 | F7: =D7*E7 -> 1 | G7: =IF(F7>15,"Crítico",IF(F7>8,"Alto",IF(F7>4,"Medio","Bajo"))) -> Bajo | H7: ='Matriz de riesgo CPR'!K9 -> Estrategico | I7: ='Matriz de riesgo CPR'!F9 -> Organismo de certificación pierde su estatus legal o incumple requisitos de habilitación (si aplican)
B8: ='Matriz de riesgo CPR'!A10 -> 2 | C8: ='Matriz de riesgo CPR'!B10 -> Acuerdo de certificación | D8: =AVERAGE('Matriz de riesgo CPR'!L10:M10) -> 3 | E8: =AVERAGE('Matriz de riesgo CPR'!N10:O10) -> 1.5 | F8: =D8*E8 -> 4.5 | G8: =IF(F8>15,"Crítico",IF(F8>8,"Alto",IF(F8>4,"Medio","Bajo"))) -> Medio | H8: ='Matriz de riesgo CPR'!K10 -> De Mercado | I8: ='Matriz de riesgo CPR'!F10 -> Suscribir acuerdos contractuales con los clientes con requisitos ambiguos, incompletos o errados
B9: ='Matriz de riesgo CPR'!A11 -> 3 | C9: ='Matriz de riesgo CPR'!B11 -> Uso de la licencia, los certificados y las marcas de conformidad | D9: =AVERAGE('Matriz de riesgo CPR'!L11:M11) -> 5 | E9: =AVERAGE('Matriz de riesgo CPR'!N11:O11) -> 1.5 | F9: =D9*E9 -> 7.5 | G9: =IF(F9>15,"Crítico",IF(F9>8,"Alto",IF(F9>4,"Medio","Bajo"))) -> Medio | H9: ='Matriz de riesgo CPR'!K11 -> De Mercado | I9: ='Matriz de riesgo CPR'!F11 -> Uso indebido o engañoso de la certificación por parte de los clientes certificados
B10: ='Matriz de riesgo CPR'!A12 -> 4 | C10: ='Matriz de riesgo CPR'!B12 -> Gestión de la imparcialidad | D10: =AVERAGE('Matriz de riesgo CPR'!L12:M12) -> 1.5 | E10: =AVERAGE('Matriz de riesgo CPR'!N12:O12) -> 1.5 | F10: =D10*E10 -> 2.25 | G10: =IF(F10>15,"Crítico",IF(F10>8,"Alto",IF(F10>4,"Medio","Bajo"))) -> Bajo | H10: ='Matriz de riesgo CPR'!K12 -> De Mercado | I10: ='Matriz de riesgo CPR'!F12 -> Inadecuada identificación, análisis, valoración y tratamiento de riesgos de imparcialidad
B11: ='Matriz de riesgo CPR'!A13 -> 5 | C11: ='Matriz de riesgo CPR'!B13 -> Gestión de la imparcialidad | D11: =AVERAGE('Matriz de riesgo CPR'!L13:M13) -> 5 | E11: =AVERAGE('Matriz de riesgo CPR'!N13:O13) -> 1 | F11: =D11*E11 -> 5 | G11: =IF(F11>15,"Crítico",IF(F11>8,"Alto",IF(F11>4,"Medio","Bajo"))) -> Medio | H11: ='Matriz de riesgo CPR'!K13 -> Estrategico | I11: ='Matriz de riesgo CPR'!F13 -> Ofrecer servicios consultoría en sistemas de gestión, auditoria interna o consultoría en certificación de producto (de forma directa o a través de terceros)
B12: ='Matriz de riesgo CPR'!A14 -> 6 | C12: ='Matriz de riesgo CPR'!B14 -> Gestión de la imparcialidad | D12: =AVERAGE('Matriz de riesgo CPR'!L14:M14) -> 5 | E12: =AVERAGE('Matriz de riesgo CPR'!N14:O14) -> 1 | F12: =D12*E12 -> 5 | G12: =IF(F12>15,"Crítico",IF(F12>8,"Alto",IF(F12>4,"Medio","Bajo"))) -> Medio | H12: ='Matriz de riesgo CPR'!K14 -> Estrategico | I12: ='Matriz de riesgo CPR'!F14 -> Realizar actividades de diseño, fabricación, instalación, venta o mantenimiento de los productos certificados
B13: ='Matriz de riesgo CPR'!A15 -> 7 | C13: ='Matriz de riesgo CPR'!B15 -> Gestión de la imparcialidad | D13: =AVERAGE('Matriz de riesgo CPR'!L15:M15) -> 5 | E13: =AVERAGE('Matriz de riesgo CPR'!N15:O15) -> 1 | F13: =D13*E13 -> 5 | G13: =IF(F13>15,"Crítico",IF(F13>8,"Alto",IF(F13>4,"Medio","Bajo"))) -> Medio | H13: ='Matriz de riesgo CPR'!K15 -> Estrategico | I13: ='Matriz de riesgo CPR'!F15 -> Realizar actividades de capacitación en certificación de producto condicionando las actividades de certificación
B14: ='Matriz de riesgo CPR'!A16 -> 8 | C14: ='Matriz de riesgo CPR'!B16 -> Responsabilidad legal y financiamiento | D14: =AVERAGE('Matriz de riesgo CPR'!L16:M16) -> 5 | E14: =AVERAGE('Matriz de riesgo CPR'!N16:O16) -> 1.5 | F14: =D14*E14 -> 7.5 | G14: =IF(F14>15,"Crítico",IF(F14>8,"Alto",IF(F14>4,"Medio","Bajo"))) -> Medio | H14: ='Matriz de riesgo CPR'!K16 -> De Mercado | I14: ='Matriz de riesgo CPR'!F16 -> Presión del cliente condicionando el acuerdo de certificación o contrato a los resultados de la evaluación
B15: ='Matriz de riesgo CPR'!A17 -> 9 | C15: ='Matriz de riesgo CPR'!B17 -> Responsabilidad legal y financiamiento | D15: =AVERAGE('Matriz de riesgo CPR'!L17:M17) -> 5 | E15: =AVERAGE('Matriz de riesgo CPR'!N17:O17) -> 1.5 | F15: =D15*E15 -> 7.5 | G15: =IF(F15>15,"Crítico",IF(F15>8,"Alto",IF(F15>4,"Medio","Bajo"))) -> Medio | H15: ='Matriz de riesgo CPR'!K17 -> Estratégico | I15: ='Matriz de riesgo CPR'!F17 -> Presión de la alta dirección a los auditores / evaluadores para hacer mas fácil la certificación de producto y no ser calificados como "demasiado exigentes"
B16: ='Matriz de riesgo CPR'!A18 -> 10 | C16: ='Matriz de riesgo CPR'!B18 -> Responsabilidad legal y financiamiento | D16: =AVERAGE('Matriz de riesgo CPR'!L18:M18) -> 1 | E16: =AVERAGE('Matriz de riesgo CPR'!N18:O18) -> 1 | F16: =D16*E16 -> 1 | G16: =IF(F16>15,"Crítico",IF(F16>8,"Alto",IF(F16>4,"Medio","Bajo"))) -> Bajo | H16: ='Matriz de riesgo CPR'!K18 -> Estratégico | I16: ='Matriz de riesgo CPR'!F18 -> Incumplimiento de requisitos de polizas de seguros
B17: ='Matriz de riesgo CPR'!A19 -> 11 | C17: ='Matriz de riesgo CPR'!B19 -> Condiciones no discriminatorias | D17: =AVERAGE('Matriz de riesgo CPR'!L19:M19) -> 4 | E17: =AVERAGE('Matriz de riesgo CPR'!N19:O19) -> 1 | F17: =D17*E17 -> 4 | G17: =IF(F17>15,"Crítico",IF(F17>8,"Alto",IF(F17>4,"Medio","Bajo"))) -> Bajo | H17: ='Matriz de riesgo CPR'!K19 -> De Mercado | I17: ='Matriz de riesgo CPR'!F19 -> Ofrecer servicios de certificación dando a entender que es mas fácil o ventajoso para asociados o afiliados
B18: ='Matriz de riesgo CPR'!A20 -> 12 | C18: ='Matriz de riesgo CPR'!B20 -> Confidencialidad | D18: =AVERAGE('Matriz de riesgo CPR'!L20:M20) -> 4 | E18: =AVERAGE('Matriz de riesgo CPR'!N20:O20) -> 1 | F18: =D18*E18 -> 4 | G18: =IF(F18>15,"Crítico",IF(F18>8,"Alto",IF(F18>4,"Medio","Bajo"))) -> Bajo | H18: ='Matriz de riesgo CPR'!K20 -> Operativo | I18: ='Matriz de riesgo CPR'!F20 -> Entrega de información confidencial de los clientes por parte del personal del OEC a otros clientes actuales o potenciales como orientación en el proceso de certificación
... B59: ='Matriz de riesgo CPR'!A61 -> 53 | C59: ='Matriz de riesgo CPR'!B61 -> Acciones preventivas | D59: =AVERAGE('Matriz de riesgo CPR'!L61:M61) -> 1.5 | E59: =AVERAGE('Matriz de riesgo CPR'!N61:O61) -> 1.5 | F59: =D59*E59 -> 2.25 | G59: =IF(F59>15,"Crítico",IF(F59>8,"Alto",IF(F59>4,"Medio","Bajo"))) -> Bajo | H59: ='Matriz de riesgo CPR'!K61 -> Operativo | I59: ='Matriz de riesgo CPR'!F61 -> No implementación de acciones preventivas

Sheet Registro Eventos e Incidentes
B2: Evento e Incidente | C2: Descripción | D2: Fecha de Ocurrencia | E2: Tratamiento / Corrección | F2: Responsable | G2: Estado

Sheet Hoja1
B2: Fuentes de Riesgo | C2: Técnicas de evaluación | D2: Tipos de Riesgo
B3: Relaciones Comerciales y Contractuales | C3: Evaluación en sitio: Evaluación Documental | D3: Estratégico
B4: Normatividad y Regulación | C4: Evaluación en sitio: Evaluación de registros | D4: Operativo
B5: Circunstancias Económicas | C5: Evaluación en sitio: Testificación | D5: Financiero
B6: Comportamiento Humano | C6: Evaluación en sitio: Entrevistas | D6: De Mercado
B7: Eventos naturales | C7: Evaluación en sitio: Ensayos de aptitud | D7: Ambiental
B8: Circunstancias Políticas | C8: Evaluación en remota: Evaluación Documental | D8: Tecnológico
B9: Aspectos Tecnológicos o Técnicos | C9: Evaluación en remota: Evaluación de registros | D9: Físico
B10: Actividades Administrativas y Controles de proceso | C10: Evaluación en remota: Entrevistas | D10: SISO
B11: Personas Maliciosas | C11: Evaluación en remota: Entrevistas | D11: Seguridad de la Información
B12: Imparcialidad | C12: Visitas no anunciadas

Sheet Hoja 2
B2: Fuentes de Riesgo | C2: Técnicas de evaluación | D2: Tipos de Riesgo
B3: Relaciones Comerciales y Contractuales | C3: Evaluación en sitio: Evaluación Documental | D3: Estratégico
B4: Normatividad y Regulación | C4: Evaluación en sitio: Evaluación de registros | D4: Operativo
B5: Circunstancias Económicas | C5: Evaluación en sitio: Testificación | D5: Financiero
B6: Circunstancias Económicas | C6: Evaluación en sitio: Evaluación de registros y/o Testificación | D6: Financiero
B7: Comportamiento Humano | C7: Evaluación en sitio: Entrevistas | D7: De Mercado
B8: Eventos naturales | C8: Evaluación en sitio: Ensayos de aptitud | D8: Ambiental
B9: Circunstancias Políticas | C9: Evaluación en remota: Evaluación Documental | D9: Tecnológico
B10: Aspectos Tecnológicos o Técnicos | C10: Evaluación en remota: Evaluación de registros | D10: Físico
B11: Actividades Administrativas y Controles de proceso | C11: Evaluación en remota: Entrevistas | D11: SISO
B12: Personas Maliciosas | C12: Evaluación en remota: Entrevistas | D12: Seguridad de la Información
B13: Imparcialidad | C13: Visitas no anunciadas
