Workbook

Sheet Solicitud actualización LAC
C1: SOLICITUD DE ACTUALIZACIÓN DEL ALCANCE ACREDITADO LABORATORIOS DE CALIBRACIÓN | J1: Código: FR-3.0-40 Versión: 1 Fecha: 2025-03-25 Página: 1 de 2
A3: Código de acreditación
A5: Razón social
A8: Actualizaciones del alcance acreditado
A9: En este formato el laboratorio de calibración debe relacionar las solicitudes de actualización del alcance acreditado, teniendo en cuenta lo dispuesto en la Nota Técnica Externa NTE-3.3-83
A10: Código de la magnitud | B10: Magnitud | D10: Campo del alcance a actualizar | F10: Información del campo según certificado de acreditación vigente | H10: Actualización solicitada | J10: Observaciones
B11: =IFERROR(VLOOKUP(A11,'Listas desplegables'!$A$2:$B$90,2,FALSE),"")
B12: =IFERROR(VLOOKUP(A12,'Listas desplegables'!$A$2:$B$90,2,FALSE),"")
B13: =IFERROR(VLOOKUP(A13,'Listas desplegables'!$A$2:$B$90,2,FALSE),"")
B14: =IFERROR(VLOOKUP(A14,'Listas desplegables'!$A$2:$B$90,2,FALSE),"")
B15: =IFERROR(VLOOKUP(A15,'Listas desplegables'!$A$2:$B$90,2,FALSE),"")
B16: =IFERROR(VLOOKUP(A16,'Listas desplegables'!$A$2:$B$90,2,FALSE),"")
B17: =IFERROR(VLOOKUP(A17,'Listas desplegables'!$A$2:$B$90,2,FALSE),"")
B18: =IFERROR(VLOOKUP(A18,'Listas desplegables'!$A$2:$B$90,2,FALSE),"")
B19: =IFERROR(VLOOKUP(A19,'Listas desplegables'!$A$2:$B$90,2,FALSE),"")
B20: =IFERROR(VLOOKUP(A20,'Listas desplegables'!$A$2:$B$90,2,FALSE),"")
B21: =IFERROR(VLOOKUP(A21,'Listas desplegables'!$A$2:$B$90,2,FALSE),"")
B22: =IFERROR(VLOOKUP(A22,'Listas desplegables'!$A$2:$B$90,2,FALSE),"")
... B80: =IFERROR(VLOOKUP(A80,'Listas desplegables'!$A$2:$B$90,2,FALSE),"")
A81: Si requiere inserte filas adicionales

Sheet Cambios personal LAC
C1: NOTIFICACIÓN CAMBIOS DE PERSONAL PARA LABORATORIOS DE CALIBRACIÓN | J1: Código: FR-3.0-40 Versión: 1 Fecha: 2025-03-25 Página: 2 de 2
A3: Código de acreditación
A5: Razón social
A7: Cambios de personal
A8: En este formato el laboratorio de calibración debe relacionar los cambios del personal que participa y puede influir en las actividades de evaluación de la conformidad o cualquier otro que haga parte de los elementos evaluados por ONAC en su proceso de acreditación, según el numeral NOTIFICACIÓN DE CAMBIOS establecido en las Reglas del Servicio de Acreditación, RAC-3.0-01 en su versión vigente y la Nota Técnica Externa NTE-3.3-83.
A9: Nombre(s) y apellidos | D9: Cargo | F9: Novedad (ingreso, retiro, etc.) | G9: Fecha de novedad | H9: Código de la magnitud | I9: Magnitud | J9: Observaciones
I10: =IFERROR(VLOOKUP(H10,'Listas desplegables'!$A$2:$B$90,2,FALSE),"")
I11: =IFERROR(VLOOKUP(H11,'Listas desplegables'!$A$2:$B$90,2,FALSE),"")
I12: =IFERROR(VLOOKUP(H12,'Listas desplegables'!$A$2:$B$90,2,FALSE),"")
I13: =IFERROR(VLOOKUP(H13,'Listas desplegables'!$A$2:$B$90,2,FALSE),"")
I14: =IFERROR(VLOOKUP(H14,'Listas desplegables'!$A$2:$B$90,2,FALSE),"")
I15: =IFERROR(VLOOKUP(H15,'Listas desplegables'!$A$2:$B$90,2,FALSE),"")
I16: =IFERROR(VLOOKUP(H16,'Listas desplegables'!$A$2:$B$90,2,FALSE),"")
I17: =IFERROR(VLOOKUP(H17,'Listas desplegables'!$A$2:$B$90,2,FALSE),"")
I18: =IFERROR(VLOOKUP(H18,'Listas desplegables'!$A$2:$B$90,2,FALSE),"")
I19: =IFERROR(VLOOKUP(H19,'Listas desplegables'!$A$2:$B$90,2,FALSE),"")
I20: =IFERROR(VLOOKUP(H20,'Listas desplegables'!$A$2:$B$90,2,FALSE),"")
I21: =IFERROR(VLOOKUP(H21,'Listas desplegables'!$A$2:$B$90,2,FALSE),"")
... I80: =IFERROR(VLOOKUP(H80,'Listas desplegables'!$A$2:$B$90,2,FALSE),"")
A81: Si requiere inserte filas adicionales

Sheet Listas desplegables
A1: Código de la magnitud | B1: Magnitud | D1: Intervalo de medición
A2: DA1 | B2: Presión y frecuencia acústica | D2: Incertidumbre expandida de medida
A3: DA2 | B3: Intensidad y velocidad acústica | D3: Instrumento a calibrar
A4: DA3 | B4: Impedancia acústica | D4: Instrumentos, equipos patrones utilizados
A5: DA4 | B5: Potencia acústica (ultrasonido) | D5: Documento normativo
A6: DA5 | B6: Vibración | D6: Notas
A7: DB1 | B7: Concentración de sustancia/fracción de cantidad
A8: DB2 | B8: Conductividad
A9: DB3 | B9: Potencial de hidrógeno - pH
A10: DC1 | B10: Ángulo
A11: DC2 | B11: Formas (cilíndricas, esféricas, otras formas, paralelismo, parámetros de roscas, perpendicularidad, planitud, rectitud, redondez)
A12: DC3 | B12: Longitud
A13: DC4 | B13: Rugosidad
A14: DC5 | B14: Tamaño de partícula (granulometría)
A15: DC6 | B15: Mediciones geodésicas
A16: DC7 | B16: Nivel
A17: DD1 | B17: Actividad de fuentes radiactivas
A18: DD2 | B18: Dosimetría a nivel de radioprotección - Tasa de Kerma en aire, Kerma en aire
... A90: No aplica | B90: No aplica
