Workbook
Name Excel_BuiltIn__FilterDatabase_3: #REF!
Name Excel_BuiltIn__FilterDatabase_3: #REF!
Name Excel_BuiltIn__FilterDatabase_3: #REF!

Sheet Matriz de riesgo GEI
D2: MATRIZ DE RIESGOS ORGANISMOS DE VALIDACIÓN Y VERIFICACIÓN DE GASES EFECTO INVERNADERO | Q2: Anexo J_PR-3.3-01 Versión 02 Fecha. 2022-10-12
D3: PROCESO | E3: Evaluación de Organismos de Validación y Verificación de Gases efecto Invernadero con la norma ISO 14065 | G3: Objetivo | H3: Proporcionar confianza a todas las partes interesadas en que un organismo de validación y verificación de gases efecto invernadero cumple los requisitos de acreditación especificados en los documentos normativos del esquema
A5: No | B5: ACTIVIDAD / REQUISITO | C5: REQUISITO RELACIONADO DE ISO 14065 | D5: IDENTIFICACIÓN DEL RIESGO | K5: ANÁLISIS DE RIESGO | O5: EVALUACIÓN DE RIESGO | Q5: TÉCNICA DE EVALUACIÓN
K6: Consecuencias Áreas de Impacto | M6: Ocurrencia
D7: Fuente del Riesgo | E7: Evento | F7: Efecto / Consecuencia / impacto | G7: Causa / Debilidad (por que puede ocurrir) | H7: Promedio de No Conformidades en el periodo | I7: Eventos (quejas, apelaciones o sanciones contra los OEC | J7: Tipo de Riesgo | K7: Confianza en la Evaluación | L7: Calidad / Imagen | M7: No conformidades | N7: Quejas o apelaciones | O7: Nivel de riesgo | P7: Clasificación Riesgo | Q7: Tipo de técnica de evaluación ISO/IEC 17011 | R7: Etapa de evaluación
A8: 1 | B8: Situación Legal | C8: 5.1 | D8: Normatividad y Regulación | E8: El organismo de validación o verificación tiene una afectación respecto a su situación legal y/o identificación de las personas que lo controlan | F8: Incumplimiento de requisitos de acreditación | G8: Falta de control de cumplimiento de requisitos legales | H8: ='Promedio NC'!C5/'Promedio NC'!$C$3 -> 0 | I8: =Eventos!C4+Eventos!F4+Eventos!I4 -> 0 | J8: Estratégico | K8: 1 | L8: 1 | M8: =IF(H8>=0.71,5,IF(H8>=0.51,4,IF(H8>=0.21,3,IF(H8>0,2,1)))) -> 1 | N8: 1 | O8: =(AVERAGE(K8:L8))*(AVERAGE(M8:N8)) -> 1 | P8: =IF(O8>15,"Crítico",IF(O8>8,"Alto",IF(O8>4,"Medio","Bajo"))) -> Bajo | Q8: Evaluación remota: Evaluación Documental | R8: Etapa 1 con confirmación en etapa 2
A9: 2 | B9: Asuntos legales y contractuales | C9: 5.2 | D9: Normatividad y Regulación | E9: Organismo de validación o verificación pierde su estatus legal como responsable de sus actividades | F9: Incumplimiento de requisitos de acreditación | G9: Falta de control de cumplimiento de requisitos legales | H9: ='Promedio NC'!C6/'Promedio NC'!$C$3 -> 0.064516129 | I9: =Eventos!C5+Eventos!F5+Eventos!I5 -> 0 | J9: Estratégico | K9: 1 | L9: 1 | M9: =IF(H9>=0.71,5,IF(H9>=0.51,4,IF(H9>=0.21,3,IF(H9>0,2,1)))) -> 2 | N9: 1 | O9: =(AVERAGE(K9:L9))*(AVERAGE(M9:N9)) -> 1.5 | P9: =IF(O9>15,"Crítico",IF(O9>8,"Alto",IF(O9>4,"Medio","Bajo"))) -> Bajo | Q9: Evaluación remota: Evaluación Documental | R9: Etapa 1 con confirmación en etapa 2
A10: 3 | B10: Autoridad y responsabilidad por las actividades y las declaraciones de validación y verificación | C10: 5.2 | D10: Normatividad y Regulación | E10: Subcontratación de la toma de decisión | F10: Incumplimiento de requisitos de acreditación | G10: Desconocimiento de los requisitos de acreditación | H10: ='Promedio NC'!C7/'Promedio NC'!$C$3 -> 0 | I10: =Eventos!C6+Eventos!F6+Eventos!I6 -> 0 | J10: De Mercado | K10: 1 | L10: 1 | M10: =IF(H10>=0.71,5,IF(H10>=0.51,4,IF(H10>=0.21,3,IF(H10>0,2,1)))) -> 1 | N10: 1 | O10: =(AVERAGE(K10:L10))*(AVERAGE(M10:N10)) -> 1 | P10: =IF(O10>15,"Crítico",IF(O10>8,"Alto",IF(O10>4,"Medio","Bajo"))) -> Bajo | Q10: Evaluación remota: Evaluación Documental | R10: Etapa 1 y confirmación en etapa 2
A11: 4 | B11: Estructura de la organización y de la alta dirección | C11: 5.3 | D11: Actividades Administrativas y Controles de proceso | E11: Estructura inadecuada que genera fallas y errores en la gestión de los procesos del OVV | F11: No conformidades en los servicios, quejas y reclamos de los clientes y Reprocesos | G11: Asignación inadecuada de funciones y responsabilidades del personal | H11: ='Promedio NC'!C8/'Promedio NC'!$C$3 -> 0.032258065 | I11: =Eventos!C7+Eventos!F7+Eventos!I7 -> 0 | J11: Operativo | K11: 3 | L11: 3 | M11: =IF(H11>=0.71,5,IF(H11>=0.51,4,IF(H11>=0.21,3,IF(H11>0,2,1)))) -> 2 | N11: 1 | O11: =(AVERAGE(K11:L11))*(AVERAGE(M11:N11)) -> 4.5 | P11: =IF(O11>15,"Crítico",IF(O11>8,"Alto",IF(O11>4,"Medio","Bajo"))) -> Medio | Q11: Evaluación en sitio: Entrevistas y Registros | R11: Etapa 2
A12: 5 | B12: Gestión de imparcialidad | C12: 5.4 | D12: Actividades Administrativas y Controles de proceso | E12: Inadecuada identificación, análisis, valoración y tratamiento de riesgos de imparcialidad | F12: Incumplimiento de requisitos de acreditación | G12: Desconocimiento y fallas en metodología de gestión de riesgos Falta de participación de las partes interesadas | H12: ='Promedio NC'!C9/'Promedio NC'!$C$3 -> 0 | I12: =Eventos!C8+Eventos!F8+Eventos!I8 -> 0 | J12: De Mercado | K12: 3 | L12: 2 | M12: =IF(H12>=0.71,5,IF(H12>=0.51,4,IF(H12>=0.21,3,IF(H12>0,2,1)))) -> 1 | N12: 1 | O12: =(AVERAGE(K12:L12))*(AVERAGE(M12:N12)) -> 2.5 | P12: =IF(O12>15,"Crítico",IF(O12>8,"Alto",IF(O12>4,"Medio","Bajo"))) -> Bajo | Q12: Evaluación en sitio: Evaluación de registros | R12: Etapa 1 con confirmación en etapa 2
A13: 6 | B13: Gestión de imparcialidad | C13: 5.4 | D13: Relaciones Comerciales y Contractuales | E13: Presión de la alta dirección a los profesinales técnicos (validadores7verificadores) para hacer mas fácil la actividad y evitar ser calificados como "demasiado exigentes" | F13: Incumplimiento de requisitos de imparcialidad, que pueden llevar a suspensión o pérdida de la acreditación | G13: Presión comercial y financiera Metas comerciales y sistemas de bonificación Debilidad en las políticas de imparcialidad del Organismo Mecanismo ineficaz para salvaguardar la imparcialidad | H13: ='Promedio NC'!C10/'Promedio NC'!$C$3 -> 0 | I13: =Eventos!C9+Eventos!F9+Eventos!I9 -> 0 | J13: Estratégico | K13: 5 | L13: 5 | M13: =IF(H13>=0.71,5,IF(H13>=0.51,4,IF(H13>=0.21,3,IF(H13>0,2,1)))) -> 1 | N13: 1 | O13: =(AVERAGE(K13:L13))*(AVERAGE(M13:N13)) -> 5 | P13: =IF(O13>15,"Crítico",IF(O13>8,"Alto",IF(O13>4,"Medio","Bajo"))) -> Medio | Q13: Evaluación en sitio: Evaluación de registros y Entrevistas | R13: Etapa 2
A14: 7 | B14: Gestión de imparcialidad | C14: 5.4 | D14: Relaciones Comerciales y Contractuales | E14: Permitir presiones de organismos relacionados que afecten las actividades de validación o verificación y la emisión de la declaración. | F14: Incumplimiento de requisitos de imparcialidad, que pueden llevar a suspensión o pérdida de la acreditación | G14: Presión comercial y financiera Debilidad en las políticas de imparcialidad del Organismo Mecanismo ineficaz para salvaguardar la imparcialidad | H14: ='Promedio NC'!C11/'Promedio NC'!$C$3 -> 0 | I14: =Eventos!C10+Eventos!F10+Eventos!I10 -> 0 | J14: Estratégico | K14: 5 | L14: 5 | M14: =IF(H14>=0.71,5,IF(H14>=0.51,4,IF(H14>=0.21,3,IF(H14>0,2,1)))) -> 1 | N14: 1 | O14: =(AVERAGE(K14:L14))*(AVERAGE(M14:N14)) -> 5 | P14: =IF(O14>15,"Crítico",IF(O14>8,"Alto",IF(O14>4,"Medio","Bajo"))) -> Medio | Q14: Evaluación en sitio: Entrevistas | R14: Etapa 2
A15: 8 | B15: Gestión de imparcialidad | C15: 5.4 | D15: Personas Maliciosas | E15: Sobornos, chantajes, amenazas u otras actuaciones ilícitas que afecten la imparcialidad | F15: Incumplimiento de requisitos de imparcialidad, que pueden llevar a suspensión o pérdida de la acreditación | G15: Presión comercial y financiera Debilidad en las políticas de imparcialidad del Organismo Mecanismo ineficaz para salvaguardar la imparcialidad | H15: ='Promedio NC'!C12/'Promedio NC'!$C$3 -> 0.032258065 | I15: =Eventos!C11+Eventos!F11+Eventos!I11 -> 0 | J15: Estratégico | K15: 5 | L15: 5 | M15: =IF(H15>=0.71,5,IF(H15>=0.51,4,IF(H15>=0.21,3,IF(H15>0,2,1)))) -> 2 | N15: 1 | O15: =(AVERAGE(K15:L15))*(AVERAGE(M15:N15)) -> 7.5 | P15: =IF(O15>15,"Crítico",IF(O15>8,"Alto",IF(O15>4,"Medio","Bajo"))) -> Medio | Q15: Evaluación en sitio: Entrevistas | R15: Etapa 2
A16: 9 | B16: Gestión de imparcialidad | C16: 5.4 | D16: Comportamiento Humano | E16: Realizar actividades de asesoría, participar en el desarrollo o gestión de proyectos condicionando las actividades de validación o verificación. | F16: Incumplimiento de requisitos de imparcialidad, que pueden llevar a suspensión o pérdida de la acreditación | G16: Presión comercial y financiera Debilidad en las políticas de imparcialidad del Organismo Mecanismo ineficaz para salvaguardar la imparcialidad | H16: ='Promedio NC'!C13/'Promedio NC'!$C$3 -> 0 | I16: =Eventos!C12+Eventos!F12+Eventos!I12 -> 0 | J16: De Mercado | K16: 5 | L16: 5 | M16: =IF(H16>=0.71,5,IF(H16>=0.51,4,IF(H16>=0.21,3,IF(H16>0,2,1)))) -> 1 | N16: 1 | O16: =(AVERAGE(K16:L16))*(AVERAGE(M16:N16)) -> 5 | P16: =IF(O16>15,"Crítico",IF(O16>8,"Alto",IF(O16>4,"Medio","Bajo"))) -> Medio | Q16: Evaluación en sitio: Entrevistas | R16: Etapa 2
A17: 10 | B17: Gestión de imparcialidad | C17: 5.4 | D17: Normatividad y Regulación | E17: Ofrecer y/o Realizar actividades no permitidas como consultoría en GEI, desarrollo de proyectos o subcontratación con empresas de consultoría | F17: Incumplimiento de requisitos de imparcialidad, que pueden llevar a suspensión o pérdida de la acreditación | G17: Desconocimiento de los requisitos de acreditación Falta de control de cumplimiento de requisitos | H17: ='Promedio NC'!C14/'Promedio NC'!$C$3 -> 0 | I17: =Eventos!C13+Eventos!F13+Eventos!I13 -> 0 | J17: Estratégico | K17: 5 | L17: 5 | M17: =IF(H17>=0.71,5,IF(H17>=0.51,4,IF(H17>=0.21,3,IF(H17>0,2,1)))) -> 1 | N17: 1 | O17: =(AVERAGE(K17:L17))*(AVERAGE(M17:N17)) -> 5 | P17: =IF(O17>15,"Crítico",IF(O17>8,"Alto",IF(O17>4,"Medio","Bajo"))) -> Medio | Q17: Evaluación en sitio: Evaluación de registros | R17: Etapa 2
A18: 11 | B18: Gestión de imparcialidad | C18: 5.4 | D18: Actividades Administrativas y Controles de proceso | E18: No contar con un mecanismo indepediente de supervisión que asegure el logro de la imparcialidad en todas las actividades | F18: Incumplimiento de requisitos de acreditación | G18: Desconocimiento y fallas en metodología de gestión de riesgos Falta de participación de las partes interesadas | H18: ='Promedio NC'!C15/'Promedio NC'!$C$3 -> 0 | I18: =Eventos!C14+Eventos!F14+Eventos!I14 -> 0 | J18: Operativo | K18: 1 | L18: 2 | N18: 1 | O18: =(AVERAGE(K18:L18))*(AVERAGE(M18:N18)) -> 1.5 | P18: =IF(O18>15,"Crítico",IF(O18>8,"Alto",IF(O18>4,"Medio","Bajo"))) -> Bajo | Q18: Evaluación en sitio: Entrevistas y Registros | R18: Etapa 1 y confirmación en etapa 2
A19: 12 | B19: Responsabilidad legal y financiación | C19: 5.5 | D19: Actividades Administrativas y Controles de proceso | E19: Falta de recursos para la operación del OVV | F19: Incumplimiento de compromisos con las partes interesadas | G19: Inadecuada planeación y control de recursos financieros | H19: ='Promedio NC'!C16/'Promedio NC'!$C$3 -> 0.032258065 | I19: =Eventos!C15+Eventos!F15+Eventos!I15 -> 0 | J19: Estratégico | K19: 3 | L19: 3 | M19: =IF(H19>=0.71,5,IF(H19>=0.51,4,IF(H19>=0.21,3,IF(H19>0,2,1)))) -> 2 | N19: 1 | O19: =(AVERAGE(K19:L19))*(AVERAGE(M19:N19)) -> 4.5 | P19: =IF(O19>15,"Crítico",IF(O19>8,"Alto",IF(O19>4,"Medio","Bajo"))) -> Medio | Q19: Evaluación en sitio: Entrevistas | R19: Etapa 1 con confirmación en etapa 2
A20: 13 | B20: Responsabilidad legal y financiación | C20: 5.5 | D20: Actividades Administrativas y Controles de proceso | E20: Incumplimiento de requisitos respecto al aseguramiento mediante pólizas de seguros | F20: Incumplimiento de compromisos con las partes interesadas | G20: Inadecuada planeación y control de financieros | H20: ='Promedio NC'!C17/'Promedio NC'!$C$3 -> 0 | I20: =Eventos!C16+Eventos!F16+Eventos!I16 -> 0 | J20: De Mercado | K20: 2 | L20: 1 | M20: =IF(H20>=0.71,5,IF(H20>=0.51,4,IF(H20>=0.21,3,IF(H20>0,2,1)))) -> 1 | N20: 1 | O20: =(AVERAGE(K20:L20))*(AVERAGE(M20:N20)) -> 1.5 | P20: =IF(O20>15,"Crítico",IF(O20>8,"Alto",IF(O20>4,"Medio","Bajo"))) -> Bajo | Q20: Evaluación remota: Evaluación Documental | R20: Etapa 1 con confirmación en etapa 2
A21: 14 | B21: Estructura de la organización y de la alta dirección | C21: 6.1 | D21: Actividades Administrativas y Controles de proceso | E21: Estructura inadecuada que genera fallas y errores en la gestión de los procesos del OEC | F21: No conformidades en los servicios, quejas y reclamos de los clientes y Reprocesos | G21: Asignación inadecuada de funciones y responsabilidades del personal | H21: ='Promedio NC'!C18/'Promedio NC'!$C$3 -> 0 | I21: =Eventos!C17+Eventos!F17+Eventos!I17 -> 0 | J21: Operativo | K21: 3 | L21: 3 | M21: =IF(H21>=0.71,5,IF(H21>=0.51,4,IF(H21>=0.21,3,IF(H21>0,2,1)))) -> 1 | N21: 1 | O21: =(AVERAGE(K21:L21))*(AVERAGE(M21:N21)) -> 3 | P21: =IF(O21>15,"Crítico",IF(O21>8,"Alto",IF(O21>4,"Medio","Bajo"))) -> Bajo | Q21: Evaluación en sitio: Entrevistas y Registros | R21: Etapa 2
A22: 16 | B22: Competencia del personal | C22: 6.1 | D22: Actividades Administrativas y Controles de proceso | E22: Realización de servicios de validación y verificación, así como decisión respecto a las declaraciones por personal no competente | F22: Errores en el proceso de validación y verficiación, emisión de la declaración, quejas, reclamos y reprocesos | G22: Debilidad en procesos de determinación de competencias, evaluación, calificación y autorización Fallas en control de proceso de calificación de personal Desorden administrativo | H22: ='Promedio NC'!C19/'Promedio NC'!$C$3 -> 0 | I22: =Eventos!C18+Eventos!F18+Eventos!I18 -> 0 | J22: Operativo | K22: 5 | L22: 5 | M22: =IF(H22>=0.71,5,IF(H22>=0.51,4,IF(H22>=0.21,3,IF(H22>0,2,1)))) -> 1 | N22: 1 | O22: =(AVERAGE(K22:L22))*(AVERAGE(M22:N22)) -> 5 | P22: =IF(O22>15,"Crítico",IF(O22>8,"Alto",IF(O22>4,"Medio","Bajo"))) -> Medio | Q22: Evaluación en sitio: Registros y/o Testificación | R22: Etapa 2
A23: 17 | B23: Competencia del personal | C23: 6.2 | D23: Actividades Administrativas y Controles de proceso | E23: Realización de servicios de validación y verificación, así como decisión respecto a las declaraciones por personal no competente | F23: Errores en procesos de validación, verificación, revisión y emisión de declaración. Quejas, reclamos y reprocesos. Declaraciones que no sean aceptadas por el cliento o por la parte responsable | G23: Inadecuada gestión de capacidad Fallas en control de proceso de calificación de personal Fallas en proceso de evaluación, monitoreo del desempeño del personal Inadecuada identificación de necesidades de formación y gestión de actividades de formación Desorden administrativo | H23: ='Promedio NC'!C20/'Promedio NC'!$C$3 -> 0 | I23: =Eventos!C19+Eventos!F19+Eventos!I19 -> 0 | J23: Operativo | K23: 5 | L23: 5 | M23: =IF(H23>=0.71,5,IF(H23>=0.51,4,IF(H23>=0.21,3,IF(H23>0,2,1)))) -> 1 | N23: 1 | O23: =(AVERAGE(K23:L23))*(AVERAGE(M23:N23)) -> 5 | P23: =IF(O23>15,"Crítico",IF(O23>8,"Alto",IF(O23>4,"Medio","Bajo"))) -> Medio | Q23: Evaluación en sitio: Registros y/o Testificación | R23: Etapa 2
A24: 18 | B24: Distribución del personal - Competencia del equipo validador y verificador | C24: 6.3 | D24: Actividades Administrativas y Controles de proceso | E24: Uso de equipos de validación y verificación que no cuentan con la competencia para todas las actividades a realizar | F24: No conformidades y hallazgos en procesos de evaluación Declaraciones emitidas con observaciones o sin aceptación por parte del cliente. | G24: Inadecuado control de registros y desorden administrativo Asignación inadecuada de funciones y responsabilidades del personal | H24: ='Promedio NC'!C21/'Promedio NC'!$C$3 -> 0 | I24: =Eventos!C20+Eventos!F20+Eventos!I20 -> 0 | J24: Operativo | K24: 3 | L24: 2 | M24: =IF(H24>=0.71,5,IF(H24>=0.51,4,IF(H24>=0.21,3,IF(H24>0,2,1)))) -> 1 | N24: 1 | O24: =(AVERAGE(K24:L24))*(AVERAGE(M24:N24)) -> 2.5 | P24: =IF(O24>15,"Crítico",IF(O24>8,"Alto",IF(O24>4,"Medio","Bajo"))) -> Bajo | Q24: Evaluación en sitio: Evaluación de registros | R24: Etapa 2
A25: 19 | B25: Empleo de validadores, verificadores y expertos técnicos externos | C25: 6.4 / 6.6 | D25: Actividades Administrativas y Controles de proceso | E25: Realización de actividades con personal (o contratación externa) que tenga conflictos de interés con el cliente (ex empleado, contratista, asesor o parte responsable de la declaración) | F25: Falta de imparcialidad en la validación, verificación o emisión de la declaración. Deterioro de la imagen del OEC y de la certificación. Declaraciones con observaciones. | G25: Mecanismos inadecuados o débiles para identificar conflictos de interés Falta de gestión de capacidad | H25: ='Promedio NC'!C22/'Promedio NC'!$C$3 -> 0 | I25: =Eventos!C21+Eventos!F21+Eventos!I21 -> 0 | J25: Operativo | K25: 5 | L25: 4 | M25: =IF(H25>=0.71,5,IF(H25>=0.51,4,IF(H25>=0.21,3,IF(H25>0,2,1)))) -> 1 | N25: 1 | O25: =(AVERAGE(K25:L25))*(AVERAGE(M25:N25)) -> 4.5 | P25: =IF(O25>15,"Crítico",IF(O25>8,"Alto",IF(O25>4,"Medio","Bajo"))) -> Medio | Q25: Evaluación en sitio: Evaluación de registros | R25: Etapa 2
A26: 20 | B26: Registros relativos al personal | C26: 6.5 | D26: Actividades Administrativas y Controles de proceso | E26: Falta de evidencias de la competencia del personal involucrado en los procesos de validación o verificación. | F26: No conformidades y hallazgos en procesos de evaluación Declaraciones emitidas con observaciones o sin aceptación por parte del cliente. | G26: Inadecuado control de registros y desorden administrativo | H26: ='Promedio NC'!C23/'Promedio NC'!$C$3 -> 0.032258065 | I26: =Eventos!C22+Eventos!F22+Eventos!I22 -> 0 | J26: Operativo | K26: 3 | L26: 2 | M26: =IF(H26>=0.71,5,IF(H26>=0.51,4,IF(H26>=0.21,3,IF(H26>0,2,1)))) -> 2 | N26: 1 | O26: =(AVERAGE(K26:L26))*(AVERAGE(M26:N26)) -> 3.75 | P26: =IF(O26>15,"Crítico",IF(O26>8,"Alto",IF(O26>4,"Medio","Bajo"))) -> Bajo | Q26: Evaluación en sitio: Evaluación de registros | R26: Etapa 2
A27: 21 | B27: Contratación externa | C27: 6.6 | D27: Actividades Administrativas y Controles de proceso | E27: Contratación de actividades de externas con entidades no competentes | F27: Errores en proceso de validación y verificación. Quejas, reclamos y reprocesos. Emisión de declaraciones con observaciones. | G27: Inadecuada selección de Proveedores Evaluación insuficiente y superficial de los proveedores | H27: ='Promedio NC'!C24/'Promedio NC'!$C$3 -> 0 | I27: =Eventos!C23+Eventos!F23+Eventos!I23 -> 0 | J27: Operativo | K27: 5 | L27: 4 | M27: =IF(H27>=0.71,5,IF(H27>=0.51,4,IF(H27>=0.21,3,IF(H27>0,2,1)))) -> 1 | N27: 1 | O27: =(AVERAGE(K27:L27))*(AVERAGE(M27:N27)) -> 4.5 | P27: =IF(O27>15,"Crítico",IF(O27>8,"Alto",IF(O27>4,"Medio","Bajo"))) -> Medio | Q27: Evaluación en sitio: Evaluación de registros | R27: Etapa 2
A28: 22 | B28: Contratación externa | C28: 6.6 | D28: Relaciones Comerciales y Contractuales | E28: Llevar a cabo actividades contratadas sin contar con el consentimiento del cliente y de la parte resonsable para uso del servicio contratado. | F28: Incumplimiento a requisitos de acreditación Quejas, reclamos y reprocesos. Emisión de declaraciones con observaciones o que no haya aceptación del cliente | G28: Inadecuada selección de Proveedores Evaluación insuficiente y superficial de los proveedores Incumplimiento de procesos para contratar externamente | H28: ='Promedio NC'!C25/'Promedio NC'!$C$3 -> 0 | I28: =Eventos!C24+Eventos!F24+Eventos!I24 -> 0 | J28: Operativo | K28: 1 | L28: 1 | N28: 1 | O28: =(AVERAGE(K28:L28))*(AVERAGE(M28:N28)) -> 1 | P28: =IF(O28>15,"Crítico",IF(O28>8,"Alto",IF(O28>4,"Medio","Bajo"))) -> Bajo | Q28: Evaluación en sitio: Entrevistas y Registros | R28: Etapa 1 y confirmación en etapa 2
A29: 23 | B29: Información proporcionada al cliente o a la parte responsable | C29: 7.1 | D29: Actividades Administrativas y Controles de proceso | E29: Suministrar información errada o incompleta sobre procesos, actividades y requisitos, para llevar a cabo la verificación o validación. | F29: Quejas y apelaciones de los clientes, errores y reprocesos | G29: Falta de revisión de la información disponible antes de su publicación Falta de planificación de cambios | H29: ='Promedio NC'!C26/'Promedio NC'!$C$3 -> 0 | I29: =Eventos!C25+Eventos!F25+Eventos!I25 -> 0 | J29: Operativo | K29: 3 | L29: 4 | M29: =IF(H29>=0.71,5,IF(H29>=0.51,4,IF(H29>=0.21,3,IF(H29>0,2,1)))) -> 1 | N29: 1 | O29: =(AVERAGE(K29:L29))*(AVERAGE(M29:N29)) -> 3.5 | P29: =IF(O29>15,"Crítico",IF(O29>8,"Alto",IF(O29>4,"Medio","Bajo"))) -> Bajo | Q29: Evaluación remota: Evaluación Documental | R29: Etapa 1 con confirmación en etapa 2
A30: 24 | B30: Comunicación de responsabilidades al cliente o a la parte responsable | C30: 7.2 | D30: Normatividad y Regulación | E30: Desconocimiento de las responsabilidades que asume el cliente o la parte responsable en el desarrollo de las actividades de verificación o validación | F30: Inconsistencias o falencias en la revisión de documentos para la verificación. Quejas y apelaciones de los clientes, errores y reprocesos Emisión de declaraciones con observaciones. | G30: Falta de información para que el equipo validaros, verificador realice la actividad. Incumplimientos en deberes como cliente del OVV. Falta de comunicación previa con el cliente o la parte responsable | H30: ='Promedio NC'!C27/'Promedio NC'!$C$3 -> 0.032258065 | I30: =Eventos!C26+Eventos!F26+Eventos!I26 -> 0 | J30: Operativo | K30: 2 | L30: 2 | M30: =IF(H30>=0.71,5,IF(H30>=0.51,4,IF(H30>=0.21,3,IF(H30>0,2,1)))) -> 2 | N30: 1 | O30: =(AVERAGE(K30:L30))*(AVERAGE(M30:N30)) -> 3 | P30: =IF(O30>15,"Crítico",IF(O30>8,"Alto",IF(O30>4,"Medio","Bajo"))) -> Bajo | Q30: Evaluación en sitio: Entrevistas | R30: Etapa 1 y confirmación en etapa 2
A31: 25 | B31: Confidencialidad | C31: 7.3 | D31: Actividades Administrativas y Controles de proceso | E31: Entrega de información confidencial de los clientes por parte del personal del OVV a otros clientes actuales o potenciales como orientación previa o en el proceso de validación o verificación | F31: Incumplimiento de acuerdos y políticas de confidencialidad, quejas, reclamos. Conflictos con los clientes o la parte responsable de delcaraciones realizadas | G31: Manejo informal de documentos del cliente Falta de políticas de intercambio de información Debilidad en políticas de confidencialidad Desconocimiento de requisitos legales | H31: ='Promedio NC'!C28/'Promedio NC'!$C$3 -> 0.032258065 | I31: =Eventos!C27+Eventos!F27+Eventos!I27 -> 0 | J31: Operativo | K31: 4 | L31: 4 | M31: =IF(H31>=0.71,5,IF(H31>=0.51,4,IF(H31>=0.21,3,IF(H31>0,2,1)))) -> 2 | N31: 1 | O31: =(AVERAGE(K31:L31))*(AVERAGE(M31:N31)) -> 6 | P31: =IF(O31>15,"Crítico",IF(O31>8,"Alto",IF(O31>4,"Medio","Bajo"))) -> Medio | Q31: Evaluación en sitio: Entrevistas | R31: Etapa 2
A32: 26 | B32: Información accesible al publico | C32: 7.4 | D32: Actividades Administrativas y Controles de proceso | E32: Publicación de información al publico, incompleta, inadecuada o ambigua, en especial sobre los sectores en los que opera | F32: Confusión de los clientes, de la parte responsable, dificultad en la gestión de la solicitud, errores y reproceso. Quejas e insatisfacción del cliente o la parte resonsable de la declaración | G32: Falta de políticas y procedimientos de publicación revisión de información al publico | H32: ='Promedio NC'!C29/'Promedio NC'!$C$3 -> 0 | I32: =Eventos!C28+Eventos!F28+Eventos!I28 -> 0 | J32: Operativo | K32: 3 | L32: 4 | M32: =IF(H32>=0.71,5,IF(H32>=0.51,4,IF(H32>=0.21,3,IF(H32>0,2,1)))) -> 1 | N32: 1 | O32: =(AVERAGE(K32:L32))*(AVERAGE(M32:N32)) -> 3.5 | P32: =IF(O32>15,"Crítico",IF(O32>8,"Alto",IF(O32>4,"Medio","Bajo"))) -> Bajo | Q32: Evaluación en remota: Evaluación de registros | R32: Etapa 1 y confirmación en etapa 2
A33: 27 | B33: Registros de las actividades de validación y verificación | C33: 7.5 / 8.6 | D33: Actividades Administrativas y Controles de proceso | E33: Perdida de integridad, disponibilidad o confidencialidad de los registros de las actividades realizadas | F33: Perdida de trazabilidad de la información y consecuencias legales | G33: Falta de un adecuado sistema de control de la información y políticas de seguridad | H33: ='Promedio NC'!C30/'Promedio NC'!$C$3 -> 0 | I33: =Eventos!C29+Eventos!F29+Eventos!I29 -> 0 | J33: Operativo | K33: 5 | L33: 4 | M33: =IF(H33>=0.71,5,IF(H33>=0.51,4,IF(H33>=0.21,3,IF(H33>0,2,1)))) -> 1 | N33: 1 | O33: =(AVERAGE(K33:L33))*(AVERAGE(M33:N33)) -> 4.5 | P33: =IF(O33>15,"Crítico",IF(O33>8,"Alto",IF(O33>4,"Medio","Bajo"))) -> Medio | Q33: Evaluación en sitio: Evaluación de registros | R33: Etapa 2
A34: 28 | B34: Generalidades del proceso de validación o verificación | C34: 8.1 | D34: Relaciones Comerciales y Contractuales | E34: Tramitar un servicio de certificación sin llevar a cabo todas las etapas | F34: Aceptación de solicitud sin tener capacidad, sin evaluar los riesgos del servicio, sin identificar cliente o parte responsable. Errores, demoras y reprocesos posteriores. | G34: Presiones comerciales o financieras. Fallas de comunicación y control de los procesos del OVV | H34: ='Promedio NC'!C31/'Promedio NC'!$C$3 -> 0.064516129 | I34: =Eventos!C30+Eventos!F30+Eventos!I30 -> 0 | J34: Operativo | K34: 3 | L34: 3 | M34: =IF(H34>=0.71,5,IF(H34>=0.51,4,IF(H34>=0.21,3,IF(H34>0,2,1)))) -> 2 | N34: 1 | O34: =(AVERAGE(K34:L34))*(AVERAGE(M34:N34)) -> 4.5 | P34: =IF(O34>15,"Crítico",IF(O34>8,"Alto",IF(O34>4,"Medio","Bajo"))) -> Medio | Q34: Evaluación remota: Evaluación Documental | R34: Etapa 1
A35: 29 | B35: Acuerdo previo | C35: 8.2 / 5.2 | D35: Relaciones Comerciales y Contractuales | E35: Suscribir acuerdos contractuales con los clientes con requisitos ambiguos, incompletos o errados | F35: Quejas por incumplimiento contractual | G35: Falta de revisión de las condiciones contractuales | H35: ='Promedio NC'!C32/'Promedio NC'!$C$3 -> 0 | I35: =Eventos!C31+Eventos!F31+Eventos!I31 -> 0 | J35: De Mercado | K35: 3 | L35: 3 | M35: =IF(H35>=0.71,5,IF(H35>=0.51,4,IF(H35>=0.21,3,IF(H35>0,2,1)))) -> 1 | N35: 1 | O35: =(AVERAGE(K35:L35))*(AVERAGE(M35:N35)) -> 3 | P35: =IF(O35>15,"Crítico",IF(O35>8,"Alto",IF(O35>4,"Medio","Bajo"))) -> Bajo | Q35: Evaluación en sitio: Evaluación de registros | R35: Etapa 2
A36: 30 | B36: Acuerdo previo | C36: 8.2 | D36: Relaciones Comerciales y Contractuales | E36: Revisión incompleta o insuficiente de la solicitud | F36: Aceptación de solicitud sin tener capacidad. Errores, demoras y reprocesos posteriores. | G36: Presiones comerciales o financieras. Fallas de comunicación y control de los procesos del OVV | H36: ='Promedio NC'!C33/'Promedio NC'!$C$3 -> 0 | I36: =Eventos!C32+Eventos!F32+Eventos!I32 -> 0 | J36: Operativo | K36: 4 | L36: 4 | M36: =IF(H36>=0.71,5,IF(H36>=0.51,4,IF(H36>=0.21,3,IF(H36>0,2,1)))) -> 1 | N36: 1 | O36: =(AVERAGE(K36:L36))*(AVERAGE(M36:N36)) -> 4 | P36: =IF(O36>15,"Crítico",IF(O36>8,"Alto",IF(O36>4,"Medio","Bajo"))) -> Bajo | Q36: Evaluación en sitio: Evaluación de registros | R36: Etapa 2
A37: 31 | B37: Acuerdo previo | C37: 8.2 | D37: Actividades Administrativas y Controles de proceso | E37: Documento contractual y oferta con condiciones que no corresponden a las requeridas | F37: Quejas y reclamos de los clientes por incumplimiento de requisitos acordados | G37: Presiones comerciales o financieras. Fallas de comunicación y control de los procesos del OVV | H37: ='Promedio NC'!C34/'Promedio NC'!$C$3 -> 0.032258065 | I37: =Eventos!C33+Eventos!F33+Eventos!I33 -> 0 | J37: De Mercado | K37: 4 | L37: 3 | M37: =IF(H37>=0.71,5,IF(H37>=0.51,4,IF(H37>=0.21,3,IF(H37>0,2,1)))) -> 2 | N37: 1 | O37: =(AVERAGE(K37:L37))*(AVERAGE(M37:N37)) -> 5.25 | P37: =IF(O37>15,"Crítico",IF(O37>8,"Alto",IF(O37>4,"Medio","Bajo"))) -> Medio | Q37: Evaluación en sitio: Evaluación de registros | R37: Etapa 2
A38: 32 | B38: Enfoque - Selección del equipo validador/verificador | C38: 8.3.1 | D38: Actividades Administrativas y Controles de proceso | E38: Asignación de personal que no cumple requisitos de competencia para el sectro y actividades requeridas | F38: Errores y omisiones en el Proceso de validación o verificación sin cumplir requisitos | G38: Fallas en planeación y gestión de recursos Presiones comerciales o financieras. Fallas de comunicación y control de los procesos del OVV | H38: ='Promedio NC'!C35/'Promedio NC'!$C$3 -> 0 | I38: =Eventos!C34+Eventos!F34+Eventos!I34 -> 0 | J38: Operativo | K38: 5 | L38: 4 | M38: =IF(H38>=0.71,5,IF(H38>=0.51,4,IF(H38>=0.21,3,IF(H38>0,2,1)))) -> 1 | N38: 1 | O38: =(AVERAGE(K38:L38))*(AVERAGE(M38:N38)) -> 4.5 | P38: =IF(O38>15,"Crítico",IF(O38>8,"Alto",IF(O38>4,"Medio","Bajo"))) -> Medio | Q38: Evaluación en sitio: Evaluación de registros | R38: Etapa 2
A39: 33 | B39: Enfoque - comunicación con el cliente y parte responsable respecto a la programación | C39: 8.3.2 | D39: Actividades Administrativas y Controles de proceso | E39: Falta de oportunidad en notificación de actividades y equipo validador verificador | F39: Quejas y reclamos de los clientes por falta de oportunidad en el servicio y oportunidad ante cualqueir objeción | G39: Fallas en planeación y gestión de recursos Fallas de comunicación y control de los procesos del OVV | H39: ='Promedio NC'!C36/'Promedio NC'!$C$3 -> 0.032258065 | I39: =Eventos!C35+Eventos!F35+Eventos!I35 -> 0 | J39: Operativo | K39: 1 | L39: 3 | M39: =IF(H39>=0.71,5,IF(H39>=0.51,4,IF(H39>=0.21,3,IF(H39>0,2,1)))) -> 2 | N39: 1 | O39: =(AVERAGE(K39:L39))*(AVERAGE(M39:N39)) -> 3 | P39: =IF(O39>15,"Crítico",IF(O39>8,"Alto",IF(O39>4,"Medio","Bajo"))) -> Bajo | Q39: Evaluación en sitio: Evaluación de registros | R39: Etapa 2
A40: 34 | B40: Enfoque - Planificación | C40: 8.3.3 | D40: Normatividad y Regulación | E40: Elaboración de plan de validación o verificación no apropiado para el objetivo y alcance y sin considerar el plan de muestreo | F40: Errores y omisiones en el Proceso de evaluación. Sistema certificado sin cumplir requisitos | G40: Fallas de comunicación y control de los procesos del OEC Falta de competencia del equipo validador, verificador | H40: ='Promedio NC'!C37/'Promedio NC'!$C$3 -> 0.064516129 | I40: =Eventos!C36+Eventos!F36+Eventos!I36 -> 0 | J40: Operativo | K40: 4 | L40: 4 | M40: =IF(H40>=0.71,5,IF(H40>=0.51,4,IF(H40>=0.21,3,IF(H40>0,2,1)))) -> 2 | N40: 1 | O40: =(AVERAGE(K40:L40))*(AVERAGE(M40:N40)) -> 6 | P40: =IF(O40>15,"Crítico",IF(O40>8,"Alto",IF(O40>4,"Medio","Bajo"))) -> Medio | Q40: Evaluación en sitio: Evaluación de registros | R40: Etapa 2
... A49: 43 | B49: Hechos detectados después de la ceclaración de validación o verificación | C49: 8.7 | D49: Actividades Administrativas y Controles de proceso | E49: Omitir las modificaciones cuando sean requeridas en un informe de validación o verificación. | F49: Declaraciones con descripción de hechos erróneos o inconsistentes según lo acordado con el cliente, la parte responsable o con el programa | G49: Deficiencias en control de los procesos y actividades de revisión Fallas en el proceso de emisión de la declaración Debilidad en la comunicación previa con el cliente y parte responsable. | H49: ='Promedio NC'!C46/'Promedio NC'!$C$3 -> 0 | I49: =Eventos!C45+Eventos!F45+Eventos!I45 -> 0 | J49: Operativo | K49: 5 | L49: 4 | M49: =IF(H49>=0.71,5,IF(H49>=0.51,4,IF(H49>=0.21,3,IF(H49>0,2,1)))) -> 1 | N49: 1 | O49: =(AVERAGE(K49:L49))*(AVERAGE(M49:N49)) -> 4.5 | P49: =IF(O49>15,"Crítico",IF(O49>8,"Alto",IF(O49>4,"Medio","Bajo"))) -> Medio | Q49: Evaluación en sitio: Evaluación de registros | R49: Etapa 2
A50: 44 | B50: Quejas y apelaciones | C50: 9. / 10. | D50: Actividades Administrativas y Controles de proceso | E50: No dar tratamiento oportuno y eficaz a las quejas y apelaciones de los clientes | F50: Mayor insatisfacción del cliente e intervención de acreditador y entes de control y vigilancia | G50: Fallas en mecanismos de comunicación con el cliente Falta de recursos para servicio al cliente Procesos inadecuados de tratamiento de quejas y apelaciones | H50: ='Promedio NC'!C47/'Promedio NC'!$C$3 -> 0 | I50: =Eventos!C46+Eventos!F46+Eventos!I46 -> 0 | J50: Operativo | K50: 3 | L50: 3 | M50: 1 | N50: 1 | O50: =(AVERAGE(K50:L50))*(AVERAGE(M50:N50)) -> 3 | P50: =IF(O50>15,"Crítico",IF(O50>8,"Alto",IF(O50>4,"Medio","Bajo"))) -> Bajo | Q50: Evaluación en sitio: Evaluación de registros | R50: Etapa 2
A51: 45 | B51: Validaciones o verificaciones especiales | C51: 11 | D51: Actividades Administrativas y Controles de proceso | E51: Falta de atención y selección en el equipo validador o verificador para las actividades previstas | F51: Inconsistencias o fallas en la validación o verificación a realizar. Asignación de eqipo sin competencia requerida | G51: Fallas en planeación y gestión de recursos Fallas de comunicación y control de los procesos del OVV | H51: ='Promedio NC'!C48/'Promedio NC'!$C$3 -> 0 | I51: =Eventos!C47+Eventos!F47+Eventos!I47 -> 0 | J51: Operativo | K51: 1 | L51: 3 | M51: =IF(H51>=0.71,5,IF(H51>=0.51,4,IF(H51>=0.21,3,IF(H51>0,2,1)))) -> 1 | N51: 1 | O51: =(AVERAGE(K51:L51))*(AVERAGE(M51:N51)) -> 2 | P51: =IF(O51>15,"Crítico",IF(O51>8,"Alto",IF(O51>4,"Medio","Bajo"))) -> Bajo | Q51: Evaluación en sitio: Evaluación de registros | R51: Etapa 2
A52: 46 | B52: Sistema de gestión | C52: 12 | D52: Actividades Administrativas y Controles de proceso | E52: Sistema de gestión que no apoya el cumplimiento de los objetivos del OVV | F52: Sistema para cumplimiento, pero que no contribuye al mejoramiento continuo | G52: Diseño inadecuado del sistema de gestión | H52: ='Promedio NC'!C49/'Promedio NC'!$C$3 -> 0 | I52: =Eventos!C48+Eventos!F48+Eventos!I48 -> 0 | J52: Operativo | K52: 2 | L52: 1 | M52: =IF(H52>=0.71,5,IF(H52>=0.51,4,IF(H52>=0.21,3,IF(H52>0,2,1)))) -> 1 | N52: 1 | O52: =(AVERAGE(K52:L52))*(AVERAGE(M52:N52)) -> 1.5 | P52: =IF(O52>15,"Crítico",IF(O52>8,"Alto",IF(O52>4,"Medio","Bajo"))) -> Bajo | Q52: Evaluación remota: Evaluación Documental | R52: Etapa 2
A53: 47 | B53: Sistema de gestión | C53: 12 | D53: Actividades Administrativas y Controles de proceso | E53: Implementación ineficaz del sistema de gestión del OVV | F53: Sistema para cumplimiento, pero que no contribuye al mejoramiento continuo Recurrencia de no conformidades | G53: Falta de compromiso y liderazgo de la alta dirección con el sistema de gestión del OVV Personal sin compromiso con el sistema | H53: ='Promedio NC'!C50/'Promedio NC'!$C$3 -> 0 | I53: =Eventos!C49+Eventos!F49+Eventos!I49 -> 0 | J53: Operativo | K53: 3 | L53: 1 | M53: =IF(H53>=0.71,5,IF(H53>=0.51,4,IF(H53>=0.21,3,IF(H53>0,2,1)))) -> 1 | N53: 1 | O53: =(AVERAGE(K53:L53))*(AVERAGE(M53:N53)) -> 2 | P53: =IF(O53>15,"Crítico",IF(O53>8,"Alto",IF(O53>4,"Medio","Bajo"))) -> Bajo | Q53: Evaluación remota: Evaluación Documental | R53: Etapa 2
A54: 48 | B54: Sistema de gestión | C54: 12 | D54: Actividades Administrativas y Controles de proceso | E54: Obsolescencia de la documentación del sistema de gestión | F54: Incumplimiento de requisitos de acreditación Aplicación de disposiciones equivocadas en el sistema Errores en los procesos | G54: Falta de revisión y actualización de documentos | H54: ='Promedio NC'!C51/'Promedio NC'!$C$3 -> 0 | I54: =Eventos!C50+Eventos!F50+Eventos!I50 -> 0 | J54: Operativo | K54: 3 | L54: 1 | M54: =IF(H54>=0.71,5,IF(H54>=0.51,4,IF(H54>=0.21,3,IF(H54>0,2,1)))) -> 1 | N54: 1 | O54: =(AVERAGE(K54:L54))*(AVERAGE(M54:N54)) -> 2 | P54: =IF(O54>15,"Crítico",IF(O54>8,"Alto",IF(O54>4,"Medio","Bajo"))) -> Bajo | Q54: Evaluación remota: Evaluación Documental | R54: Etapa 1 y confirmación en etapa 2
A55: 49 | B55: Sistema de gestión | C55: 12 | D55: Actividades Administrativas y Controles de proceso | E55: Daño o pérdida de registros de las actividades de verifiación o validación | F55: Pérdida de trazabilidad de la información y soporte de la certificación, no conformidades y sanciones de entes de control | G55: Falta de políticas de seguridad de la información y sistemas adecuados para control de información en medio físico y electrónico | H55: ='Promedio NC'!C52/'Promedio NC'!$C$3 -> 0 | I55: =Eventos!C51+Eventos!F51+Eventos!I51 -> 0 | J55: Operativo | K55: 5 | L55: 4 | M55: =IF(H55>=0.71,5,IF(H55>=0.51,4,IF(H55>=0.21,3,IF(H55>0,2,1)))) -> 1 | N55: 1 | O55: =(AVERAGE(K55:L55))*(AVERAGE(M55:N55)) -> 4.5 | P55: =IF(O55>15,"Crítico",IF(O55>8,"Alto",IF(O55>4,"Medio","Bajo"))) -> Medio | Q55: Evaluación en sitio: Evaluación de registros | R55: Etapa 2
A56: 50 | B56: Sistema de gestión | C56: 12 | D56: Actividades Administrativas y Controles de proceso | E56: Revisión incompleta o que no permite determinar la eficacia, adecuación y conveniencia del sistema | F56: Sistema de gestión que no apoya los objetivos estratégicos del OEC | G56: Desconocimiento / falta de toma de conciencia de la importancia de la revisión para el OVV | H56: ='Promedio NC'!C53/'Promedio NC'!$C$3 -> 0 | I56: =Eventos!C52+Eventos!F52+Eventos!I52 -> 0 | J56: Operativo | K56: 2 | L56: 1 | M56: =IF(H56>=0.71,5,IF(H56>=0.51,4,IF(H56>=0.21,3,IF(H56>0,2,1)))) -> 1 | N56: 1 | O56: =(AVERAGE(K56:L56))*(AVERAGE(M56:N56)) -> 1.5 | P56: =IF(O56>15,"Crítico",IF(O56>8,"Alto",IF(O56>4,"Medio","Bajo"))) -> Bajo | Q56: Evaluación remota: Evaluación Documental | R56: Etapa 1 y confirmación en etapa 2
A57: 51 | B57: Sistema de gestión | C57: 12 | D57: Actividades Administrativas y Controles de proceso | E57: Auditoria superficial que no evalúa de forma suficiente el sistema de gestión del OVV | F57: Auditoria que no aporta a la mejora continua del sistema de gestión | G57: Falta de competencia de equipos de auditoria Asignación insuficiente de tiempo para auditoria | H57: ='Promedio NC'!C54/'Promedio NC'!$C$3 -> 0 | I57: =Eventos!C53+Eventos!F53+Eventos!I53 -> 0 | J57: Operativo | K57: 3 | L57: 1 | M57: =IF(H57>=0.71,5,IF(H57>=0.51,4,IF(H57>=0.21,3,IF(H57>0,2,1)))) -> 1 | N57: 1 | O57: =(AVERAGE(K57:L57))*(AVERAGE(M57:N57)) -> 2 | P57: =IF(O57>15,"Crítico",IF(O57>8,"Alto",IF(O57>4,"Medio","Bajo"))) -> Bajo | Q57: Evaluación en sitio: Evaluación de registros | R57: Etapa 1 y confirmación en etapa 2
A58: 52 | B58: Sistema de gestión | C58: 12 | D58: Actividades Administrativas y Controles de proceso | E58: Acciones correctivas no eficaces | F58: No hay mejoramiento continuo en la Organización | G58: Falta de análisis de causas Desconocimiento de conceptos y criterios para la mejora | H58: ='Promedio NC'!C55/'Promedio NC'!$C$3 -> 0 | I58: =Eventos!C54+Eventos!F54+Eventos!I54 -> 0 | J58: Operativo | K58: 3 | L58: 1 | M58: =IF(H58>=0.71,5,IF(H58>=0.51,4,IF(H58>=0.21,3,IF(H58>0,2,1)))) -> 1 | N58: 1 | O58: =(AVERAGE(K58:L58))*(AVERAGE(M58:N58)) -> 2 | P58: =IF(O58>15,"Crítico",IF(O58>8,"Alto",IF(O58>4,"Medio","Bajo"))) -> Bajo | Q58: Evaluación en sitio: Evaluación de registros | R58: Etapa 1 y confirmación en etapa 2

Sheet Promedio NC
B3: NUMERO TOTAL DE NC | C3: 31
B4: Requisito | C4: Total NC por Requisito | D4: % NC
B5: 5.1Situación Legal | C5: 0 | D5: =C5/$C$56 -> 0
B6: 5.2Asuntos legales y contractuales | C6: 2 | D6: =C6/$C$56 -> 0.13333333
B7: 5.2Autoridad y responsabilidad por las actividades y las declaraciones de validación y verificación | C7: 0 | D7: =C7/$C$56 -> 0
B8: 5.3Estructura de la organización y de la alta dirección | C8: 1 | D8: =C8/$C$56 -> 0.066666667
B9: 5.4Gestión de imparcialidad | C9: 0 | D9: =C9/$C$56 -> 0
B10: 5.4Gestión de imparcialidad | C10: 0 | D10: =C10/$C$56 -> 0
B11: 5.4Gestión de imparcialidad | C11: 0 | D11: =C11/$C$56 -> 0
B12: 5.4Gestión de imparcialidad | C12: 1 | D12: =C12/$C$56 -> 0.066666667
B13: 5.4Gestión de imparcialidad | C13: 0 | D13: =C13/$C$56 -> 0
B14: 5.4Gestión de imparcialidad | C14: 0 | D14: =C14/$C$56 -> 0
B15: 5.4Gestión de imparcialidad | C15: 0 | D15: =C15/$C$56 -> 0
B16: 5.5Responsabilidad legal y financiación | C16: 1 | D16: =C16/$C$56 -> 0.066666667
... B55: 12Sistema de gestión | C55: 0 | D55: =C55/$C$56 -> 0
B56: TOTAL REQUISITOS INCUMPLIDOS | C56: =SUM(C5:C54) -> 15 | D56: =SUM(D5:D54) -> 1

Sheet Eventos
B2: QUEJAS | E2: APELACIONES | H2: SANCIONES
B3: Requisito | C3: Total por Requisito | E3: Requisito | F3: Total por Requisito | H3: Requisito | I3: Total por Requisito
B4: 5.1Situación Legal | C4: 0 | E4: 5.1Situación Legal | F4: 0 | H4: 5.1Situación Legal | I4: 0
B5: 5.2Asuntos legales y contractuales | C5: 0 | E5: 5.2Asuntos legales y contractuales | F5: 0 | H5: 5.2Asuntos legales y contractuales | I5: 0
B6: 5.2Autoridad y responsabilidad por las actividades y las declaraciones de validación y verificación | C6: 0 | E6: 5.2Autoridad y responsabilidad por las actividades y las declaraciones de validación y verificación | F6: 0 | H6: 5.2Autoridad y responsabilidad por las actividades y las declaraciones de validación y verificación | I6: 0
B7: 5.3Estructura de la organización y de la alta dirección | C7: 0 | E7: 5.3Estructura de la organización y de la alta dirección | F7: 0 | H7: 5.3Estructura de la organización y de la alta dirección | I7: 0
B8: 5.4Gestión de imparcialidad | C8: 0 | E8: 5.4Gestión de imparcialidad | F8: 0 | H8: 5.4Gestión de imparcialidad | I8: 0
B9: 5.4Gestión de imparcialidad | C9: 0 | E9: 5.4Gestión de imparcialidad | F9: 0 | H9: 5.4Gestión de imparcialidad | I9: 0
B10: 5.4Gestión de imparcialidad | C10: 0 | E10: 5.4Gestión de imparcialidad | F10: 0 | H10: 5.4Gestión de imparcialidad | I10: 0
B11: 5.4Gestión de imparcialidad | C11: 0 | E11: 5.4Gestión de imparcialidad | F11: 0 | H11: 5.4Gestión de imparcialidad | I11: 0
B12: 5.4Gestión de imparcialidad | C12: 0 | E12: 5.4Gestión de imparcialidad | F12: 0 | H12: 5.4Gestión de imparcialidad | I12: 0
B13: 5.4Gestión de imparcialidad | C13: 0 | E13: 5.4Gestión de imparcialidad | F13: 0 | H13: 5.4Gestión de imparcialidad | I13: 0
B14: 5.4Gestión de imparcialidad | C14: 0 | E14: 5.4Gestión de imparcialidad | F14: 0 | H14: 5.4Gestión de imparcialidad | I14: 0
B15: 5.5Responsabilidad legal y financiación | C15: 0 | E15: 5.5Responsabilidad legal y financiación | F15: 0 | H15: 5.5Responsabilidad legal y financiación | I15: 0
... B54: 12Sistema de gestión | C54: 0 | E54: 12Sistema de gestión | F54: 0 | H54: 12Sistema de gestión | I54: 0
B55: TOTAL REQUISITOS INCUMPLIDOS | C55: =SUM(C4:C54) -> 0 | E55: TOTAL REQUISITOS INCUMPLIDOS | F55: =SUM(F4:F54) -> 0 | H55: TOTAL REQUISITOS INCUMPLIDOS | I55: =SUM(I4:I54) -> 0

Sheet Mapa de riesgo GEI
E2: MAPA DE RIESGOS ORGANISMOS DE VALIDACIÓN Y VERIFICACIÓN DE GASES EFECTO INVERNADERO | Q2: Anexo J_PR-3.3-01 Versión 02 Fecha. 2022-10-12
B5: No | C5: REQUISITOS | D5: Análisis de riesgo | F5: Nivel de riesgo | G5: Riesgo | H5: Tipo de riesgo | I5: Descripción del evento
D6: C | E6: O
B7: ='Matriz de riesgo GEI'!A8 -> 1 | C7: ='Matriz de riesgo GEI'!B8 -> Situación Legal | D7: =AVERAGE('Matriz de riesgo GEI'!K8:L8) -> 1 | E7: =AVERAGE('Matriz de riesgo GEI'!M8:N8) -> 1 | F7: =D7*E7 -> 1 | G7: =IF(F7>15,"Crítico",IF(F7>8,"Alto",IF(F7>4,"Medio","Bajo"))) -> Bajo | H7: ='Matriz de riesgo GEI'!J8 -> Estratégico | I7: ='Matriz de riesgo GEI'!E8 -> El organismo de validación o verificación tiene una afectación respecto a su situación legal y/o identificación de las personas que lo controlan
B8: ='Matriz de riesgo GEI'!A9 -> 2 | C8: ='Matriz de riesgo GEI'!B9 -> Asuntos legales y contractuales | D8: =AVERAGE('Matriz de riesgo GEI'!K9:L9) -> 1 | E8: =AVERAGE('Matriz de riesgo GEI'!M9:N9) -> 1.5 | F8: =D8*E8 -> 1.5 | G8: =IF(F8>15,"Crítico",IF(F8>8,"Alto",IF(F8>4,"Medio","Bajo"))) -> Bajo | H8: ='Matriz de riesgo GEI'!J9 -> Estratégico | I8: ='Matriz de riesgo GEI'!E9 -> Organismo de validación o verificación pierde su estatus legal como responsable de sus actividades
B9: ='Matriz de riesgo GEI'!A10 -> 3 | C9: ='Matriz de riesgo GEI'!B10 -> Autoridad y responsabilidad por las actividades y las declaraciones de validación y verificación | D9: =AVERAGE('Matriz de riesgo GEI'!K10:L10) -> 1 | E9: =AVERAGE('Matriz de riesgo GEI'!M10:N10) -> 1 | F9: =D9*E9 -> 1 | G9: =IF(F9>15,"Crítico",IF(F9>8,"Alto",IF(F9>4,"Medio","Bajo"))) -> Bajo | H9: ='Matriz de riesgo GEI'!J10 -> De Mercado | I9: ='Matriz de riesgo GEI'!E10 -> Subcontratación de la toma de decisión
B10: ='Matriz de riesgo GEI'!A11 -> 4 | C10: ='Matriz de riesgo GEI'!B11 -> Estructura de la organización y de la alta dirección | D10: =AVERAGE('Matriz de riesgo GEI'!K11:L11) -> 3 | E10: =AVERAGE('Matriz de riesgo GEI'!M11:N11) -> 1.5 | F10: =D10*E10 -> 4.5 | G10: =IF(F10>15,"Crítico",IF(F10>8,"Alto",IF(F10>4,"Medio","Bajo"))) -> Medio | H10: ='Matriz de riesgo GEI'!J11 -> Operativo | I10: ='Matriz de riesgo GEI'!E11 -> Estructura inadecuada que genera fallas y errores en la gestión de los procesos del OVV
B11: ='Matriz de riesgo GEI'!A12 -> 5 | C11: ='Matriz de riesgo GEI'!B12 -> Gestión de imparcialidad | D11: =AVERAGE('Matriz de riesgo GEI'!K12:L12) -> 2.5 | E11: =AVERAGE('Matriz de riesgo GEI'!M12:N12) -> 1 | F11: =D11*E11 -> 2.5 | G11: =IF(F11>15,"Crítico",IF(F11>8,"Alto",IF(F11>4,"Medio","Bajo"))) -> Bajo | H11: ='Matriz de riesgo GEI'!J12 -> De Mercado | I11: ='Matriz de riesgo GEI'!E12 -> Inadecuada identificación, análisis, valoración y tratamiento de riesgos de imparcialidad
B12: ='Matriz de riesgo GEI'!A13 -> 6 | C12: ='Matriz de riesgo GEI'!B13 -> Gestión de imparcialidad | D12: =AVERAGE('Matriz de riesgo GEI'!K13:L13) -> 5 | E12: =AVERAGE('Matriz de riesgo GEI'!M13:N13) -> 1 | F12: =D12*E12 -> 5 | G12: =IF(F12>15,"Crítico",IF(F12>8,"Alto",IF(F12>4,"Medio","Bajo"))) -> Medio | H12: ='Matriz de riesgo GEI'!J13 -> Estratégico | I12: ='Matriz de riesgo GEI'!E13 -> Presión de la alta dirección a los profesinales técnicos (validadores7verificadores) para hacer mas fácil la actividad y evitar ser calificados como "demasiado exigentes"
B13: ='Matriz de riesgo GEI'!A14 -> 7 | C13: ='Matriz de riesgo GEI'!B14 -> Gestión de imparcialidad | D13: =AVERAGE('Matriz de riesgo GEI'!K14:L14) -> 5 | E13: =AVERAGE('Matriz de riesgo GEI'!M14:N14) -> 1 | F13: =D13*E13 -> 5 | G13: =IF(F13>15,"Crítico",IF(F13>8,"Alto",IF(F13>4,"Medio","Bajo"))) -> Medio | H13: ='Matriz de riesgo GEI'!J14 -> Estratégico | I13: ='Matriz de riesgo GEI'!E14 -> Permitir presiones de organismos relacionados que afecten las actividades de validación o verificación y la emisión de la declaración.
B14: ='Matriz de riesgo GEI'!A15 -> 8 | C14: ='Matriz de riesgo GEI'!B15 -> Gestión de imparcialidad | D14: =AVERAGE('Matriz de riesgo GEI'!K15:L15) -> 5 | E14: =AVERAGE('Matriz de riesgo GEI'!M15:N15) -> 1.5 | F14: =D14*E14 -> 7.5 | G14: =IF(F14>15,"Crítico",IF(F14>8,"Alto",IF(F14>4,"Medio","Bajo"))) -> Medio | H14: ='Matriz de riesgo GEI'!J15 -> Estratégico | I14: ='Matriz de riesgo GEI'!E15 -> Sobornos, chantajes, amenazas u otras actuaciones ilícitas que afecten la imparcialidad
B15: ='Matriz de riesgo GEI'!A16 -> 9 | C15: ='Matriz de riesgo GEI'!B16 -> Gestión de imparcialidad | D15: =AVERAGE('Matriz de riesgo GEI'!K16:L16) -> 5 | E15: =AVERAGE('Matriz de riesgo GEI'!M16:N16) -> 1 | F15: =D15*E15 -> 5 | G15: =IF(F15>15,"Crítico",IF(F15>8,"Alto",IF(F15>4,"Medio","Bajo"))) -> Medio | H15: ='Matriz de riesgo GEI'!J16 -> De Mercado | I15: ='Matriz de riesgo GEI'!E16 -> Realizar actividades de asesoría, participar en el desarrollo o gestión de proyectos condicionando las actividades de validación o verificación.
B16: ='Matriz de riesgo GEI'!A17 -> 10 | C16: ='Matriz de riesgo GEI'!B17 -> Gestión de imparcialidad | D16: =AVERAGE('Matriz de riesgo GEI'!K17:L17) -> 5 | E16: =AVERAGE('Matriz de riesgo GEI'!M17:N17) -> 1 | F16: =D16*E16 -> 5 | G16: =IF(F16>15,"Crítico",IF(F16>8,"Alto",IF(F16>4,"Medio","Bajo"))) -> Medio | H16: ='Matriz de riesgo GEI'!J17 -> Estratégico | I16: ='Matriz de riesgo GEI'!E17 -> Ofrecer y/o Realizar actividades no permitidas como consultoría en GEI, desarrollo de proyectos o subcontratación con empresas de consultoría
B17: ='Matriz de riesgo GEI'!A18 -> 11 | C17: ='Matriz de riesgo GEI'!B18 -> Gestión de imparcialidad | D17: =AVERAGE('Matriz de riesgo GEI'!K18:L18) -> 1.5 | E17: =AVERAGE('Matriz de riesgo GEI'!M18:N18) -> 1 | F17: =D17*E17 -> 1.5 | G17: =IF(F17>15,"Crítico",IF(F17>8,"Alto",IF(F17>4,"Medio","Bajo"))) -> Bajo | H17: ='Matriz de riesgo GEI'!J18 -> Operativo | I17: ='Matriz de riesgo GEI'!E18 -> No contar con un mecanismo indepediente de supervisión que asegure el logro de la imparcialidad en todas las actividades
B18: ='Matriz de riesgo GEI'!A19 -> 12 | C18: ='Matriz de riesgo GEI'!B19 -> Responsabilidad legal y financiación | D18: =AVERAGE('Matriz de riesgo GEI'!K19:L19) -> 3 | E18: =AVERAGE('Matriz de riesgo GEI'!M19:N19) -> 1.5 | F18: =D18*E18 -> 4.5 | G18: =IF(F18>15,"Crítico",IF(F18>8,"Alto",IF(F18>4,"Medio","Bajo"))) -> Medio | H18: ='Matriz de riesgo GEI'!J19 -> Estratégico | I18: ='Matriz de riesgo GEI'!E19 -> Falta de recursos para la operación del OVV
... B57: ='Matriz de riesgo GEI'!A58 -> 52 | C57: ='Matriz de riesgo GEI'!B58 -> Sistema de gestión | D57: =AVERAGE('Matriz de riesgo GEI'!K58:L58) -> 2 | E57: =AVERAGE('Matriz de riesgo GEI'!M58:N58) -> 1 | F57: =D57*E57 -> 2 | G57: =IF(F57>15,"Crítico",IF(F57>8,"Alto",IF(F57>4,"Medio","Bajo"))) -> Bajo | H57: ='Matriz de riesgo GEI'!J58 -> Operativo | I57: ='Matriz de riesgo GEI'!E58 -> Acciones correctivas no eficaces

Sheet Registro Eventos e Incidentes
B2: Evento e Incidente | C2: Descripción | D2: Fecha de Ocurrencia | E2: Tratamiento / Corrección | F2: Responsable | G2: Estado

Sheet Data 
B2: Fuentes de Riesgo | C2: Técnicas de evaluación | D2: Tipos de Riesgo | E2: Consecuencia | F2: Frecuencia
B3: Relaciones Comerciales y Contractuales | C3: Evaluación en sitio: Evaluación Documental | D3: Estratégico | E3: 1 | F3: 1
B4: Normatividad y Regulación | C4: Evaluación en sitio: Evaluación de registros | D4: Operativo | E4: 2 | F4: 2
B5: Circunstancias Económicas | C5: Evaluación en sitio: Testificación | D5: Financiero | E5: 3 | F5: 3
B6: Comportamiento Humano | C6: Evaluación en sitio: Registros y/o Testificación | D6: Operativo | E6: 4 | F6: 4
B7: Comportamiento Humano | C7: Evaluación en sitio: Registros y/o Testificación | D7: Operativo | E7: 5 | F7: 5
B8: Comportamiento Humano | C8: Evaluación en sitio: Entrevistas y Registros | D8: De Mercado
B9: Comportamiento Humano | C9: Evaluación en sitio: Entrevistas | D9: De Mercado
B10: Eventos naturales | C10: Evaluación en sitio: Evaluación de registros y Entrevistas | D10: Ambiental
B11: Circunstancias Políticas | C11: Evaluación remota: Evaluación Documental | D11: Tecnológico
B12: Aspectos Tecnológicos o Técnicos | C12: Evaluación en remota: Evaluación de registros | D12: Físico
B13: Actividades Administrativas y Controles de proceso | C13: Evaluación en remota: Entrevistas | D13: SISO
B14: Personas Maliciosas | C14: Evaluación en remota: Entrevistas | D14: Seguridad de la Información
B15: Imparcialidad | C15: Visitas no anunciadas
