Workbook

Sheet INSTRUCTIVO
C2: INSTRUCCIONES PARA DILIGENCIAR EL FORMATO DE SEGUIMIENTO A LA IMPLEMENTACIÓN DEL PLAN DE PARTICIPACIÓN EN ENSAYOS DE APTITUD Y/O COMPARACIONES INTERLABORATORIOS POR PARTE DEL OEC (LABORATORIOS DE CALIBRACIÓN) | G2: Código: FR-3.3-28 Versión: 08 Fecha: 2025-07-17
B3: SECCIÓN 1 - ALCANCE DE ACREDITACIÓN: Transcriba el alcance de acreditación definido en el formato FR-3.0-02. En la columna "GRUPO DE INSTRUMENTOS APLICABLE (según Anexo A de la GU-3.0-03)" registre el grupo de instrumentos aplicable al instrumento a calibrar según el Anexo A "Distribución definida para el esquema de acreditación de laboratorios de calibración: áreas de la metrología, códigos de magnitudes, magnitudes, métodos de calibración y grupos de instrumentos" de la Guía para la expresión de alcances de acreditación esquema de laboratorios de calibración, GU-3.0-03. Por ejemplo: En la columna "FRECUENCIA DE PARTICIPACIÓN SEGÚN ANÁLISIS DE RIESGOS" registre la frecuencia que definió el OEC según la evaluación de riesgos (numeral 7.3 del CEA-3.0-04 versión 4).
B5: SECCIÓN 2 - PLAN DE ENSAYOS DE APTITUD: Defina el Plan de ensayos de aptitud para el periodo de vigencia de la acreditación de acuerdo con lo establecido en la Política para la participación en ensayos de aptitud (EA) en Laboratorios. Para tal fin: *Escriba los años en forma consecutiva (una columna por año), que cubran por lo menos un periodo de vigencia de acreditación. Si es para otorgamiento, escriba adicionalmente, un año anterior a la fecha de solicitud. Si es para renovación, proyecte adicionalmente el periodo a renovar. *Marque con una X el año en que plantea participar por cada ensayo. *Si va a cubrir con un ensayo de aptitud de un equipo o instrumento a calibrar, la participación en ensayos de aptitud o comparaciones interlaboratorios distintas a ensayos de aptitud para los demás del mismo grupo de instrumentos, del mismo método y magnitud, coloree la celda correspondiente a los equipos/instrumentos que van a quedar cubiertos, y marque la celda de año con la letra C
B6: SECCIÓN No. 3 DESVIACIONES AL PLAN Y RESPECTIVA JUSTIFICACIÓN (según numeral 7.4 del CEA-3.0-04 V5): Según el numeral 7.4 del CEA-3.0-04 versión 5 las desviaciones al plan deben estar documentadas y sustentadas y esto será objeto de evaluación. En esta sección debe documentar lo mencionado.
B7: SECCIÓN 4 - RESULTADOS OBTENIDOS EN LOS ENSAYOS DE APTITUD (EA) O COMPARACIONES INTERLABORATORIOS DISTINTAS A ENSAYOS DE APTITUD (CILD): Registre los resultados obtenidos de ensayos de aptitud o comparaciones interlaboratorios distintas a ensayos de aptitud, para tal fin, extraiga los datos de la información correspondiente al código de participante y al informe final entregado por el Proveedor de EA o CILD. Si en el ensayo de aptitud o CILD se midieron varios puntos, registre los resultados del indidicador de desempeño (cuando aplique), uno debajo del otro, sin insertar filas adicionales. Ejemplo: Punto En 10 psi: 1,40 20 psi: 0,90 En la columna "PROVEEDOR DE EA O CILD (Según pirámide jerárquica definida en el numeral 7.1 del CEA-3.0-04 v5)" registre el nombre del proveedor del EA o CILD. En la columna "TIPO DE PROVEEDOR SEGÚN PIRÁMIDE JERÁRQUICA (Opción 1 a 3 del numeral 7.1 del CEA-3.0-04 v5)" registre la opción en la que participó de la jerarquía presentada en el numeral 7.1 del CEA-3.0-04 v5. Es importante recordar que las opciones 7.1.1 a 7.1.3 deben agotarse de manera estricta y jerárquica.
B8: SECCIÓN 5 - PLAN DE ACCION (SEGÚN APLIQUE): Si obtuvo resultados de desempeño no satisfactorios o cuestionables en un EA o CILD, registrar la información correspondiente a lo establecido en el numeral 7.7.1.1 del CEA-3.0-04 versión 5.
B9: MANTENGA ACTUALIZADO A ONAC CON RESPECTO A LA PARTICIPACIÓN EN EA O CILD Y ENVIE LOS PLANES DE ACCIÓN CORRESPONDIENTES ASÍ COMO LAS GESTIONES ADELANTADAS PARA UNA NUEVA PARTICIPACIÓN EN ENSAYOS DE APTITUD DENTRO DE LOS PLAZOS ESTABLECIDOS.

Sheet LABORATORIOS DE CALIBRACIÓN
C1: SEGUIMIENTO A LA IMPLEMENTACIÓN DEL PLAN DE PARTICIPACIÓN EN ENSAYOS DE APTITUD Y/O COMPARACIONES INTERLABORATORIOS POR PARTE DEL OEC (LABORATORIOS DE CALIBRACIÓN) | AE1: Código: FR-3.3-28 Versión: 08 Fecha: 2025-07-17
A3: LABORATORIOS DE CALIBRACIÓN | U3: FECHA DE DILIGENCIAMIENTO
A5: RAZÓN SOCIAL | G5: IDENTIFICACIÓN DEL LABORATORIO (si aplica) | L5: ACREDITADO (SÍ/NO) | U5: CÓDIGO DE ACREDITACIÓN
A7: DIRECCIÓN DEL LABORATORIO | F7: CIUDAD | L7: DIRECTOR(A) TÉCNICO(A) LABORATORIO | U7: CORREO ELECTRÓNICO | Y7: TELÉFONO CELULAR/FIJO
A9: FECHA DE OTORGAMIENTO | C9: FECHA DE RENOVACIÓN | E9: FECHA DE VENCIMIENTO | G9: CICLO ACTUAL
A11: SECCIÓN 1: ALCANCE ACREDITACIÓN | H11: SECCIÓN 2 PLAN DE PARTOCIPACIÓN EN ENSAYOS DE APTITUD Y/O COMPARACIONES INTERLABORATORIOS DISTINTAS A ENSAYOS DE APTITUD | N11: SECCIÓN No. 3 DESVIACIONES AL PLAN Y RESPECTIVA JUSTIFICACIÓN (según numeral 7.4 del CEA-3.0-04) | P11: SECCIÓN No. 4: RESULTADOS OBTENIDOS EN LOS ENSAYOS DE APTITUD (EA) Y/O COMPARACIONES INTERLABORATORIOS DISTINTAS A ENSAYOS DE APTITUD (CILD) | AD11: SECCIÓN No. 5 PLAN DE ACCION (SEGÚN APLIQUE) | AN11: SI(Acción correctiva) | AO11: SI
A12: CÓDIGO DE LA MAGNITUD | B12: MAGNITUD | C12: SEDE | D12: MÉTODO DE CALIBRACIÓN | E12: INSTRUMENTO A CALIBRAR | F12: GRUPO DE INSTRUMENTOS APLICABLE (según Anexo A de la GU-3.0-03) | G12: FRECUENCIA DE PARTICIPACIÓN SEGÚN ANÁLISIS DE RIESGOS | H12: AÑO | I12: AÑO | J12: AÑO | K12: AÑO | L12: AÑO | M12: AÑO | N12: DESVIACIÓN | O12: SUSTENTO O JUSTIFICACIÓN DE LA DESVIACIÓN AL PLAN DE PARTICIPACIÓN EN EA Y/O CILD | P12: PROVEEDOR DE EA O CILD (Según pirámide jerárquica definida en el numeral 7.1 del CEA-3.0-04) | Q12: TIPO DE PROVEEDOR SEGÚN PIRÁMIDE JERÁRQUICA (Opción 1 a 3 del numeral 7.1 del CEA-3.0-04) | R12: CÓDIGO ASIGNADO AL PARTICIPANTE DE EA Y/O CILD (si aplica) | S12: ÍTEM DE ENSAYO DE APTITUD Y/O CILD | T12: FECHA DEL INFORME FINAL DE PARTICIPACIÓN | U12: NÚMERO Y/O IDENTIFICACIÓN DEL INFORME FINAL DE PARTICIPACIÓN | V12: RESULTADOS DE EA O CILD DEL LABORATORIO | AA12: NO HAY OFERTA DE EA O CILD | AD12: REQUIERE PLAN DE ACCIÓN | AE12: FECHA ENVÍO PLAN DE ACCION A ONAC | AF12: FECHA ENTREGA EVIDENCIAS NUEVA PARTICIPACIÓN | AN12: SI(Acción preventiva) | AO12: NO
V13: ESTADÍSTICO APLICADO POR EL PROVEEDOR DE EA Y/O CILD | W13: VALOR DE REFERENCIA DEL ESTADÍSTICO | X13: RESULTADO DEL ESTADÍSTICO (cuando aplique) | Y13: CONCLUSIÓN DEL RESULTADO (cuando aplique) | Z13: OBSERVACIONES | AA13: ¿EL OEC CUENTA CON JUSTIFICACIÓN DE NO PARTICIPACIÓN EN EA Y/O CILD ACEPTADA POR ONAC? (SÍ/NO) | AB13: RADICADO RESPUESTA ONAC | AC13: FECHA RESPUESTA ONAC | AN13: NO | AO13: No Aplica
B14: =IF(A14="","",VLOOKUP(A14,'Listas desplegables'!$E$4:$F$93,2,FALSE))
B15: =IF(A15="","",VLOOKUP(A15,'Listas desplegables'!$E$4:$F$93,2,FALSE))
B16: =IF(A16="","",VLOOKUP(A16,'Listas desplegables'!$E$4:$F$93,2,FALSE))
B17: =IF(A17="","",VLOOKUP(A17,'Listas desplegables'!$E$4:$F$93,2,FALSE))
B18: =IF(A18="","",VLOOKUP(A18,'Listas desplegables'!$E$4:$F$93,2,FALSE))
B19: =IF(A19="","",VLOOKUP(A19,'Listas desplegables'!$E$4:$F$93,2,FALSE))
B20: =IF(A20="","",VLOOKUP(A20,'Listas desplegables'!$E$4:$F$93,2,FALSE))
B21: =IF(A21="","",VLOOKUP(A21,'Listas desplegables'!$E$4:$F$93,2,FALSE))
B22: =IF(A22="","",VLOOKUP(A22,'Listas desplegables'!$E$4:$F$93,2,FALSE))
B23: =IF(A23="","",VLOOKUP(A23,'Listas desplegables'!$E$4:$F$93,2,FALSE))
B24: =IF(A24="","",VLOOKUP(A24,'Listas desplegables'!$E$4:$F$93,2,FALSE))
B25: =IF(A25="","",VLOOKUP(A25,'Listas desplegables'!$E$4:$F$93,2,FALSE))
... B71: =IF(A71="","",VLOOKUP(A71,'Listas desplegables'!$E$4:$F$93,2,FALSE))

Sheet Listas desplegables
A1: Listas desplegables
A2: SÍ | B2: TRES (3) AÑOS | E2: CÓDIGOS NUEVOS
A3: NO | B3: CINCO (5) AÑOS | E3: CÓDIGOS | F3: MAGNITUDES
E4: DA1 | F4: Presión y frecuencia acústica
A5: MENSUAL | E5: DA2 | F5: Intensidad y velocidad acústica
A6: BIMESTRAL | E6: DA3 | F6: Impedancia acústica
A7: TRIMESTRAL | E7: DA4 | F7: Potencia acústica (ultrasonido)
A8: SEMESTRAL | E8: DA5 | F8: Vibración
A9: ANUAL | E9: DB1 | F9: Concentración de sustancia/ Fracción de cantidad
A10: BIENAL | E10: DB2 | F10: Conductividad
A11: TRIENAL | E11: DB3 | F11: Potencial de Hidrógeno - pH
A12: CUATRIENAL | E12: DC1 | F12: Ángulo
A13: QUINQUENAL | E13: DC2 | F13: Formas (cilíndricas, esféricas, otras formas, paralelismo, parámetros de roscas, perpendicularidad, planitud, rectitud, redondez)
E14: DC3 | F14: Longitud
E15: DC4 | F15: Rugosidad
A16: Opción 1 | E16: DC5 | F16: Tamaño de partícula (granulometría)
A17: Opción 2.a | E17: DC6 | F17: Mediciones geodésicas
A18: Opción 2.b
A19: Opción 3.a
A20: Opción 3.b | E20: DC7 | F20: Nivel
E21: DE1 | F21: Ángulo de fase
A22: Satisfactorio | E22: DE2 | F22: Capacitancia eléctrica
A23: No satisfactorio | E23: DE3 | F23: Energía
A24: Cuestionable | E24: DE4 | F24: Factor de disipación
E25: DE5 | F25: Impulsos de alta tensión
E26: DE6 | F26: Inductancia
E27: DE7 | F27: Corriente eléctrica C.A.
E28: DE8 | F28: Corriente eléctrica C.C.
E29: DE9 | F29: Potencia C.A.
E30: DE10 | F30: Potencia C.C.
E31: DE11 | F31: Transformación C.A./C.C. (Tensión y corriente eléctrica)
E32: DE12 | F32: Resistencia
E33: DE13 | F33: Tensión eléctrica C.A.
E34: DE14 | F34: Tensión eléctrica C.C.
E35: DE15 | F35: Transferencia de tensión C.A./C.C.
E36: DE16 | F36: Simulación eléctrica de temperatura
... E93: DJ4 | F93: Velocidad
