Workbook

Sheet FR-3.0-02
D1: ALCANCE DE ACREDITACIÓN LABORATORIO DE CALIBRACIÓN | O1: FR-3.0-02 Fecha: 2025-02-12 | S1: CUMPLE
S2: NO CUMPLE
O3: Versión 12 | S3: Código corresponde
S4: Código no corresponde
S5: Intervalo válido
A6: NOMBRE OEC | I6: TIPO DE EVALUACIÓN | S6: Intervalo no válido
S7: Incertidumbre coherente
A8: CÓDIGO ACREDITACIÓN | I8: FECHA ÚLTIMA MODIFICACIÓN | S8: Incertidumbre no coherente
S9: Documento vigente y aplicable
A10: DIRECCIÓN PRINCIPAL | I10: FECHA DE EVALUACIÓN | S10: Documento no vigente pero aplicable
S11: Documento vigente pero no aplicable
A12: ALCANCE INICIAL (SOLICITADO O ACREDITADO) | S12: Documento no vigente y no aplicable
A13: CÓDIGO (1) | B13: MAGNITUD (2) | C13: SEDE (3) | D13: INTERVALO DE MEDICIÓN (4) | E13: INCERTIDUMBRE EXPANDIDA DE MEDIDA (5) | F13: INSTRUMENTO A CALIBRAR (6) | G13: INSTRUMENTOS, EQUIPOS PATRONES UTILIZADOS (7) | H13: DOCUMENTO NORMATIVO (8) | I13: MÉTODO DE CALIBRACIÓN (9) | J13: NÚMERO DE CERTIFICADOS EMITIDOS ÚLTIMO AÑO (10) | K13: REVISIÓN DEL ALCANCE (11) (Espacio Reservado para ONAC - Ver instrucciones de diligenciamiento)
K14: a | L14: b | M14: c | N14: d | O14: Concepto Líder del equipo
B15: =IF(ISBLANK(A15),"",VLOOKUP(A15,'Listas desplegables'!$A$1:$B$88,2,FALSE))
B16: =IF(ISBLANK(A16),"",VLOOKUP(A16,'Listas desplegables'!$A$1:$B$88,2,FALSE))
B17: =IF(ISBLANK(A17),"",VLOOKUP(A17,'Listas desplegables'!$A$1:$B$88,2,FALSE))
B18: =IF(ISBLANK(A18),"",VLOOKUP(A18,'Listas desplegables'!$A$1:$B$88,2,FALSE))
B19: =IF(ISBLANK(A19),"",VLOOKUP(A19,'Listas desplegables'!$A$1:$B$88,2,FALSE))
B20: =IF(ISBLANK(A20),"",VLOOKUP(A20,'Listas desplegables'!$A$1:$B$88,2,FALSE))
A21: Notas: Registrar en este campo las notas que apliquen. La nota referente a la incertidumbre expandida de medida, factor de cobertura “k” y probabilidad de cobertura debe ser declarada en el alcance.
A23: ALCANCE AMPLIACIÓN (diligenciar solo en caso de que se solicite ampliación del alcance en el marco de una evaluación de seguimiento o reevaluación) | S23: Documento no vigente y no aplicable
A24: CÓDIGO (1) | B24: MAGNITUD (2) | C24: SEDE (3) | D24: INTERVALO DE MEDICIÓN (4) | E24: INCERTIDUMBRE EXPANDIDA DE MEDIDA (5) | F24: INSTRUMENTO A CALIBRAR (6) | G24: INSTRUMENTOS, EQUIPOS PATRONES UTILIZADOS (7) | H24: DOCUMENTO NORMATIVO (8) | I24: MÉTODO DE CALIBRACIÓN (9) | J24: NÚMERO DE CERTIFICADOS EMITIDOS ÚLTIMO AÑO (10) | K24: REVISIÓN DEL ALCANCE (11) (Espacio Reservado para ONAC - Ver instrucciones de diligenciamiento)
K25: a | L25: b | M25: c | N25: d | O25: Concepto Líder del equipo
B26: =IF(ISBLANK(A26),"",VLOOKUP(A26,'Listas desplegables'!$A$1:$B$88,2,FALSE))
B27: =IF(ISBLANK(A27),"",VLOOKUP(A27,'Listas desplegables'!$A$1:$B$88,2,FALSE))
B28: =IF(ISBLANK(A28),"",VLOOKUP(A28,'Listas desplegables'!$A$1:$B$88,2,FALSE))
B29: =IF(ISBLANK(A29),"",VLOOKUP(A29,'Listas desplegables'!$A$1:$B$88,2,FALSE))
B30: =IF(ISBLANK(A30),"",VLOOKUP(A30,'Listas desplegables'!$A$1:$B$88,2,FALSE))
B31: =IF(ISBLANK(A31),"",VLOOKUP(A31,'Listas desplegables'!$A$1:$B$88,2,FALSE))
A32: Notas: Registrar en este campo las notas que apliquen. La nota referente a la incertidumbre expandida de medida, factor de cobertura “k” y probabilidad de cobertura debe ser declarada en el alcance.
A34: ALCANCE MODIFICACIÓN
A35: DESCRIPCIÓN DE LAS MODIFICACIONES REALIZADAS:
A36: CÓDIGO (1) | B36: MAGNITUD (2) | C36: SEDE (3) | D36: INTERVALO DE MEDICIÓN (4) | E36: INCERTIDUMBRE EXPANDIDA DE MEDIDA (5) | F36: INSTRUMENTO A CALIBRAR (6) | G36: INSTRUMENTOS, EQUIPOS PATRONES UTLIZADOS (7) | H36: DOCUMENTO NORMATIVO (8) | I36: MÉTODO DE CALIBRACIÓN (9) | J36: REVISIÓN DEL ALCANCE (11) (Espacio Reservado para ONAC - Ver instrucciones de diligenciamiento)
J37: a | K37: b | L37: c | M37: d | N37: Concepto Líder del equipo
B38: =IF(ISBLANK(A38),"",VLOOKUP(A38,'Listas desplegables'!$A$1:$B$88,2,FALSE))
B39: =IF(ISBLANK(A39),"",VLOOKUP(A39,'Listas desplegables'!$A$1:$B$88,2,FALSE))
B40: =IF(ISBLANK(A40),"",VLOOKUP(A40,'Listas desplegables'!$A$1:$B$88,2,FALSE))
B41: =IF(ISBLANK(A41),"",VLOOKUP(A41,'Listas desplegables'!$A$1:$B$88,2,FALSE))
B42: =IF(ISBLANK(A42),"",VLOOKUP(A42,'Listas desplegables'!$A$1:$B$88,2,FALSE))
B43: =IF(ISBLANK(A43),"",VLOOKUP(A43,'Listas desplegables'!$A$1:$B$88,2,FALSE))
A44: Notas: Registrar en este campo las notas que apliquen. La nota referente a la incertidumbre expandida de medida, factor de cobertura “k” y probabilidad de cobertura debe ser declarada en el alcance.
A46: ALCANCE FINAL EVALUACIÓN (PROPUESTO)
A47: CÓDIGO (1) | B47: MAGNITUD (2) | C47: SEDE (3) | D47: INTERVALO DE MEDICIÓN (4) | E47: INCERTIDUMBRE EXPANDIDA DE MEDIDA (5) | F47: INSTRUMENTO A CALIBRAR (6) | G47: INSTRUMENTOS, EQUIPOS PATRONES UTILIZADOS (7) | H47: DOCUMENTO NORMATIVO (8) | I47: MÉTODO DE CALIBRACIÓN (9) | J47: REVISIÓN DEL ALCANCE (11) (Espacio Reservado para ONAC - Ver instrucciones de diligenciamiento)
J48: a | K48: b | L48: c | M48: d | N48: Concepto Líder del equipo
B49: =IF(ISBLANK(A49),"",VLOOKUP(A49,'Listas desplegables'!$A$1:$B$88,2,FALSE))
B50: =IF(ISBLANK(A50),"",VLOOKUP(A50,'Listas desplegables'!$A$1:$B$88,2,FALSE))
B51: =IF(ISBLANK(A51),"",VLOOKUP(A51,'Listas desplegables'!$A$1:$B$88,2,FALSE))
B52: =IF(ISBLANK(A52),"",VLOOKUP(A52,'Listas desplegables'!$A$1:$B$88,2,FALSE))
B53: =IF(ISBLANK(A53),"",VLOOKUP(A53,'Listas desplegables'!$A$1:$B$88,2,FALSE))
B54: =IF(ISBLANK(A54),"",VLOOKUP(A54,'Listas desplegables'!$A$1:$B$88,2,FALSE))
A55: Notas: Registrar en este campo las notas que apliquen. La nota referente a la incertidumbre expandida de medida, factor de cobertura “k” y probabilidad de cobertura debe ser declarada en el alcance.
A57: REPRESENTANTE DEL OEC ANTE ONAC | H57: FIRMA | M57: FECHA
A58: NOMBRE LÍDER DEL EQUIPO DE EVALUACIÓN ONAC | H58: FIRMA | M58: FECHA
A59: NOMBRE EXPERTO TÉCNICO/EXPERTO EVALUADOR | H59: FIRMA | M59: FECHA
A60: NOMBRE EXPERTO TÉCNICO/EXPERTO EVALUADOR | H60: FIRMA | M60: FECHA
A61: NOTA: La firma del alcance permite a ONAC evidenciar que este fue previamente revisado por el Equipo Evaluador y el OEC durante la evaluación. La firma de este registro indica que las partes están informadas, pero no se constituye como una aceptación de la recomendación del equipo evaluador. El Comité de Acreditación revisará y podrá solicitar aclaraciones y, si se requiere, ajustes de los campos relacionados en la sección "ALCANCE FINAL EVALUACIÓN (PROPUESTO). Será el Comité de Acreditación el que tomará la decisión respecto al estado de la acreditación según lo indica el Procedimiento de toma de decisión sobre la acreditación de organismos evaluadores de la conformidad (PR-3.4-01) vigente.

Sheet Instrucciones diligenciamiento 
C1: INSTRUCCIONES PARA DIILIGENCIAR EL ALCANCE DE ACREDITACIÓN | F1: FR-3.0-02 Fecha: 2025-02-12 Versión 12 | T1: CODIGOS NUEVOS
B2: Para evaluaciones de otorgamiento y de ampliación, el OEC debe diligenciar el formato de alcance, con excepción de la sección 11 REVISIÓN DEL ALCANCE, que queda reservada para ONAC. Para evaluaciones de seguimiento y reevaluación, ONAC es responsable del diligenciamiento del alcance en su totalidad. Relacione con exactitud y sin ambigüedades las actividades de calibración para las cuales solicita la acreditación o ampliación.
B3: Observaciones: 1. El alcance debe contener los términos del Diccionario de la lengua española de la Real Academia Española - RAE, sin incluir marcas registradas. 2. Si se requiere la traducción del alcance, esta debe estar respaldada por una traducción oficial. 3. Especificar el alcance por cada sede que pertenece al laboratorio, (cuando aplique). Lo anterior no implica generar varios archivos, sino distinguir cada sede diligenciando el campo denominado de esta forma. 4. El símbolo decimal que ONAC adopta para expresar los valores numéricos es la coma (,), por lo que en la expresión del alcance este es el símbolo que se emplea para separar la parte entera de los números de la parte decimal. 5. En la sección ALCANCE INICIAL (SOLICITADO O ACREDITADO) se debe relacionar el alcance objeto de evaluación (usualmente corresponde al alcance publicado en el Directorio Oficial de Acreditados - DOA). Para procesos de otorgamiento debe ser el alcance diligenciado tal cual por el OEC en Sistema de Información de Prestación del Servicio de ONAC (SIPSO). Para evaluaciones de seguimiento, extraordinarias ampliación y reevaluación en este registro se debe relacionar únicamente el alcance relacionado con las magnitudes objeto de evaluación, es decir, aquellas incluidas en la notificación del servicio. 6. En la seccion ALCANCE AMPLIACIÓN corresponde al alcance solicitado en SIPSO tal y como fue aprobado en la revisión de la solicitud (si aplica). 7,En la sección ALCANCE MODIFICACIÓN se deben relacionar de manera especifica todos los cambios generados frente al ALCANCE INICIAL (SOLICITADO O ACREDITADO o ALCANCE AMPLIACIÓN según corresponda. Los cambios deben estar claramente identificados, resaltar la celda con algún color y si se agrega algún caracter, cambiar el color de la letra para destacar lo qué se modificó, por ejemplo: 8. En la sección ALCANCE FINAL EVALUACIÓN (PROPUESTO) se debe registrar el alcance resultado de la evaluación con los ajustes propuestos si aplican. Los cambios deben estar claramente identificados, resaltar la celda con algún color y si se agrega algún caracter, cambiar el color de la letra para destacar qué se agregó. Por ejemplo: | T3: CODIGOS | U3: MAGNITUD
T5: DA1 | U5: Presión y frecuencia acústica
B7: 9, Si es una evaluación solo de AMPLIACIÓN en la sección ALCANCE INICIAL (SOLICITADO O ACREDITADO) no registre información. Incluya el alcance a ampliar solicitado por el OEC en la sección ALCANCE AMPLIACIÓN, y en la sección ALCANCE FINAL EVALUACIÓN (PROPUESTO) relacione solo el alcance que fue objeto de evaluación. 10. Si es una evaluación regular (seguimiento o reevaluación) junto con un evaluación de ampliación en la sección ALCANCE INICIAL (SOLICITADO O ACREDITADO) registre el alcance acreditado a la fecha de la evaluación y publicado en el DOA, en la sección ALCANCE AMPLIACIÓN registre solo el alcance a ampliar y en la sección ALCANCE FINAL EVALUACIÓN (PROPUESTO) registre tanto el alcance acreditado como el alcance a ampliar. 11. Tener presente que las recomendaciones del equipo evaluador deben quedar registradas de manera clara y específica en el informe final de evaluación.
B8: Notas que se deben colocar al pie del alcance, en caso que apliquen: 1. La incertidumbre expandida de medición declarada se expresa como la incertidumbre de medición estándar multiplicada por el factor de cobertura k, de modo que la probabilidad de cobertura corresponde a aproximadamente el 95 % (sin excepción, esta nota o una redacción similar debe ser declarada en el alcance). 2. Para calibración de instrumentos de pesaje, se debe referir a “d” como división de escala. 3. Para calibración en el área dimensional, se debe referir a “l” como longitud en metros. 4. Para la expresión de incertidumbre expandida de medida expresada en forma de ecuación, el laboratorio debe identificar el significado de cada variable y constante. 5. Será optativo de cada laboratorio colocar las notas adicionales que se requieran para dar claridad al alcance. *CMC: Capacidad de medición y calibración (Ver Política ILAC P14:09/2020 para Incertidumbre de medición en Calibración).
B9: (1) CÓDIGO | T9: DA2 | U9: Intensidad y velocidad acústica
B10: Desplegar las casillas y elegir el código de la magnitud que ONAC ha definido para identificar las magnitudes del esquema de acreditación de laboratorios de calibración. Estos códigos de las magnitudes pueden ser consultados en el Anexo A de la Guía para la expresión de alcances de acreditación esquema laboratorios de calibración, GU-3.0-03, o en la sección 2 del Sistema de Información de Prestación del Servicio de ONAC (SIPSO) https://sipso.onac.org.co/sipso/. | T10: DA3 | U10: Impedancia acústica
B11: (2) MAGNITUD | T11: DA4 | U11: Potencia acústica (ultrasonido)
B12: Desplegar las casillas y elegir la magnitud, para la actividad de calibración acreditada o en proceso de acreditación Por favor no modificar, ni incluir especificaciones dentro de la descripción de la magnitud. | T12: DA5 | U12: Vibración
B13: (3) SEDE CALIBRACIÓN | T13: DB1 | U13: Concentración de sustancia/ Fracción de cantidad
B14: Indicar los lugares donde el OEC realiza las actividades de calibración incluidas en su alcance de acreditación o en proceso de acreditación: Sede: aplica cuando el laboratorio realiza las actividades de calibración en la sede permanente o fija del mismo. Indicar dirección completa, ciudad o municipio, departamento y país conforme a la información que figura en el certificado de existencia y representación legal. Unidad móvil: aplica cuando el laboratorio realiza las actividades de calibración en instalaciones móviles del mismo. Sitio: aplica cuando el laboratorio realiza las actividades de calibración en las instalaciones del cliente. Es importante tener en cuenta que, si el laboratorio realiza las actividades de calibración para un mismo alcance en sede y en sitio, se expresa el alcance de la siguiente forma: - se relaciona en el alcance haciendo la distinción por sede y por sitio, o -se relaciona en el alcance únicamente en sitio y se incluye la siguiente nota en la correspondiente sección (notas aclaratorias del alcance): “La sede permanente del laboratorio se considera uno de los posibles sitios de calibración”. Nota: las sedes de las actividades de calibración son objeto de evaluación, por lo tanto, cualquier opción de expresión del alcance que se emplee es el resultado del proceso de evaluación y toma de decisión. | T14: DB2 | U14: Conductividad
B15: (4) INTERVALO DE MEDICIÓN | T15: DB3 | U15: Potencial de Hidrógeno - pH
B16: Para cada magnitud, se deben indicar el (los) intervalo(s) que cubre la actividad de calibración o los puntos fijos asociados. Se deberán delimitar el(los) intervalo(s) cubierto(s) evitando duplicidad o traslape. Se deben utilizar las unidades del Sistema Internacional (SI). Para la expresión de intervalos, por favor tener en cuenta las siguientes indicaciones: a) No es necesario utilizar paréntesis ni guiones, estos solo se utilizarán si, adicional a las unidades del SI, se requiere el uso de unidades que no hacen parte del mismo sistema. Hay magnitudes para las cuales el intervalo de medición se expresa en unidades de otro sistema, para estos casos el intervalo de medición se expresa sin paréntesis y usando las unidades que correspondan. b) Registrar las unidades de medida a continuación de cada valor, dejando un espacio entre el valor y la unidad de medida. c) Utilizar unidades del Sistema Internacional de Unidades. d) Si se expresan valores en porcentaje (%), indicar a qué está referido. e) Para denotar el intervalo de medición se usa la notación en términos de desigualdades, usando para tal fin los signos que se requieran, tales como <, >, ≤, ≥; o haciendo uso de la preposición “a” (ejemplo: 10 °C a 50 °C). Los intervalos se delimitan evitando duplicidad o traslape. Con el uso de los símbolos, para el caso en donde el intervalo se exprese en términos de desigualdades, se podrán emplear valores nominales, por ejemplo: 20.1 mm ≤ l ≤ 50.1 mm se podrá expresar como 20 mm ≤ l ≤ 50 mm. Cabe aclarar que el equipo evaluador, durante la evaluación, se asegura que los valores que pertenecen al intervalo de medición tienen trazabilidad metrológica al SI. f) Si se hace uso de los prefijos para la formación de los múltiplos y submúltiplos de las unidades del SI, la selección de los prefijos se hace de tal manera que los valores numéricos que le antecedan se sitúen entre 0,1 y 1000. Los prefijos se escriben en caracteres romanos (rectos), así como los símbolos de las unidades, independientemente del tipo de letra del texto adyacente, y se unen a los símbolos de las unidades sin dejar espacio entre el símbolo del prefijo y el de la unidad. Cuando esto no sea posible, se pueden registrar los valores de los extremos de los intervalos de medición como potencias de 10, usando para tal fin la notación Y x 10z (“Y” es un número real y, “x” es el signo de multiplicación, “z” es la potencia y puede tomar valores positivos o negativos). Por ejemplo, 2 x 10-2 y no como 2 E-2 ó 2 X 10 -2. g) Para facilitar la lectura de números con varios dígitos, deben ser separados en grupos de tres, contando del signo decimal a la derecha y a la izquierda. Los grupos deben ser separados por un espacio, sin usar coma, punto u otro medio; para los números de cuatro cifras, se puede omitir ese espacio. | T16: DC1 | U16: Ángulo
B17: Ejemplo correcto: 15 mg ≤ m ≤ 1000 mg Ejemplo incorrecto: (15 - 1000) mg Ejemplo correcto: 20 °C < t ≤ 100 °C 100 °C < t ≤ 200 °C Ejemplo incorrecto: 20 °C a 100 °C 100,1 °C a 200 °C Ejemplo correcto: 20,68 MPa < p ≤ 34,47 MPa Ejemplo incorrecto: 20 684 kPa a 34 473 kPa (Utilizar las unidades de medida que impliquen el uso de la menor cantidad de cifras) Ejemplo correcto: 20,68 MPa < p ≤ 34,47 MPa Ejemplo incorrecto: 20684 kPa a 34473 kPa (Utilizar las unidades de medida que impliquen el uso de la menor cantidad de cifras) | T17: DC2 | U17: Formas (cilíndricas, esféricas, otras formas, paralelismo, parámetros de roscas, perpendicularidad, planitud, rectitud, redondez)
B18: (5) INCERTIDUMBRE EXPANDIDA DE MEDIDA | T18: DC5 | U18: Tamaño de partícula (granulometría)
B19: Esta incertidumbre corresponde a la evaluada para definir la capacidad de medición y calibración (CMC); los laboratorios acreditados o en proceso de acreditación deben tener en cuenta la Política ILAC P14:09/2020 y pueden emplear cualquiera de las alternativas propuestas en el numeral 4.2 de la misma, para la expresión de la incertidumbre expandida de medida Si la forma por la cual el OEC ha optado para expresar la incertidumbre es la de un único valor válido para todo el intervalo de medición, se registra dicho valor para cada intervalo correspondiente, siguiendo las consideraciones de escritura dadas en el numeral anterior y sin hacer uso del símbolo ±. La incertidumbre se reporta con un máximo de dos cifras significativas. Si la forma por la cual el OEC ha optado para expresar la incertidumbre es la de una ecuación, se registra dicha expresión para cada intervalo correspondiente, indicando las unidades en que se debe registrar el término independiente y las unidades de la ecuación (si aplica), asegurando la consistencia dimensional y sin hacer uso del símbolo ±. Por ejemplo, para la magnitud presión, una ecuación de primer orden del tipo U = m·p + b o de segundo orden del tipo U = a· p2 + b· p + c, donde U corresponde a la incertidumbre expandida de la medida en kPa y p es el valor medido de presión en kPa. La expresión de las unidades de medida de la incertidumbre se realiza con base en la guía de uso del (SI): Guide for the Use of the International System of Units (SI) - NIST Special Publication 811, 2008 Edition. Nota: Si las menores incertidumbres que puede obtener un laboratorio para calibraciones en sitio o laboratorio móvil son diferentes de las obtenidas en laboratorio permanente, se deben expresar todas en filas diferentes. Si en caso contrario, son iguales, debe diligenciar la tabla con "X" donde identifica calibraciones en sitio, en laboratorio permanente o móvil. | T19: DC6 | U19: Mediciones geodésicas
B20: (6) INSTRUMENTO A CALIBRAR | T20: DC3 | U20: Longitud
... B31: A continuación se relacionan los aspectos que el Experto técnico debe verificar durante la revisión del alcance en Etapa 1 y la verificación que debe realizar en Etapa 2; para cada aspecto hay una lista desplegable, así: a) Verificar que el código asignado corresponda a la magnitud según el Listado 1 “Códigos de ámbito de calibración” que se presenta al final del formulario de solicitud para acreditación de laboratorios de calibración FR-3.2-02. Opciones de lista desplegable: Código corresponde / Código no corresponde. b) Identificar la validez de los intervalos de medición los cuales deben ser demostrados a través de los patrones que posee el laboratorio, las confirmaciones/verificaciones/validaciones de los métodos y los alcances de los documentos normativos. Opciones de lista desplegable: Intervalo válido / Intervalo no válido. c) Incertidumbre expandida de medida: verificar que este valor sea coherente con el Instituto o Laboratorio que ofrece la trazabilidad de las mediciones. Opciones de lista desplegable: Incertidumbre coherente / Incertidumbre no coherente. d) Verificar que los documentos normativos indiquen fecha y versión, que estén actualizados y que apliquen al tipo de instrumento a calibrar. Opciones de lista desplegable: Documento vigente y aplicable / Documento no vigente pero aplicable / Documento vigente pero no aplicable / Documento no vigente y no aplicable. Una vez el Experto técnico ha diligenciado la información anterior, el Líder de equipo debe registrar para cada magnitud si "CUMPLE" o "NO CUMPLE", tanto en Etapa 1 como en Etapa 2 y de esta forma evidenciar la revisión del alcance en cada etapa de la evaluación. | T31: DE9 | U31: Potencia C.A.
T32: DE10 | U32: Potencia C.C
T33: DE11 | U33: Transformación C.A./C.C. (Tensión y corriente eléctrica)
T34: DE12 | U34: Resistencia
T35: DE13 | U35: Tensión eléctrica C.A.
T36: DE14 | U36: Tensión eléctrica C.C
T37: DE15 | U37: Transferencia de tensión C.A./C.C.
T38: DE16 | U38: Simulación eléctrica de temperatura
T39: DE17 | U39: Densidad del flujo electrónico
T40: DE18 | U40: Inducción magnética
T41: DE19 | U41: Propiedades de materiales electrónicos (permeabilidad, pérdidas magnéticas)
T42: DE20 | U42: Potencia en RF (atenuación)
T43: DE21 | U43: Potencia en RF (parámetros de dispersión, coeficiente de reflexión, coeficiente de transmisión)
... T86: DK3 | U86: Volumen (Medidores de agua)

Sheet Listas desplegables
A1: DA1 | B1: Presión y frecuencia acústica | D1: Inicial | E1: Código corresponde | F1: Intervalo válido | G1: Incertidumbre coherente | H1: Documento vigente y aplicable | I1: CUMPLE
A2: DA2 | B2: Intensidad y velocidad acústica | D2: Seguimiento | E2: Código no corresponde | F2: Intervalo no válido | G2: Incertidumbre no coherente | H2: Documento no vigente pero aplicable | I2: NO CUMPLE
A3: DA3 | B3: Impedancia acústica | D3: Reevaluación | H3: Documento vigente pero no aplicable
A4: DA4 | B4: Potencia acústica (ultrasonido) | D4: Reevaluación+Ampliación | H4: Documento no vigente y no aplicable
A5: DA5 | B5: Vibración | D5: Ampliación
A6: DB1 | B6: Concentración de sustancia/fracción de cantidad | D6: Extraordinaria
A7: DB2 | B7: Conductividad | D7: Reevaluación+Ampliación
A8: DB3 | B8: Potencial de hidrógeno - pH | D8: Seguimiento+Ampliación
A9: DC1 | B9: Ángulo
A10: DC2 | B10: Formas (cilíndricas, esféricas, otras formas, paralelismo, parámetros de roscas, perpendicularidad, planitud, rectitud, redondez)
A11: DC3 | B11: Longitud
A12: DC4 | B12: Rugosidad
A13: DC5 | B13: Tamaño de partícula (granulometría)
A14: DC6 | B14: Mediciones geodésicas
A15: DC7 | B15: Nivel
A16: DD1 | B16: Actividad de fuentes radiactivas
A17: DD2 | B17: Dosimetría a nivel de radioprotección - Tasa de Kerma en aire, Kerma en aire
A18: DD3 | B18: Magnitudes radiométricas
A19: DD4 | B19: Dosimetría a nivel de radioprotección - Tasa de dosis equivalente personal, dosis equivalente personal
A20: DD5 | B20: Dosimetría - Exposición, tasa de exposición
... A88: DK3 | B88: Volumen (Medidores de agua)
