Workbook
Name Excel_BuiltIn__FilterDatabase_3: #REF!
Name Excel_BuiltIn__FilterDatabase_3: #REF!
Name Excel_BuiltIn__FilterDatabase_3: #REF!

Sheet Matriz de riesgo CSG
E2: MATRIZ DE RIESGOS ORGANISMOS DE CERTIFICACIÓN SISTEMAS DE GESTIÓN | S2: Anexo H_ PR-3.3-01 Versión 03 Fecha. 2022-11-09
E3: PROCESO | F3: Organismos Certificadores de Sistemas de Gestión | H3: Objetivo | I3: Proporcionar confianza a todas las partes interesadas en que un sistema de gestión cumple los requisitos especificados
B5: No | C5: ACTIVIDAD / REQUISITO | D5: REQUISITO RELACIONADO DE ISO/IEC 17021-1 | E5: IDENTIFICACIÓN DEL RIESGO | L5: ANÁLISIS DE RIESGO | P5: EVALUACIÓN DE RIESGO | R5: TÉCNICA DE EVALUACIÓN
L6: Consecuencias Áreas de Impacto | N6: Ocurrencia
E7: Fuente del Riesgo | F7: Evento | G7: Efecto / Consecuencia / impacto | H7: Causa / Debilidad (por que puede ocurrir) | I7: Promedio de No Conformidades en el periodo | J7: Eventos (quejas, apelaciones o sanciones contra los OEC | K7: Tipo de Riesgo | L7: Confianza en la Evaluación | M7: Calidad / Imagen | N7: No conformidades | O7: Quejas o apelaciones | P7: Nivel de riesgo | Q7: Clasificación Riesgo | R7: Tipo de técnica de evaluación 17011 | S7: Etapa de evaluación
B8: 1 | C8: Responsabilidad legal | D8: 5.1.1 | E8: Normatividad y Regulación | F8: Organismo de certificación pierde su estatus legal o incumple requisitos de habilitación (si aplican) | G8: Incumplimiento de requisitos de acreditación | H8: Falta de control de cumplimiento de requisitos legales | I8: ='Promedio NC'!C5/'Promedio NC'!$C$3 -> 0 | J8: =SUM(Eventos!C4+Eventos!F4+Eventos!I4) -> 0 | K8: Estratégico | L8: 1 | M8: 1 | N8: =IF(I8>=0.71,5,IF(I8>=0.51,4,IF(I8>=0.21,3,IF(I8>0,2,1)))) -> 1 | O8: 1 | P8: =(AVERAGE(L8:M8))*(AVERAGE(N8:O8)) -> 1 | Q8: =IF(P8>15,"Crítico",IF(P8>8,"Alto",IF(P8>4,"Medio","Bajo"))) -> Bajo | R8: Evaluación remota: Evaluación Documental | S8: Etapa 1 con confirmación en etapa 2
B9: 2 | C9: Acuerdo de certificación | D9: 5.1.2 | E9: Relaciones Comerciales y Contractuales | F9: Suscribir acuerdos contractuales con los clientes con requisitos ambiguos, incompletos o errados | G9: Quejas por incumplimiento contractual | H9: Falta de revisión de las condiciones contractuales | I9: ='Promedio NC'!C6/'Promedio NC'!$C$3 -> 0 | J9: =SUM(Eventos!C5+Eventos!F5+Eventos!I5) -> 0 | K9: De Mercado | L9: 3 | M9: 3 | N9: =IF(I9>=0.71,5,IF(I9>=0.51,4,IF(I9>=0.21,3,IF(I9>0,2,1)))) -> 1 | O9: 1 | P9: =(AVERAGE(L9:M9))*(AVERAGE(N9:O9)) -> 3 | Q9: =IF(P9>15,"Crítico",IF(P9>8,"Alto",IF(P9>4,"Medio","Bajo"))) -> Bajo | R9: Evaluación en sitio: Evaluación de registros | S9: Etapa 2
B10: 3 | C10: Responsabilidad por las decisiones de certificación | D10: 5.1.3 | E10: Normatividad y Regulación | F10: Subcontratación de la toma de decisión | G10: Incumplimiento de requisitos de acreditación | H10: Desconocimiento de los requisitos de acreditación | I10: ='Promedio NC'!C7/'Promedio NC'!$C$3 -> 0 | J10: =SUM(Eventos!C6+Eventos!F6+Eventos!I6) -> 0 | K10: De Mercado | L10: 1 | M10: 1 | N10: =IF(I10>=0.71,5,IF(I10>=0.51,4,IF(I10>=0.21,3,IF(I10>0,2,1)))) -> 1 | O10: 1 | P10: =(AVERAGE(L10:M10))*(AVERAGE(N10:O10)) -> 1 | Q10: =IF(P10>15,"Crítico",IF(P10>8,"Alto",IF(P10>4,"Medio","Bajo"))) -> Bajo | R10: Evaluación remota: Evaluación Documental | S10: Etapa 1 y confirmación en etapa 2
B11: 4 | C11: Gestión de imparcialidad | D11: 5.2 | E11: Actividades Administrativas y Controles de proceso | F11: Inadecuada identificación, análisis, valoración y tratamiento de riesgos de imparcialidad | G11: Incumplimiento de requisitos de acreditación | H11: Desconocimiento y fallas en metodología de gestión de riesgos Falta de participación de las partes interesadas | I11: ='Promedio NC'!C8/'Promedio NC'!$C$3 -> 0 | J11: =SUM(Eventos!C7+Eventos!F7+Eventos!I7) -> 0 | K11: De Mercado | L11: 3 | M11: 2 | N11: =IF(I11>=0.71,5,IF(I11>=0.51,4,IF(I11>=0.21,3,IF(I11>0,2,1)))) -> 1 | O11: 1 | P11: =(AVERAGE(L11:M11))*(AVERAGE(N11:O11)) -> 2.5 | Q11: =IF(P11>15,"Crítico",IF(P11>8,"Alto",IF(P11>4,"Medio","Bajo"))) -> Bajo | R11: Evaluación en sitio: Evaluación de registros | S11: Etapa 1 con confirmación en etapa 2
B12: 5 | C12: Gestión de imparcialidad | D12: 5.2 | E12: Relaciones Comerciales y Contractuales | F12: Presión de la alta dirección a los auditores para hacer mas fácil la certificación de sistema de gestión y no ser calificados como "demasiado exigentes" | G12: Incumplimiento de requisitos de imparcialidad, que pueden llevar a suspensión o pérdida de la acreditación | H12: Presión comercial y financiera Metas comerciales y sistemas de bonificación Debilidad en las políticas de imparcialidad del Organismo Mecanismo ineficaz para salvaguardar la imparcialidad | I12: ='Promedio NC'!C9/'Promedio NC'!$C$3 -> 0 | J12: =SUM(Eventos!C8+Eventos!F8+Eventos!I8) -> 0 | K12: Estratégico | L12: 5 | M12: 5 | N12: =IF(I12>=0.71,5,IF(I12>=0.51,4,IF(I12>=0.21,3,IF(I12>0,2,1)))) -> 1 | O12: 1 | P12: =(AVERAGE(L12:M12))*(AVERAGE(N12:O12)) -> 5 | Q12: =IF(P12>15,"Crítico",IF(P12>8,"Alto",IF(P12>4,"Medio","Bajo"))) -> Medio | R12: Evaluación en sitio: Evaluación de registros y Entrevistas | S12: Etapa 2
B13: 6 | C13: Gestión de imparcialidad | D13: 5.2 | E13: Relaciones Comerciales y Contractuales | F13: Permitir presiones de organismos relacionados que afecten actividades de auditoria y toma de decisión | G13: Incumplimiento de requisitos de imparcialidad, que pueden llevar a suspensión o pérdida de la acreditación | H13: Presión comercial y financiera Debilidad en las políticas de imparcialidad del Organismo Mecanismo ineficaz para salvaguardar la imparcialidad | I13: ='Promedio NC'!C10/'Promedio NC'!$C$3 -> 0 | J13: =SUM(Eventos!C9+Eventos!F9+Eventos!I9) -> 0 | K13: Estratégico | L13: 5 | M13: 5 | N13: =IF(I13>=0.71,5,IF(I13>=0.51,4,IF(I13>=0.21,3,IF(I13>0,2,1)))) -> 1 | O13: 1 | P13: =(AVERAGE(L13:M13))*(AVERAGE(N13:O13)) -> 5 | Q13: =IF(P13>15,"Crítico",IF(P13>8,"Alto",IF(P13>4,"Medio","Bajo"))) -> Medio | R13: Evaluación en sitio: Entrevistas | S13: Etapa 2
B14: 7 | C14: Gestión de imparcialidad | D14: 5.2 | E14: Personas Maliciosas | F14: Sobornos, chantajes, amenazas u otras actuaciones ilícitas que afecten la imparcialidad | G14: Incumplimiento de requisitos de imparcialidad, que pueden llevar a suspensión o pérdida de la acreditación | H14: Presión comercial y financiera Debilidad en las políticas de imparcialidad del Organismo Mecanismo ineficaz para salvaguardar la imparcialidad | I14: ='Promedio NC'!C11/'Promedio NC'!$C$3 -> 0 | J14: =SUM(Eventos!C10+Eventos!F10+Eventos!I10) -> 0 | K14: Estratégico | L14: 5 | M14: 5 | N14: =IF(I14>=0.71,5,IF(I14>=0.51,4,IF(I14>=0.21,3,IF(I14>0,2,1)))) -> 1 | O14: 1 | P14: =(AVERAGE(L14:M14))*(AVERAGE(N14:O14)) -> 5 | Q14: =IF(P14>15,"Crítico",IF(P14>8,"Alto",IF(P14>4,"Medio","Bajo"))) -> Medio | R14: Evaluación en sitio: Entrevistas | S14: Etapa 2
B15: 8 | C15: Gestión de imparcialidad | D15: 5.2 | E15: Actividades Administrativas y Controles de proceso | F15: Realizar actividades de capacitación en sistemas de gestión condicionando las actividades de certificación | G15: Incumplimiento de requisitos de imparcialidad, que pueden llevar a suspensión o pérdida de la acreditación | H15: Presión comercial y financiera Debilidad en las políticas de imparcialidad del Organismo Mecanismo ineficaz para salvaguardar la imparcialidad | I15: ='Promedio NC'!C12/'Promedio NC'!$C$3 -> 0 | J15: =SUM(Eventos!C11+Eventos!F11+Eventos!I11) -> 0 | K15: De Mercado | L15: 5 | M15: 5 | N15: =IF(I15>=0.71,5,IF(I15>=0.51,4,IF(I15>=0.21,3,IF(I15>0,2,1)))) -> 1 | O15: 1 | P15: =(AVERAGE(L15:M15))*(AVERAGE(N15:O15)) -> 5 | Q15: =IF(P15>15,"Crítico",IF(P15>8,"Alto",IF(P15>4,"Medio","Bajo"))) -> Medio | R15: Evaluación en sitio: Entrevistas | S15: Etapa 2
B16: 9 | C16: Gestión de imparcialidad | D16: 5.2 | E16: Normatividad y Regulación | F16: Ofrecer y/o Realizar actividades no permitidas como consultoría, auditorias internas, certificación de otros OEC, o subcontratación con empresas de consultoría | G16: Incumplimiento de requisitos de imparcialidad, que pueden llevar a suspensión o pérdida de la acreditación | H16: Desconocimiento de los requisitos de acreditación Falta de control de cumplimiento de requisitos | I16: ='Promedio NC'!C13/'Promedio NC'!$C$3 -> 0 | J16: =SUM(Eventos!C12+Eventos!F12+Eventos!I12) -> 0 | K16: Estratégico | L16: 5 | M16: 5 | N16: =IF(I16>=0.71,5,IF(I16>=0.51,4,IF(I16>=0.21,3,IF(I16>0,2,1)))) -> 1 | O16: 1 | P16: =(AVERAGE(L16:M16))*(AVERAGE(N16:O16)) -> 5 | Q16: =IF(P16>15,"Crítico",IF(P16>8,"Alto",IF(P16>4,"Medio","Bajo"))) -> Medio | R16: Evaluación en sitio: Evaluación de registros | S16: Etapa 2
B17: 10 | C17: Responsabilidad legal y financiación | D17: 5.3 | E17: Actividades Administrativas y Controles de proceso | F17: Falta de recursos para la operación | G17: Incumplimiento de compromisos con las partes interesadas | H17: Inadecuada planeación y control de recursos financieros | I17: ='Promedio NC'!C14/'Promedio NC'!$C$3 -> 0 | J17: =SUM(Eventos!C13+Eventos!F13+Eventos!I13) -> 0 | K17: Estratégico | L17: 3 | M17: 3 | N17: =IF(I17>=0.71,5,IF(I17>=0.51,4,IF(I17>=0.21,3,IF(I17>0,2,1)))) -> 1 | O17: 1 | P17: =(AVERAGE(L17:M17))*(AVERAGE(N17:O17)) -> 3 | Q17: =IF(P17>15,"Crítico",IF(P17>8,"Alto",IF(P17>4,"Medio","Bajo"))) -> Bajo | R17: Evaluación en sitio: Entrevistas | S17: Etapa 1 con confirmación en etapa 2
B18: 11 | C18: Responsabilidad legal y financiación | D18: 5.3 | E18: Actividades Administrativas y Controles de proceso | F18: Incumplimiento de requisitos de pólizas de seguros | G18: Incumplimiento de compromisos con las partes interesadas | H18: Inadecuada planeación y control de financieros | I18: ='Promedio NC'!C15/'Promedio NC'!$C$3 -> 0 | J18: =SUM(Eventos!C14+Eventos!F14+Eventos!I14) -> 0 | K18: De Mercado | L18: 2 | M18: 1 | N18: =IF(I18>=0.71,5,IF(I18>=0.51,4,IF(I18>=0.21,3,IF(I18>0,2,1)))) -> 1 | O18: 1 | P18: =(AVERAGE(L18:M18))*(AVERAGE(N18:O18)) -> 1.5 | Q18: =IF(P18>15,"Crítico",IF(P18>8,"Alto",IF(P18>4,"Medio","Bajo"))) -> Bajo | R18: Evaluación remota: Evaluación Documental | S18: Etapa 1 con confirmación en etapa 2
B19: 12 | C19: Estructura de la organización y de la alta dirección | D19: 6.1 | E19: Actividades Administrativas y Controles de proceso | F19: Estructura inadecuada que genera fallas y errores en la gestión de los procesos del OEC | G19: No conformidades en los servicios, quejas y reclamos de los clientes y Reprocesos | H19: Asignación inadecuada de funciones y responsabilidades del personal | I19: ='Promedio NC'!C16/'Promedio NC'!$C$3 -> 0.033333333 | J19: =SUM(Eventos!C15+Eventos!F15+Eventos!I15) -> 0 | K19: Operativo | L19: 3 | M19: 3 | N19: =IF(I19>=0.71,5,IF(I19>=0.51,4,IF(I19>=0.21,3,IF(I19>0,2,1)))) -> 2 | O19: 1 | P19: =(AVERAGE(L19:M19))*(AVERAGE(N19:O19)) -> 4.5 | Q19: =IF(P19>15,"Crítico",IF(P19>8,"Alto",IF(P19>4,"Medio","Bajo"))) -> Medio | R19: Evaluación en sitio: Entrevistas y Registros | S19: Etapa 2
... B36: 29 | C36: Determinación de objetivos, alcance y criterios de la auditoría | D36: 9.2.1 | E36: Actividades Administrativas y Controles de proceso | F36: Determinación errada de objetivos, alcance y criterios de la auditoríía | G36: Errores en proceso de certificación y toma de decisión, reprocesos, quejas y reclamos. | H36: Fallas de comunicación y control de los procesos del OEC Falta de competencia de los responsables del proceso | I36: ='Promedio NC'!C33/'Promedio NC'!$C$3 -> 0 | J36: =SUM(Eventos!C32+Eventos!F32+Eventos!I32) -> 0 | K36: Operativo | L36: 4 | M36: 3 | N36: =IF(I36>=0.71,5,IF(I36>=0.51,4,IF(I36>=0.21,3,IF(I36>0,2,1)))) -> 1 | O36: 1 | P36: =(AVERAGE(L36:M36))*(AVERAGE(N36:O36)) -> 3.5 | Q36: =IF(P36>15,"Crítico",IF(P36>8,"Alto",IF(P36>4,"Medio","Bajo"))) -> Bajo | R36: Evaluación en sitio: Testificación | S36: Etapa 2
B37: 30 | C37: Autorización del equipo auditor | D37: 9.2.2 | E37: Actividades Administrativas y Controles de proceso | F37: Asignación de personal que no cumple requisitos de competencia | G37: Errores y omisiones en el Proceso de evaluación. Sistema certificado sin cumplir requisitos | H37: Fallas en planeación y gestión de recursos Presiones comerciales o financieras. Fallas de comunicación y control de los procesos del OEC | I37: ='Promedio NC'!C34/'Promedio NC'!$C$3 -> 0.041666667 | J37: =SUM(Eventos!C33+Eventos!F33+Eventos!I33) -> 0 | K37: Operativo | L37: 5 | M37: 5 | N37: 3 | O37: 1 | P37: =(AVERAGE(L37:M37))*(AVERAGE(N37:O37)) -> 10 | Q37: =IF(P37>15,"Crítico",IF(P37>8,"Alto",IF(P37>4,"Medio","Bajo"))) -> Alto | R37: Evaluación en sitio: Evaluación de registros | S37: Etapa 2
B38: 31 | C38: Plan de auditoria | D38: 9.2.3 | E38: Normatividad y Regulación | F38: Elaboración de plan de auditoria no apropiado para el objetivo y alcance y sin considerar el programa de auditoría | G38: Errores y omisiones en el Proceso de evaluación. Sistema certificado sin cumplir requisitos | H38: Fallas de comunicación y control de los procesos del OEC Falta de competencia de los auditores | I38: ='Promedio NC'!C35/'Promedio NC'!$C$3 -> 0.05 | J38: =SUM(Eventos!C34+Eventos!F34+Eventos!I34) -> 0 | K38: Operativo | L38: 4 | M38: 4 | N38: =IF(I38>=0.71,5,IF(I38>=0.51,4,IF(I38>=0.21,3,IF(I38>0,2,1)))) -> 2 | O38: 1 | P38: =(AVERAGE(L38:M38))*(AVERAGE(N38:O38)) -> 6 | Q38: =IF(P38>15,"Crítico",IF(P38>8,"Alto",IF(P38>4,"Medio","Bajo"))) -> Medio | R38: Evaluación en sitio: Evaluación de registros | S38: Etapa 2
B39: 32 | C39: Plan de auditoria | D39: 9.2.3 | E39: Actividades Administrativas y Controles de proceso | F39: Confusión y malos entendidos por parte del equipo auditor o el cliente con relación al plan de auditoria | G39: Errores y reprocesos en el proceso de auditoria, quejas y reclamos de los clientes | H39: Fallas en la comunicación del plan de auditoria Falta de competencia del auditor | I39: ='Promedio NC'!C36/'Promedio NC'!$C$3 -> 0 | J39: =SUM(Eventos!C35+Eventos!F35+Eventos!I35) -> 0 | K39: Operativo | L39: 4 | M39: 3 | N39: =IF(I39>=0.71,5,IF(I39>=0.51,4,IF(I39>=0.21,3,IF(I39>0,2,1)))) -> 1 | O39: 1 | P39: =(AVERAGE(L39:M39))*(AVERAGE(N39:O39)) -> 3.5 | Q39: =IF(P39>15,"Crítico",IF(P39>8,"Alto",IF(P39>4,"Medio","Bajo"))) -> Bajo | R39: Evaluación en sitio: Testificación | S39: Etapa 2
B40: 33 | C40: Auditoria de certificación inicial Etapa 1 | D40: 9.3.1.2 | E40: Actividades Administrativas y Controles de proceso | F40: Etapa 1 deficiente y que no cumple sus objetivos (revisión documental superficial e insuficiente recopilación de información) | G40: Deficiencia en la etapa 2 de la auditoria, evaluación poco fiable para determinar la adecuación, cumplimiento y eficacia del sistema de gestión | H40: Falta de asignación de tiempo para etapa 1 Falta de preparación y competencia del auditor Negligencia del auditor | I40: ='Promedio NC'!C37/'Promedio NC'!$C$3 -> 0 | J40: =SUM(Eventos!C36+Eventos!F36+Eventos!I36) -> 0 | K40: Operativo | L40: 5 | M40: 4 | N40: =IF(I40>=0.71,5,IF(I40>=0.51,4,IF(I40>=0.21,3,IF(I40>0,2,1)))) -> 1 | O40: 1 | P40: =(AVERAGE(L40:M40))*(AVERAGE(N40:O40)) -> 4.5 | Q40: =IF(P40>15,"Crítico",IF(P40>8,"Alto",IF(P40>4,"Medio","Bajo"))) -> Medio | R40: Evaluación remota: Evaluación Documental | S40: Etapa 1 con confirmación en etapa 2
B41: 34 | C41: Auditoria de certificación inicial Etapa 2 | D41: 9.3.1.3 | E41: Actividades Administrativas y Controles de proceso | F41: Deficiente evaluación de la implementación y eficacia del sistema de gestión | G41: Información inadecuada para la toma de decisión. Certificación de un sistema de gestión que no asegura cumplimiento de requisitos Deterioro de imagen del OEC y de la certificación de sistema de gestión | H41: Falta de asignación de tiempo para etapa 2 Falta de preparación y competencia del auditor Negligencia del auditor | I41: ='Promedio NC'!C38/'Promedio NC'!$C$3 -> 0 | J41: =SUM(Eventos!C37+Eventos!F37+Eventos!I37) -> 0 | K41: Operativo | L41: 5 | M41: 4 | N41: =IF(I41>=0.71,5,IF(I41>=0.51,4,IF(I41>=0.21,3,IF(I41>0,2,1)))) -> 1 | O41: 1 | P41: =(AVERAGE(L41:M41))*(AVERAGE(N41:O41)) -> 4.5 | Q41: =IF(P41>15,"Crítico",IF(P41>8,"Alto",IF(P41>4,"Medio","Bajo"))) -> Medio | R41: Evaluación en sitio: Registros y/o Testificación | S41: Etapa 2
B42: 35 | C42: Realización de la auditoria | D42: 9.4 | E42: Actividades Administrativas y Controles de proceso | F42: Conflictos con el cliente auditado (altercados, discusiones y relación tensa con el auditado) | G42: Dificultad en todo el proceso de auditoria, quejas y reclamos del cliente, reproceso | H42: Deficiente comunicación Falta de habilidades del auditor en entrevista y manejo de conflicto | I42: ='Promedio NC'!C39/'Promedio NC'!$C$3 -> 0 | J42: =SUM(Eventos!C38+Eventos!F38+Eventos!I38) -> 0 | K42: Operativo | L42: 5 | M42: 5 | N42: =IF(I42>=0.71,5,IF(I42>=0.51,4,IF(I42>=0.21,3,IF(I42>0,2,1)))) -> 1 | O42: 1 | P42: =(AVERAGE(L42:M42))*(AVERAGE(N42:O42)) -> 5 | Q42: =IF(P42>15,"Crítico",IF(P42>8,"Alto",IF(P42>4,"Medio","Bajo"))) -> Medio | R42: Evaluación en sitio: Testificación | S42: Etapa 2
B43: 36 | C43: Realización de la auditoria | D43: 9.4 | E43: Actividades Administrativas y Controles de proceso | F43: Recolección insuficiente de evidencias de auditoria | G43: Información inadecuada para la toma de decisión. Certificación de un sistema de gestión que no asegura cumplimiento de requisitos Deterioro de imagen del OEC y de la certificación de sistema de gestión | H43: Asignación inadecuada de tiempos de evaluación Falta de competencia del equipo auditor Inadecuado proceso de muestreo | I43: ='Promedio NC'!C40/'Promedio NC'!$C$3 -> 0 | J43: =SUM(Eventos!C39+Eventos!F39+Eventos!I39) -> 0 | K43: Operativo | L43: 5 | M43: 4 | N43: =IF(I43>=0.71,5,IF(I43>=0.51,4,IF(I43>=0.21,3,IF(I43>0,2,1)))) -> 1 | O43: 1 | P43: =(AVERAGE(L43:M43))*(AVERAGE(N43:O43)) -> 4.5 | Q43: =IF(P43>15,"Crítico",IF(P43>8,"Alto",IF(P43>4,"Medio","Bajo"))) -> Medio | R43: Evaluación en sitio: Registros y/o Testificación | S43: Etapa 2
B44: 37 | C44: Realización de la auditoria | D44: 9.4 | E44: Actividades Administrativas y Controles de proceso | F44: Determinación errada de no conformidades (sin evidencias especificas o con identificación equivocada del requisito) | G44: Quejas y apelaciones de los clientes Toma de decisión equivocada Falta de imparcialidad | H44: Falta de competencia de los auditores | I44: ='Promedio NC'!C41/'Promedio NC'!$C$3 -> 0 | J44: =SUM(Eventos!C40+Eventos!F40+Eventos!I40) -> 0 | K44: Operativo | L44: 5 | M44: 4 | N44: =IF(I44>=0.71,5,IF(I44>=0.51,4,IF(I44>=0.21,3,IF(I44>0,2,1)))) -> 1 | O44: 1 | P44: =(AVERAGE(L44:M44))*(AVERAGE(N44:O44)) -> 4.5 | Q44: =IF(P44>15,"Crítico",IF(P44>8,"Alto",IF(P44>4,"Medio","Bajo"))) -> Medio | R44: Evaluación en sitio: Registros y/o Testificación | S44: Etapa 2
B45: 38 | C45: Realización de la auditoria | D45: 9.4 | E45: Actividades Administrativas y Controles de proceso | F45: Registro de no conformidades como oportunidades de mejora | G45: Desprestigio de la certificación, que se percibe como poco exigente | H45: Falta de competencia de los auditores Falta de imparcialidad | I45: ='Promedio NC'!C42/'Promedio NC'!$C$3 -> 0 | J45: =SUM(Eventos!C41+Eventos!F41+Eventos!I41) -> 5 | K45: Operativo | L45: 4 | M45: 4 | N45: =IF(I45>=0.71,5,IF(I45>=0.51,4,IF(I45>=0.21,3,IF(I45>0,2,1)))) -> 1 | O45: 1 | P45: =(AVERAGE(L45:M45))*(AVERAGE(N45:O45)) -> 4 | Q45: =IF(P45>15,"Crítico",IF(P45>8,"Alto",IF(P45>4,"Medio","Bajo"))) -> Bajo | R45: Evaluación en sitio: Evaluación de registros | S45: Etapa 2
B46: 39 | C46: Realización de la auditoria | D46: 9.4 | E46: Actividades Administrativas y Controles de proceso | F46: Informe de auditoria que no presenta el resultado claro, exacto y conciso de la actividad de evaluación | G46: Quejas y apelaciones de los clientes Dificultad para Toma de decisión que puede llevar a error | H46: Falta de competencia de los auditores | I46: ='Promedio NC'!C43/'Promedio NC'!$C$3 -> 0 | J46: =SUM(Eventos!C42+Eventos!F42+Eventos!I42) -> 1 | K46: Operativo | L46: 4 | M46: 3 | N46: =IF(I46>=0.71,5,IF(I46>=0.51,4,IF(I46>=0.21,3,IF(I46>0,2,1)))) -> 1 | O46: 1 | P46: =(AVERAGE(L46:M46))*(AVERAGE(N46:O46)) -> 3.5 | Q46: =IF(P46>15,"Crítico",IF(P46>8,"Alto",IF(P46>4,"Medio","Bajo"))) -> Bajo | R46: Evaluación en sitio: Evaluación de registros | S46: Etapa 2
B47: 40 | C47: Realización de la auditoria | D47: 9.4 | E47: Actividades Administrativas y Controles de proceso | F47: Información insuficiente o poco clara sobre los hallazgos a los clientes auditados | G47: Quejas, reprocesos y dificultades en la realización de los PCAC | H47: Falta de competencia de los evaluadores | I47: ='Promedio NC'!C44/'Promedio NC'!$C$3 -> 0.016666667 | J47: =SUM(Eventos!C43+Eventos!F43+Eventos!I43) -> 0 | K47: Operativo | L47: 5 | M47: 4 | N47: =IF(I47>=0.71,5,IF(I47>=0.51,4,IF(I47>=0.21,3,IF(I47>0,2,1)))) -> 2 | O47: 1 | P47: =(AVERAGE(L47:M47))*(AVERAGE(N47:O47)) -> 6.75 | Q47: =IF(P47>15,"Crítico",IF(P47>8,"Alto",IF(P47>4,"Medio","Bajo"))) -> Medio | R47: Evaluación en sitio: Testificación | S47: Etapa 2
B48: 41 | C48: Realización de la auditoria | D48: 9.4 | E48: Actividades Administrativas y Controles de proceso | F48: Aprobación de los PCAC deficientes que no eliminan las no conformidades y sus causas | G48: Error en la toma de decisión sobre la conformidad del sistema de gestión Desprestigio de la certificación, que se percibe como poco exigente | H48: Falta de competencia de los auditores | I48: ='Promedio NC'!C45/'Promedio NC'!$C$3 -> 0.066666667 | J48: =SUM(Eventos!C44+Eventos!F44+Eventos!I44) -> 0 | K48: Operativo | L48: 5 | M48: 3 | N48: =IF(I48>=0.71,5,IF(I48>=0.51,4,IF(I48>=0.21,3,IF(I48>0,2,1)))) -> 2 | O48: 1 | P48: =(AVERAGE(L48:M48))*(AVERAGE(N48:O48)) -> 6 | Q48: =IF(P48>15,"Crítico",IF(P48>8,"Alto",IF(P48>4,"Medio","Bajo"))) -> Medio | R48: Evaluación en sitio: Evaluación de registros | S48: Etapa 2
B49: 42 | C49: Realización de la auditoria | D49: 9.4 | E49: Actividades Administrativas y Controles de proceso | F49: Cierre de no conformidades, sin evidencias suficientes de eficacia de correcciones y acciones correctivas | G49: Error en la toma de decisión sobre la conformidad del sistema de gestión Desprestigio de la certificación, que se percibe como poco exigente | H49: Falta de competencia de los auditores | I49: ='Promedio NC'!C46/'Promedio NC'!$C$3 -> 0.10833333 | J49: =SUM(Eventos!C45+Eventos!F45+Eventos!I45) -> 0 | K49: Operativo | L49: 5 | M49: 3 | N49: =IF(I49>=0.71,5,IF(I49>=0.51,4,IF(I49>=0.21,3,IF(I49>0,2,1)))) -> 2 | O49: 1 | P49: =(AVERAGE(L49:M49))*(AVERAGE(N49:O49)) -> 6 | Q49: =IF(P49>15,"Crítico",IF(P49>8,"Alto",IF(P49>4,"Medio","Bajo"))) -> Medio | R49: Evaluación en sitio: Evaluación de registros | S49: Etapa 2
... B54: 47 | C54: Apelaciones | D54: 9.7 | E54: Actividades Administrativas y Controles de proceso | F54: No dar tratamiento oportuno y eficaz a las apelaciones de los clientes | G54: Mayor insatisfacción del cliente e intervención de acreditador y entes de control y vigilancia | H54: Fallas en mecanismos de comunicación con el cliente Falta de recursos para servicio al cliente Procesos inadecuados de tratamiento de apelaciones | I54: ='Promedio NC'!C51/'Promedio NC'!$C$3 -> 0 | J54: =SUM(Eventos!C50+Eventos!F50+Eventos!I50) -> 0 | K54: Operativo | L54: 4 | M54: 4 | N54: =IF(I54>=0.71,5,IF(I54>=0.51,4,IF(I54>=0.21,3,IF(I54>0,2,1)))) -> 1 | O54: 1 | P54: =(AVERAGE(L54:M54))*(AVERAGE(N54:O54)) -> 4 | Q54: =IF(P54>15,"Crítico",IF(P54>8,"Alto",IF(P54>4,"Medio","Bajo"))) -> Bajo | R54: Evaluación en sitio: Evaluación de registros | S54: Etapa 2
B55: 48 | C55: Quejas | D55: 9.8 | E55: Actividades Administrativas y Controles de proceso | F55: No dar tratamiento oportuno y eficaz a las quejas de los clientes | G55: Mayor insatisfacción del cliente e intervención de acreditador y entes de control y vigilancia | H55: Fallas en mecanismos de comunicación con el cliente Falta de recursos para servicio al cliente Procesos inadecuados de tratamiento de quejas | I55: ='Promedio NC'!C79/'Promedio NC'!$C$3 -> 0 | J55: =SUM(Eventos!C51+Eventos!F51+Eventos!I51) -> 0 | K55: Operativo | L55: 4 | M55: 4 | N55: =IF(I55>=0.71,5,IF(I55>=0.51,4,IF(I55>=0.21,3,IF(I55>0,2,1)))) -> 1 | O55: 1 | P55: =(AVERAGE(L55:M55))*(AVERAGE(N55:O55)) -> 4 | Q55: =IF(P55>15,"Crítico",IF(P55>8,"Alto",IF(P55>4,"Medio","Bajo"))) -> Bajo | R55: Evaluación en sitio: Evaluación de registros | S55: Etapa 2
B56: 49 | C56: Registros relativos a los clientes | D56: 9.9 | E56: Actividades Administrativas y Controles de proceso | F56: Perdida de integridad, disponibilidad o confidencialidad de los registros de evaluación | G56: Perdida de trazabilidad de la información y consecuencias legales | H56: Falta de un adecuado sistema de control de la información y políticas de seguridad | I56: ='Promedio NC'!C80/'Promedio NC'!$C$3 -> 0.016666667 | J56: =SUM(Eventos!C52+Eventos!F52+Eventos!I52) -> 0 | K56: Operativo | L56: 5 | M56: 4 | N56: =IF(I56>=0.71,5,IF(I56>=0.51,4,IF(I56>=0.21,3,IF(I56>0,2,1)))) -> 2 | O56: 1 | P56: =(AVERAGE(L56:M56))*(AVERAGE(N56:O56)) -> 6.75 | Q56: =IF(P56>15,"Crítico",IF(P56>8,"Alto",IF(P56>4,"Medio","Bajo"))) -> Medio | R56: Evaluación en sitio: Evaluación de registros | S56: Etapa 2
B57: 50 | C57: Generalidades / sistema de gestión | D57: 10.1 / 10.2.1 | E57: Actividades Administrativas y Controles de proceso | F57: Sistema de gestión que no apoya el cumplimiento de los objetivos del OEC | G57: Sistema para cumplimiento, pero que no contribuye al mejoramiento continuo | H57: Diseño inadecuado del sistema de gestión | I57: ='Promedio NC'!C81/'Promedio NC'!$C$3 -> 0 | J57: =SUM(Eventos!C53+Eventos!F53+Eventos!I53) -> 0 | K57: Operativo | L57: 2 | M57: 1 | N57: =IF(I57>=0.71,5,IF(I57>=0.51,4,IF(I57>=0.21,3,IF(I57>0,2,1)))) -> 1 | O57: 1 | P57: =(AVERAGE(L57:M57))*(AVERAGE(N57:O57)) -> 1.5 | Q57: =IF(P57>15,"Crítico",IF(P57>8,"Alto",IF(P57>4,"Medio","Bajo"))) -> Bajo | R57: Evaluación remota: Evaluación Documental | S57: Etapa 2
B58: 51 | C58: Manual del sistema de gestión | D58: 10.2.1 / 10.2.2 | E58: Actividades Administrativas y Controles de proceso | F58: implementación ineficaz del sistema de gestión del OEC | G58: Sistema para cumplimiento, pero que no contribuye al mejoramiento continuo Recurrencia de no conformidades | H58: Falta de compromiso y liderazgo de la alta dirección con el sistema de gestión del OEC Personal sin compromiso con el sistema | I58: ='Promedio NC'!C84/'Promedio NC'!$C$3 -> 0 | J58: =SUM(Eventos!C54+Eventos!F54+Eventos!I54) -> 0 | K58: Operativo | L58: 3 | M58: 1 | N58: =IF(I58>=0.71,5,IF(I58>=0.51,4,IF(I58>=0.21,3,IF(I58>0,2,1)))) -> 1 | O58: 1 | P58: =(AVERAGE(L58:M58))*(AVERAGE(N58:O58)) -> 2 | Q58: =IF(P58>15,"Crítico",IF(P58>8,"Alto",IF(P58>4,"Medio","Bajo"))) -> Bajo | R58: Evaluación remota: Evaluación Documental | S58: Etapa 2
B59: 52 | C59: Control de documentos | D59: 10.2.3 | E59: Actividades Administrativas y Controles de proceso | F59: Obsolescencia de la documentación del sistema de gestión | G59: Incumplimiento de requisitos de acreditación Aplicación de disposiciones equivocadas en el sistema Errores en los procesos | H59: Falta de revisión y actualización de documentos | I59: ='Promedio NC'!C86/'Promedio NC'!$C$3 -> 0.033333333 | J59: =SUM(Eventos!C55+Eventos!F55+Eventos!I55) -> 0 | K59: Operativo | L59: 3 | M59: 1 | N59: =IF(I59>=0.71,5,IF(I59>=0.51,4,IF(I59>=0.21,3,IF(I59>0,2,1)))) -> 2 | O59: 1 | P59: =(AVERAGE(L59:M59))*(AVERAGE(N59:O59)) -> 3 | Q59: =IF(P59>15,"Crítico",IF(P59>8,"Alto",IF(P59>4,"Medio","Bajo"))) -> Bajo | R59: Evaluación remota: Evaluación Documental | S59: Etapa 1 y confirmación en etapa 2
B60: 53 | C60: Control de registros | D60: 10.2.4 | E60: Actividades Administrativas y Controles de proceso | F60: Daño o pérdida de registros de proceso de certificación | G60: Pérdida de trazabilidad de la información y soporte de la certificación, no conformidades y sanciones de entes de control | H60: Falta de políticas de seguridad de la información y sistemas adecuados para control de información en medio físico y electrónico | I60: ='Promedio NC'!C87/'Promedio NC'!$C$3 -> 0 | J60: =SUM(Eventos!C56+Eventos!F56+Eventos!I56) -> 0 | K60: Operativo | L60: 5 | M60: 4 | N60: =IF(I60>=0.71,5,IF(I60>=0.51,4,IF(I60>=0.21,3,IF(I60>0,2,1)))) -> 1 | O60: 1 | P60: =(AVERAGE(L60:M60))*(AVERAGE(N60:O60)) -> 4.5 | Q60: =IF(P60>15,"Crítico",IF(P60>8,"Alto",IF(P60>4,"Medio","Bajo"))) -> Medio | R60: Evaluación en sitio: Evaluación de registros | S60: Etapa 2
B61: 54 | C61: Revisión por la dirección | D61: 10.2.5 | E61: Actividades Administrativas y Controles de proceso | F61: Revisión incompleta o que no permite determinar la eficacia, adecuación y conveniencia del sistema | G61: Sistema de gestión que no apoya los objetivos estratégicos del OEC | H61: Desconocimiento / falta de toma de conciencia de la importancia de la revisión para el OEC | I61: ='Promedio NC'!C88/'Promedio NC'!$C$3 -> 0.041666667 | J61: =SUM(Eventos!C57+Eventos!F57+Eventos!I57) -> 0 | K61: Operativo | L61: 2 | M61: 1 | N61: =IF(I61>=0.71,5,IF(I61>=0.51,4,IF(I61>=0.21,3,IF(I61>0,2,1)))) -> 2 | O61: 1 | P61: =(AVERAGE(L61:M61))*(AVERAGE(N61:O61)) -> 2.25 | Q61: =IF(P61>15,"Crítico",IF(P61>8,"Alto",IF(P61>4,"Medio","Bajo"))) -> Bajo | R61: Evaluación remota: Evaluación Documental | S61: Etapa 1 y confirmación en etapa 2
B62: 55 | C62: Auditorias internas | D62: 10.2.6 | E62: Actividades Administrativas y Controles de proceso | F62: Auditoria superficial que no evalúa de forma suficiente el sistema de gestión del OEC | G62: Auditoria que no aporta a la mejora continua del sistema de gestión | H62: Falta de competencia de equipos de auditoria Asignación insuficiente de tiempo para auditoria | I62: ='Promedio NC'!C89/'Promedio NC'!$C$3 -> 0 | J62: =SUM(Eventos!C58+Eventos!F58+Eventos!I58) -> 0 | K62: Operativo | L62: 3 | M62: 1 | N62: =IF(I62>=0.71,5,IF(I62>=0.51,4,IF(I62>=0.21,3,IF(I62>0,2,1)))) -> 1 | O62: 1 | P62: =(AVERAGE(L62:M62))*(AVERAGE(N62:O62)) -> 2 | Q62: =IF(P62>15,"Crítico",IF(P62>8,"Alto",IF(P62>4,"Medio","Bajo"))) -> Bajo | R62: Evaluación en sitio: Evaluación de registros | S62: Etapa 1 y confirmación en etapa 2
B63: 56 | C63: Acciones correctivas | D63: 10.2.7 | E63: Actividades Administrativas y Controles de proceso | F63: Acciones correctivas no eficaces | G63: No hay mejoramiento continuo en la Organización | H63: Falta de análisis de causas Desconocimiento de conceptos y criterios para la mejora | I63: ='Promedio NC'!C98/'Promedio NC'!$C$3 -> 0 | J63: =SUM(Eventos!C59+Eventos!F59+Eventos!I59) -> 0 | K63: Operativo | L63: 3 | M63: 1 | N63: =IF(I63>=0.71,5,IF(I63>=0.51,4,IF(I63>=0.21,3,IF(I63>0,2,1)))) -> 1 | O63: 1 | P63: =(AVERAGE(L63:M63))*(AVERAGE(N63:O63)) -> 2 | Q63: =IF(P63>15,"Crítico",IF(P63>8,"Alto",IF(P63>4,"Medio","Bajo"))) -> Bajo | R63: Evaluación en sitio: Evaluación de registros | S63: Etapa 1 y confirmación en etapa 2

Sheet Promedio NC
B3: NUMERO TOTAL DE NC | C3: 120
B4: Requisito | C4: Total NC por Requisito
B5: 4.1 Generalidades | C5: 0
B6: 4.2 Imparcialidad | C6: 0
B7: 4.3 Competencia | C7: 0
B8: 4.4 Responsabilidad | C8: 0
B9: 4.5 Transparencia | C9: 0
B10: 4.6 Confidencialidad | C10: 0
B11: 4.7 Receptividad y respuesta oportuna a las quejas | C11: 0
B12: 4.8 Enfoque basado en el riesgo | C12: 0
B13: 5 Requisitos generales | C13: 0
B14: 5.1 Temas legales y contractuales | C14: 0
B15: 5.1.1 Responsabilidad legal | C15: 0
B16: 5.1.2 Acuerdo de certificación | C16: 4
... B97: RAC-03 REGLAMENTO DE USO DE LOS SIMBOLOS DE ACREDITADO Y/O ASOCIADO. | C97: 4

Sheet Eventos
B2: QUEJAS | E2: APELACIONES | H2: SANCIONES
B3: Requisito | C3: Total por Requisito | E3: Requisito | F3: Total por Requisito | H3: Requisito | I3: Total por Requisito
B4: 5.1.1Responsabilidad legal | C4: 0 | E4: 5.1.1Responsabilidad legal | F4: 0 | H4: 5.1.1Responsabilidad legal | I4: 0
B5: 5.1.2Acuerdo de certificación | C5: 0 | E5: 5.1.2Acuerdo de certificación | F5: 0 | H5: 5.1.2Acuerdo de certificación | I5: 0
B6: 5.1.3Responsabilidad por las decisiones de certificación | C6: 0 | E6: 5.1.3Responsabilidad por las decisiones de certificación | F6: 0 | H6: 5.1.3Responsabilidad por las decisiones de certificación | I6: 0
B7: 5.2Gestión de imparcialidad | C7: 0 | E7: 5.2Gestión de imparcialidad | F7: 0 | H7: 5.2Gestión de imparcialidad | I7: 0
B8: 5.2Gestión de imparcialidad | C8: 0 | E8: 5.2Gestión de imparcialidad | F8: 0 | H8: 5.2Gestión de imparcialidad | I8: 0
B9: 5.2Gestión de imparcialidad | C9: 0 | E9: 5.2Gestión de imparcialidad | F9: 0 | H9: 5.2Gestión de imparcialidad | I9: 0
B10: 5.2Gestión de imparcialidad | C10: 0 | E10: 5.2Gestión de imparcialidad | F10: 0 | H10: 5.2Gestión de imparcialidad | I10: 0
B11: 5.2Gestión de imparcialidad | C11: 0 | E11: 5.2Gestión de imparcialidad | F11: 0 | H11: 5.2Gestión de imparcialidad | I11: 0
B12: 5.2Gestión de imparcialidad | C12: 0 | E12: 5.2Gestión de imparcialidad | F12: 0 | H12: 5.2Gestión de imparcialidad | I12: 0
B13: 5.3Responsabilidad legal y financiación | C13: 0 | E13: 5.3Responsabilidad legal y financiación | F13: 0 | H13: 5.3Responsabilidad legal y financiación | I13: 0
B14: 5.3Responsabilidad legal y financiación | C14: 0 | E14: 5.3Responsabilidad legal y financiación | F14: 0 | H14: 5.3Responsabilidad legal y financiación | I14: 0
B15: 6.1Estructura de la organización y de la alta dirección | C15: 0 | E15: 6.1Estructura de la organización y de la alta dirección | F15: 0 | H15: 6.1Estructura de la organización y de la alta dirección | I15: 0
... B59: 10.2.7Acciones correctivas | C59: 0 | E59: 10.2.7Acciones correctivas | F59: 0 | H59: 10.2.7Acciones correctivas | I59: 0

Sheet Mapa de riesgo CSG
E2: MAPA DE RIESGOS ORGANISMOS DE CERTIFICACIÓN SISTEMAS DE GESTIÓN | Q2: Anexo H_ PR-3.3-01 Versión 03 Fecha. 2022-11-09
B5: No | C5: REQUISITOS | D5: Análisis de riesgo | F5: Nivel de riesgo | G5: Riesgo | H5: Tipo de riesgo | I5: Descripción del evento
D6: C | E6: O
B7: ='Matriz de riesgo CSG'!B8 -> 1 | C7: ='Matriz de riesgo CSG'!C8 -> Responsabilidad legal | D7: =AVERAGE('Matriz de riesgo CSG'!L8:M8) -> 1 | E7: =AVERAGE('Matriz de riesgo CSG'!N8:O8) -> 1 | F7: =D7*E7 -> 1 | G7: =IF(F7>15,"Crítico",IF(F7>8,"Alto",IF(F7>4,"Medio","Bajo"))) -> Bajo | H7: ='Matriz de riesgo CSG'!K8 -> Estratégico | I7: ='Matriz de riesgo CSG'!F8 -> Organismo de certificación pierde su estatus legal o incumple requisitos de habilitación (si aplican)
B8: ='Matriz de riesgo CSG'!B9 -> 2 | C8: ='Matriz de riesgo CSG'!C9 -> Acuerdo de certificación | D8: =AVERAGE('Matriz de riesgo CSG'!L9:M9) -> 3 | E8: =AVERAGE('Matriz de riesgo CSG'!N9:O9) -> 1 | F8: =D8*E8 -> 3 | G8: =IF(F8>15,"Crítico",IF(F8>8,"Alto",IF(F8>4,"Medio","Bajo"))) -> Bajo | H8: ='Matriz de riesgo CSG'!K9 -> De Mercado | I8: ='Matriz de riesgo CSG'!F9 -> Suscribir acuerdos contractuales con los clientes con requisitos ambiguos, incompletos o errados
B9: ='Matriz de riesgo CSG'!B10 -> 3 | C9: ='Matriz de riesgo CSG'!C10 -> Responsabilidad por las decisiones de certificación | D9: =AVERAGE('Matriz de riesgo CSG'!L10:M10) -> 1 | E9: =AVERAGE('Matriz de riesgo CSG'!N10:O10) -> 1 | F9: =D9*E9 -> 1 | G9: =IF(F9>15,"Crítico",IF(F9>8,"Alto",IF(F9>4,"Medio","Bajo"))) -> Bajo | H9: ='Matriz de riesgo CSG'!K10 -> De Mercado | I9: ='Matriz de riesgo CSG'!F10 -> Subcontratación de la toma de decisión
B10: ='Matriz de riesgo CSG'!B11 -> 4 | C10: ='Matriz de riesgo CSG'!C11 -> Gestión de imparcialidad | D10: =AVERAGE('Matriz de riesgo CSG'!L11:M11) -> 2.5 | E10: =AVERAGE('Matriz de riesgo CSG'!N11:O11) -> 1 | F10: =D10*E10 -> 2.5 | G10: =IF(F10>15,"Crítico",IF(F10>8,"Alto",IF(F10>4,"Medio","Bajo"))) -> Bajo | H10: ='Matriz de riesgo CSG'!K11 -> De Mercado | I10: ='Matriz de riesgo CSG'!F11 -> Inadecuada identificación, análisis, valoración y tratamiento de riesgos de imparcialidad
B11: ='Matriz de riesgo CSG'!B12 -> 5 | C11: ='Matriz de riesgo CSG'!C12 -> Gestión de imparcialidad | D11: =AVERAGE('Matriz de riesgo CSG'!L12:M12) -> 5 | E11: =AVERAGE('Matriz de riesgo CSG'!N12:O12) -> 1 | F11: =D11*E11 -> 5 | G11: =IF(F11>15,"Crítico",IF(F11>8,"Alto",IF(F11>4,"Medio","Bajo"))) -> Medio | H11: ='Matriz de riesgo CSG'!K12 -> Estratégico | I11: ='Matriz de riesgo CSG'!F12 -> Presión de la alta dirección a los auditores para hacer mas fácil la certificación de sistema de gestión y no ser calificados como "demasiado exigentes"
B12: ='Matriz de riesgo CSG'!B13 -> 6 | C12: ='Matriz de riesgo CSG'!C13 -> Gestión de imparcialidad | D12: =AVERAGE('Matriz de riesgo CSG'!L13:M13) -> 5 | E12: =AVERAGE('Matriz de riesgo CSG'!N13:O13) -> 1 | F12: =D12*E12 -> 5 | G12: =IF(F12>15,"Crítico",IF(F12>8,"Alto",IF(F12>4,"Medio","Bajo"))) -> Medio | H12: ='Matriz de riesgo CSG'!K13 -> Estratégico | I12: ='Matriz de riesgo CSG'!F13 -> Permitir presiones de organismos relacionados que afecten actividades de auditoria y toma de decisión
B13: ='Matriz de riesgo CSG'!B14 -> 7 | C13: ='Matriz de riesgo CSG'!C14 -> Gestión de imparcialidad | D13: =AVERAGE('Matriz de riesgo CSG'!L14:M14) -> 5 | E13: =AVERAGE('Matriz de riesgo CSG'!N14:O14) -> 1 | F13: =D13*E13 -> 5 | G13: =IF(F13>15,"Crítico",IF(F13>8,"Alto",IF(F13>4,"Medio","Bajo"))) -> Medio | H13: ='Matriz de riesgo CSG'!K14 -> Estratégico | I13: ='Matriz de riesgo CSG'!F14 -> Sobornos, chantajes, amenazas u otras actuaciones ilícitas que afecten la imparcialidad
B14: ='Matriz de riesgo CSG'!B15 -> 8 | C14: ='Matriz de riesgo CSG'!C15 -> Gestión de imparcialidad | D14: =AVERAGE('Matriz de riesgo CSG'!L15:M15) -> 5 | E14: =AVERAGE('Matriz de riesgo CSG'!N15:O15) -> 1 | F14: =D14*E14 -> 5 | G14: =IF(F14>15,"Crítico",IF(F14>8,"Alto",IF(F14>4,"Medio","Bajo"))) -> Medio | H14: ='Matriz de riesgo CSG'!K15 -> De Mercado | I14: ='Matriz de riesgo CSG'!F15 -> Realizar actividades de capacitación en sistemas de gestión condicionando las actividades de certificación
B15: ='Matriz de riesgo CSG'!B16 -> 9 | C15: ='Matriz de riesgo CSG'!C16 -> Gestión de imparcialidad | D15: =AVERAGE('Matriz de riesgo CSG'!L16:M16) -> 5 | E15: =AVERAGE('Matriz de riesgo CSG'!N16:O16) -> 1 | F15: =D15*E15 -> 5 | G15: =IF(F15>15,"Crítico",IF(F15>8,"Alto",IF(F15>4,"Medio","Bajo"))) -> Medio | H15: ='Matriz de riesgo CSG'!K16 -> Estratégico | I15: ='Matriz de riesgo CSG'!F16 -> Ofrecer y/o Realizar actividades no permitidas como consultoría, auditorias internas, certificación de otros OEC, o subcontratación con empresas de consultoría
B16: ='Matriz de riesgo CSG'!B17 -> 10 | C16: ='Matriz de riesgo CSG'!C17 -> Responsabilidad legal y financiación | D16: =AVERAGE('Matriz de riesgo CSG'!L17:M17) -> 3 | E16: =AVERAGE('Matriz de riesgo CSG'!N17:O17) -> 1 | F16: =D16*E16 -> 3 | G16: =IF(F16>15,"Crítico",IF(F16>8,"Alto",IF(F16>4,"Medio","Bajo"))) -> Bajo | H16: ='Matriz de riesgo CSG'!K17 -> Estratégico | I16: ='Matriz de riesgo CSG'!F17 -> Falta de recursos para la operación
B17: ='Matriz de riesgo CSG'!B18 -> 11 | C17: ='Matriz de riesgo CSG'!C18 -> Responsabilidad legal y financiación | D17: =AVERAGE('Matriz de riesgo CSG'!L18:M18) -> 1.5 | E17: =AVERAGE('Matriz de riesgo CSG'!N18:O18) -> 1 | F17: =D17*E17 -> 1.5 | G17: =IF(F17>15,"Crítico",IF(F17>8,"Alto",IF(F17>4,"Medio","Bajo"))) -> Bajo | H17: ='Matriz de riesgo CSG'!K18 -> De Mercado | I17: ='Matriz de riesgo CSG'!F18 -> Incumplimiento de requisitos de pólizas de seguros
B18: ='Matriz de riesgo CSG'!B19 -> 12 | C18: ='Matriz de riesgo CSG'!C19 -> Estructura de la organización y de la alta dirección | D18: =AVERAGE('Matriz de riesgo CSG'!L19:M19) -> 3 | E18: =AVERAGE('Matriz de riesgo CSG'!N19:O19) -> 1.5 | F18: =D18*E18 -> 4.5 | G18: =IF(F18>15,"Crítico",IF(F18>8,"Alto",IF(F18>4,"Medio","Bajo"))) -> Medio | H18: ='Matriz de riesgo CSG'!K19 -> Operativo | I18: ='Matriz de riesgo CSG'!F19 -> Estructura inadecuada que genera fallas y errores en la gestión de los procesos del OEC
... B62: ='Matriz de riesgo CSG'!B63 -> 56 | C62: ='Matriz de riesgo CSG'!C63 -> Acciones correctivas | D62: =AVERAGE('Matriz de riesgo CSG'!L63:M63) -> 2 | E62: =AVERAGE('Matriz de riesgo CSG'!N63:O63) -> 1 | F62: =D62*E62 -> 2 | G62: =IF(F62>15,"Crítico",IF(F62>8,"Alto",IF(F62>4,"Medio","Bajo"))) -> Bajo | H62: ='Matriz de riesgo CSG'!K63 -> Operativo | I62: ='Matriz de riesgo CSG'!F63 -> Acciones correctivas no eficaces

Sheet Registro Eventos e Incidentes
B2: Evento e Incidente | C2: Descripción | D2: Fecha de Ocurrencia | E2: Tratamiento / Corrección | F2: Responsable | G2: Estado

Sheet Hoja 2
B2: Fuentes de Riesgo | C2: Técnicas de evaluación | D2: Tipos de Riesgo
B3: Relaciones Comerciales y Contractuales | C3: Evaluación en sitio: Evaluación Documental | D3: Estratégico
B4: Normatividad y Regulación | C4: Evaluación en sitio: Evaluación de registros | D4: Operativo
B5: Circunstancias Económicas | C5: Evaluación en sitio: Testificación | D5: Financiero
B6: Comportamiento Humano | C6: Evaluación en sitio: Registros y/o Testificación | D6: Operativo
B7: Comportamiento Humano | C7: Evaluación en sitio: Registros y/o Testificación | D7: Operativo
B8: Comportamiento Humano | C8: Evaluación en sitio: Entrevistas | D8: De Mercado
B9: Eventos naturales | C9: Evaluación en sitio: Ensayos de aptitud | D9: Ambiental
B10: Circunstancias Políticas | C10: Evaluación remota: Evaluación Documental | D10: Tecnológico
B11: Aspectos Tecnológicos o Técnicos | C11: Evaluación en remota: Evaluación de registros | D11: Físico
B12: Actividades Administrativas y Controles de proceso | C12: Evaluación en remota: Entrevistas | D12: SISO
B13: Personas Maliciosas | C13: Evaluación en remota: Entrevistas | D13: Seguridad de la Información
B14: Imparcialidad | C14: Visitas no anunciadas

Sheet Hoja1
B2: Fuentes de Riesgo | C2: Técnicas de evaluación | D2: Tipos de Riesgo
B3: Relaciones Comerciales y Contractuales | C3: Evaluación en sitio: Evaluación Documental | D3: Estratégico
B4: Normatividad y Regulación | C4: Evaluación en sitio: Evaluación de registros | D4: Operativo
B5: Circunstancias Económicas | C5: Evaluación en sitio: Testificación | D5: Financiero
B6: Comportamiento Humano | C6: Evaluación en sitio: Registros y/o Testificación | D6: Operativo
B7: Comportamiento Humano | C7: Evaluación en sitio: Registros y/o Testificación | D7: Operativo
B8: Comportamiento Humano | C8: Evaluación en sitio: Entrevistas y Registros | D8: De Mercado
B9: Comportamiento Humano | C9: Evaluación en sitio: Entrevistas | D9: De Mercado
B10: Eventos naturales | C10: Evaluación en sitio: Evaluación de registros y Entrevistas | D10: Ambiental
B11: Circunstancias Políticas | C11: Evaluación remota: Evaluación Documental | D11: Tecnológico
B12: Aspectos Tecnológicos o Técnicos | C12: Evaluación en remota: Evaluación de registros | D12: Físico
B13: Actividades Administrativas y Controles de proceso | C13: Evaluación en remota: Entrevistas | D13: SISO
B14: Personas Maliciosas | C14: Evaluación en remota: Entrevistas | D14: Seguridad de la Información
B15: Imparcialidad | C15: Visitas no anunciadas
