Workbook
Name Excel_BuiltIn__FilterDatabase_3: #REF!
Name Excel_BuiltIn__FilterDatabase_3: #REF!
Name Excel_BuiltIn__FilterDatabase_3: #REF!

Sheet Matriz de riesgo OCP
E2: MATRIZ DE RIESGOS ORGANISMOS DE CERTIFICACIÓN DE PERSONAS | S2: Anexo E _PR-3.3-01 Versión 03 Fecha. 2022-10-12
E3: PROCESO | F3: Organismos Certificadores de Personas | H3: Objetivo | I3: Asegurar que la persona certificada cumple los requisitos del esquema de certificación Realizar un examen basado en criterios objetivos para medir la competencia de las personas
A6: No | B6: ACTIVIDAD / REQUISITO | C6: REQUISITO RELACIONADO DE ISO/IEC 17024 | D6: ESQUEMAS DE CERTIFICACIÓN | E6: IDENTIFICACIÓN DEL RIESGO | L6: ANÁLISIS DE RIESGO | P6: EVALUACIÓN DE RIESGO | R6: TÉCNICA DE EVALUACIÓN
L7: Consecuencias Áreas de Impacto | N7: Ocurrencia
E8: Fuente del Riesgo | F8: Evento | G8: Efecto / Consecuencia / impacto | H8: Causa / Debilidad (por que puede ocurrir) | I8: Promedio de No Conformidades en el periodo | J8: Eventos (quejas, apelaciones o sanciones contra los OEC | K8: Tipo de Riesgo | L8: Confianza en la Evaluación | M8: Calidad / Imagen | N8: No conformidades | O8: Quejas o apelaciones | P8: Nivel de riesgo | Q8: Clasificación Riesgo | R8: Tipo de técnica de evaluación 17011 | S8: Etapa de evaluación
A9: 1 | B9: Responsabilidad legal | C9: 4.1 | D9: Todos | E9: Normatividad y Regulación | F9: Organismo de certificación pierde su estatus legal o incumple requisitos de habilitación (si aplican) | G9: Incumplimiento de requisitos de acreditación | H9: Falta de control de cumplimiento de requisitos legales | I9: ='Promedio NC'!C4/'Promedio NC'!$C$2 -> 0.014814815 | J9: =Eventos!C4+Eventos!F4+Eventos!I4 -> 0 | K9: Estrategico | L9: 1 | M9: 3 | N9: =IF(I9>=0.71,5,IF(I9>=0.51,4,IF(I9>=0.21,3,IF(I9>0,2,1)))) -> 2 | O9: 1 | P9: =(AVERAGE(L9:M9))*(AVERAGE(N9:O9)) -> 3 | Q9: =IF(P9>15,"Crítico",IF(P9>8,"Alto",IF(P9>4,"Medio","Bajo"))) -> Bajo | R9: Evaluación en remota: Evaluación Documental | S9: Etapa 1 y confirmación en etapa 2
A10: 2 | B10: Responsabilidad en materia de certificación | C10: 4.2 | D10: Todos | E10: Normatividad y Regulación | F10: Subcontratación de la toma de decisión | G10: Incumplimiento de requisitos de acreditación | H10: Desconocimiento de los requisitos de acreditación | I10: ='Promedio NC'!C5/'Promedio NC'!$C$2 -> 0 | J10: =Eventos!C5+Eventos!F5+Eventos!I5 -> 0 | K10: Estratégico | L10: 1 | M10: 1 | N10: =IF(I10>=0.71,5,IF(I10>=0.51,4,IF(I10>=0.21,3,IF(I10>0,2,1)))) -> 1 | O10: 1 | P10: =(AVERAGE(L10:M10))*(AVERAGE(N10:O10)) -> 1 | Q10: =IF(P10>15,"Crítico",IF(P10>8,"Alto",IF(P10>4,"Medio","Bajo"))) -> Bajo | R10: Evaluación en sitio: Entrevistas | S10: Etapa 1 y confirmación en etapa 2
A11: 3 | B11: Gestión de imparcialidad | C11: 4.3 | D11: Todos | E11: Actividades Administrativas y Controles de proceso | F11: Inadecuada identificación, análisis, valoración y tratamiento de riesgos de imparcialidad | G11: Incumplimiento de requisitos de acreditación | H11: Desconocimiento y fallas en metodología de gestión de riesgos Falta de participación de las partes interesadas | I11: ='Promedio NC'!C6/'Promedio NC'!$C$2 -> 0.0074074074 | J11: =Eventos!C6+Eventos!F6+Eventos!I6 -> 0 | K11: Estratégico | L11: 3 | M11: 1 | N11: =IF(I11>=0.71,5,IF(I11>=0.51,4,IF(I11>=0.21,3,IF(I11>0,2,1)))) -> 2 | O11: 1 | P11: =(AVERAGE(L11:M11))*(AVERAGE(N11:O11)) -> 3 | Q11: =IF(P11>15,"Crítico",IF(P11>8,"Alto",IF(P11>4,"Medio","Bajo"))) -> Bajo | R11: Evaluación en remota: Evaluación de registros | S11: Etapa 1 y confirmación en etapa 2
A12: 4 | B12: Gestión de imparcialidad | C12: 4.3 | D12: Todos | E12: Relaciones Comerciales y Contractuales | F12: Facilitar actividades de evaluación y exámen para no ser percibido como muy estricto | G12: Incumplimiento de requisitos de imparcialidad, que pueden llevar a suspensión o pérdida de la acreditación | H12: Presión comercial y financiera Debilidad en las políticas de imparcialidad del Organismo Mecanismo ineficaz para salvaguardar la imparcialidad | I12: ='Promedio NC'!C7/'Promedio NC'!$C$2 -> 0 | J12: =Eventos!C7+Eventos!F7+Eventos!I7 -> 0 | K12: Estratégico | L12: 5 | M12: 5 | N12: =IF(I12>=0.71,5,IF(I12>=0.51,4,IF(I12>=0.21,3,IF(I12>0,2,1)))) -> 1 | O12: 1 | P12: =(AVERAGE(L12:M12))*(AVERAGE(N12:O12)) -> 5 | Q12: =IF(P12>15,"Crítico",IF(P12>8,"Alto",IF(P12>4,"Medio","Bajo"))) -> Medio | R12: Evaluación en sitio: Entrevistas | S12: Etapa 2
A13: 5 | B13: Gestión de imparcialidad | C13: 4.3 | D13: Todos | E13: Relaciones Comerciales y Contractuales | F13: Permitir presiones de organismos relacionados que afecten actividades de evaluación y exámen | G13: Incumplimiento de requisitos de imparcialidad, que pueden llevar a suspensión o pérdida de la acreditación | H13: Presión comercial y financiera Debilidad en las políticas de imparcialidad del Organismo Mecanismo ineficaz para salvaguardar la imparcialidad | I13: ='Promedio NC'!C8/'Promedio NC'!$C$2 -> 0 | J13: =Eventos!C8+Eventos!F8+Eventos!I8 -> 0 | K13: De Mercado | L13: 5 | M13: 5 | N13: =IF(I13>=0.71,5,IF(I13>=0.51,4,IF(I13>=0.21,3,IF(I13>0,2,1)))) -> 1 | O13: 1 | P13: =(AVERAGE(L13:M13))*(AVERAGE(N13:O13)) -> 5 | Q13: =IF(P13>15,"Crítico",IF(P13>8,"Alto",IF(P13>4,"Medio","Bajo"))) -> Medio | R13: Evaluación en sitio: Entrevistas | S13: Etapa 2
A14: 6 | B14: Gestión de imparcialidad | C14: 4.3 | D14: Todos | E14: Personas Maliciosas | F14: Sobornos, chantajes, amenazas u otras actuaciones ilicitas que afecten la imparcialidad | G14: Incumplimiento de requisitos de imparcialidad, que pueden llevar a suspensión o pérdida de la acreditación | H14: Presión comercial y financiera Debilidad en las políticas de imparcialidad del Organismo Mecanismo ineficaz para salvaguardar la imparcialidad | I14: ='Promedio NC'!C9/'Promedio NC'!$C$2 -> 0 | J14: =Eventos!C9+Eventos!F9+Eventos!I9 -> 0 | K14: De Mercado | L14: 5 | M14: 5 | N14: =IF(I14>=0.71,5,IF(I14>=0.51,4,IF(I14>=0.21,3,IF(I14>0,2,1)))) -> 1 | O14: 1 | P14: =(AVERAGE(L14:M14))*(AVERAGE(N14:O14)) -> 5 | Q14: =IF(P14>15,"Crítico",IF(P14>8,"Alto",IF(P14>4,"Medio","Bajo"))) -> Medio | R14: Evaluación en sitio: Entrevistas | S14: Etapa 2
A15: 7 | B15: Responsabilidad legal y financiamientol | C15: 4.4 | D15: Todos | E15: Actividades Administrativas y Controles de proceso | F15: Falta de recursos para la operación | G15: Incumplimiento de compromisos con las partes interesadas | H15: Inadecuada planeación y control de recursos financieros | I15: ='Promedio NC'!C10/'Promedio NC'!$C$2 -> 0 | J15: =Eventos!C10+Eventos!F10+Eventos!I10 -> 0 | K15: Estratégico | L15: 2 | M15: 1 | N15: =IF(I15>=0.71,5,IF(I15>=0.51,4,IF(I15>=0.21,3,IF(I15>0,2,1)))) -> 1 | O15: 1 | P15: =(AVERAGE(L15:M15))*(AVERAGE(N15:O15)) -> 1.5 | Q15: =IF(P15>15,"Crítico",IF(P15>8,"Alto",IF(P15>4,"Medio","Bajo"))) -> Bajo | R15: Evaluación en sitio: Evaluación de registros | S15: Etapa 2
A16: 8 | B16: Responsabilidad legal y financiamientol | C16: 4.4 | D16: Todos | E16: Actividades Administrativas y Controles de proceso | F16: Incumplimiento de requisitos de polizas de seguros | G16: Incumplimiento de compromisos con las partes interesadas | H16: Inadecuada planeación y control de financieros | I16: ='Promedio NC'!C11/'Promedio NC'!$C$2 -> 0.0074074074 | J16: =Eventos!C11+Eventos!F11+Eventos!I11 -> 0 | K16: Estratégico | L16: 1 | M16: 1 | N16: =IF(I16>=0.71,5,IF(I16>=0.51,4,IF(I16>=0.21,3,IF(I16>0,2,1)))) -> 2 | O16: 1 | P16: =(AVERAGE(L16:M16))*(AVERAGE(N16:O16)) -> 1.5 | Q16: =IF(P16>15,"Crítico",IF(P16>8,"Alto",IF(P16>4,"Medio","Bajo"))) -> Bajo | R16: Evaluación en remota: Evaluación de registros | S16: Etapa 2
A17: 9 | B17: Estructura de la organización y alta dirección | C17: 5.1 | D17: Todos | E17: Actividades Administrativas y Controles de proceso | F17: Estructura inadecuada que genera fallas y errores en la gestión de los procesos del OEC | G17: No conformidades en los servicios, quejas y reclamos de los clientes y Reprocesos | H17: Asignación inadecuada de funciones y responsabilidades del personal | I17: ='Promedio NC'!C12/'Promedio NC'!$C$2 -> 0.037037037 | J17: =Eventos!C12+Eventos!F12+Eventos!I12 -> 0 | K17: Operativo | L17: 3 | M17: 2 | N17: =IF(I17>=0.71,5,IF(I17>=0.51,4,IF(I17>=0.21,3,IF(I17>0,2,1)))) -> 2 | O17: 1 | P17: =(AVERAGE(L17:M17))*(AVERAGE(N17:O17)) -> 3.75 | Q17: =IF(P17>15,"Crítico",IF(P17>8,"Alto",IF(P17>4,"Medio","Bajo"))) -> Bajo | R17: Evaluación en sitio: Entrevistas | S17: Etapa 2
A18: 10 | B18: Actividades de formación | C18: 5.2 | D18: Todos | E18: Actividades Administrativas y Controles de proceso | F18: Realizar actividades de capacitación en el esquema condicionando las actividades de certificación | G18: Incumplimiento de requisitos de imparcialidad, que pueden llevar a suspensión o pérdida de la acreditación | H18: Presión comercial y financiera Debilidad en las políticas de imparcialidad del Organismo Mecanismo ineficaz para salvaguardar la imparcialidad | I18: ='Promedio NC'!C13/'Promedio NC'!$C$2 -> 0.037037037 | J18: =Eventos!C13+Eventos!F13+Eventos!I13 -> 0 | K18: Estratégico | L18: 3 | M18: 4 | N18: =IF(I18>=0.71,5,IF(I18>=0.51,4,IF(I18>=0.21,3,IF(I18>0,2,1)))) -> 2 | O18: 1 | P18: =(AVERAGE(L18:M18))*(AVERAGE(N18:O18)) -> 5.25 | Q18: =IF(P18>15,"Crítico",IF(P18>8,"Alto",IF(P18>4,"Medio","Bajo"))) -> Medio | R18: Evaluación en sitio: Entrevistas | S18: Etapa 2
A19: 11 | B19: Requisitos generales del personal | C19: 6.1 | D19: Todos | E19: Actividades Administrativas y Controles de proceso | F19: Falta de evidencias de la competencia del personal | G19: No conformidades y hallazgos en procesos de evaluación | H19: Inadecuado control de registros y desorden administrativo | I19: ='Promedio NC'!C14/'Promedio NC'!$C$2 -> 0.044444444 | J19: =Eventos!C14+Eventos!F14+Eventos!I14 -> 0 | K19: Operativo | L19: 4 | M19: 1 | N19: =IF(I19>=0.71,5,IF(I19>=0.51,4,IF(I19>=0.21,3,IF(I19>0,2,1)))) -> 2 | O19: 1 | P19: =(AVERAGE(L19:M19))*(AVERAGE(N19:O19)) -> 3.75 | Q19: =IF(P19>15,"Crítico",IF(P19>8,"Alto",IF(P19>4,"Medio","Bajo"))) -> Bajo | R19: Evaluación en sitio: Evaluación de registros | S19: Etapa 2
A20: 12 | B20: Personal que interviene en actividades de certificación | C20: 6.2 | D20: Todos | E20: Actividades Administrativas y Controles de proceso | F20: Realización de servicios de certificación y toma de decisión por personal no competente | G20: Errores en proceso de certificación y toma de decisión, quejas, reclamos y reprocesos | H20: Omisión de proceso de calificación Debilidad en procesos de determinación de competencias, calificación y aprobación Fallas en control de proceso de calificación de personal Desorden administrativo | I20: ='Promedio NC'!C15/'Promedio NC'!$C$2 -> 0.0074074074 | J20: =Eventos!C15+Eventos!F15+Eventos!I15 -> 0 | K20: Operativo | L20: 5 | M20: 4 | N20: =IF(I20>=0.71,5,IF(I20>=0.51,4,IF(I20>=0.21,3,IF(I20>0,2,1)))) -> 2 | O20: 1 | P20: =(AVERAGE(L20:M20))*(AVERAGE(N20:O20)) -> 6.75 | Q20: =IF(P20>15,"Crítico",IF(P20>8,"Alto",IF(P20>4,"Medio","Bajo"))) -> Medio | R20: Evaluación en sitio: Registros y/o Testificación | S20: Etapa 2
... A27: 19 | B27: Seguridad | C27: 7.4 | D27: Todos | E27: Personas Maliciosas | F27: Fraude en el proceso de evaluación y exámen | G27: Personas certificadas sin cumplir requisitos Quejas, deterioro de la imagen del OCP | H27: Falta de controles de seguridad o debilidad de los mismos (confirmación de identifdad, supervisión, uso repetido de materiales etc..) | I27: ='Promedio NC'!C22/'Promedio NC'!$C$2 -> 0.022222222 | J27: =Eventos!C22+Eventos!F22+Eventos!I22 -> 0 | K27: Operativo | L27: 5 | M27: 5 | N27: =IF(I27>=0.71,5,IF(I27>=0.51,4,IF(I27>=0.21,3,IF(I27>0,2,1)))) -> 2 | O27: 1 | P27: =(AVERAGE(L27:M27))*(AVERAGE(N27:O27)) -> 7.5 | Q27: =IF(P27>15,"Crítico",IF(P27>8,"Alto",IF(P27>4,"Medio","Bajo"))) -> Medio | R27: Evaluación en sitio: Testificación | S27: Etapa 1 y confirmación en etapa 2
A28: 20 | B28: Desarrollo de esquemas de certificación | C28: 8 | D28: Todos | E28: Actividades Administrativas y Controles de proceso | F28: Esquema de certificación sin alineación entre los requisitos técnicos y normativos, tareas y mecanismos de evaluación | G28: Certificación que no demuestra con suficiencia la competencia con relación al documento normativo | H28: Falta de conocimientos y capacidad técnica para el desarrollo de esquemas de certificación Falta de participación de expertos apropiados Falta de método adecuado para el desarrollo, revisión y validación de esquemas | I28: ='Promedio NC'!C23/'Promedio NC'!$C$2 -> 0 | J28: =Eventos!C23+Eventos!F23+Eventos!I23 -> 0 | K28: Estratégico | L28: 5 | M28: 4 | N28: =IF(I28>=0.71,5,IF(I28>=0.51,4,IF(I28>=0.21,3,IF(I28>0,2,1)))) -> 1 | O28: 1 | P28: =(AVERAGE(L28:M28))*(AVERAGE(N28:O28)) -> 4.5 | Q28: =IF(P28>15,"Crítico",IF(P28>8,"Alto",IF(P28>4,"Medio","Bajo"))) -> Medio | R28: Evaluación en sitio: Evaluación Documental | S28: Etapa 1 y confirmación en etapa 2
A29: 21 | B29: Gestión de cambios en los esquemas de certificación | C29: 8 | D29: Todos | E29: Actividades Administrativas y Controles de proceso | F29: Prestar servicio de certificación de personas con esquemas desactualizados con relación a la normatividad | G29: Certificado emitido no valido Quejas y reclamos Sobrecostos por reprocesos Afectación de imagen | H29: Falta de revisión y validación sistemático del esquema Falla en control de documentos de Origen externo Falta de monitoreo en los cambios normativos | I29: ='Promedio NC'!C24/'Promedio NC'!$C$2 -> 0.081481481 | J29: =Eventos!C24+Eventos!F24+Eventos!I24 -> 0 | K29: Estratégico | L29: 5 | M29: 4 | N29: =IF(I29>=0.71,5,IF(I29>=0.51,4,IF(I29>=0.21,3,IF(I29>0,2,1)))) -> 2 | O29: 1 | P29: =(AVERAGE(L29:M29))*(AVERAGE(N29:O29)) -> 6.75 | Q29: =IF(P29>15,"Crítico",IF(P29>8,"Alto",IF(P29>4,"Medio","Bajo"))) -> Medio | R29: Evaluación en sitio: Evaluación de registros | S29: Etapa 2
A30: 22 | B30: Solicitud | C30: 9.1 | D30: Todos | E30: Relaciones Comerciales y Contractuales | F30: Aceptar una solicitud incompleta o con información inadecuada en cuanto a los pre requisitos | G30: Demoras y re procesos en la prestación del servicio Queja de los clientes | H30: Falta de Información completa y clara para los solicitantes Omisión en la revisión de la solicitud | I30: ='Promedio NC'!C25/'Promedio NC'!$C$2 -> 0 | J30: =Eventos!C25+Eventos!F25+Eventos!I25 -> 0 | K30: Operativo | L30: 4 | M30: 3 | N30: =IF(I30>=0.71,5,IF(I30>=0.51,4,IF(I30>=0.21,3,IF(I30>0,2,1)))) -> 1 | O30: 1 | P30: =(AVERAGE(L30:M30))*(AVERAGE(N30:O30)) -> 3.5 | Q30: =IF(P30>15,"Crítico",IF(P30>8,"Alto",IF(P30>4,"Medio","Bajo"))) -> Bajo | R30: Evaluación en sitio: Evaluación de registros | S30: Etapa 2
A31: 23 | B31: Proceso de evaluación | C31: 9.2 | D31: Todos | E31: Actividades Administrativas y Controles de proceso | F31: Aplicar un examen inadecuado (fallas de diseño) o no actualizado al candidato | G31: Certificación que no demuestra con suficiencia la competencia con relación al documento normativo | H31: Inadecuada gestión de exámenes e instrumentos de evaluación | I31: ='Promedio NC'!C26/'Promedio NC'!$C$2 -> 0.014814815 | J31: =Eventos!C26+Eventos!F26+Eventos!I26 -> 0 | K31: Operativo | L31: 5 | M31: 3 | N31: =IF(I31>=0.71,5,IF(I31>=0.51,4,IF(I31>=0.21,3,IF(I31>0,2,1)))) -> 2 | O31: 1 | P31: =(AVERAGE(L31:M31))*(AVERAGE(N31:O31)) -> 6 | Q31: =IF(P31>15,"Crítico",IF(P31>8,"Alto",IF(P31>4,"Medio","Bajo"))) -> Medio | R31: Evaluación en sitio: Evaluación de registros | S31: Etapa 2
A32: 24 | B32: Proceso de evaluación | C32: 9.2 | D32: Todos | E32: Actividades Administrativas y Controles de proceso | F32: Fallas de seguridad o fraude en el examen | G32: Certificación de personas que no cumplen los requisitos del esquema | H32: Uso repetido de material de examen No hay separación de candidatos Falta de seguridad en la gestión del examen Falta de supervisión en el examen | I32: ='Promedio NC'!C27/'Promedio NC'!$C$2 -> 0.0074074074 | J32: =Eventos!C27+Eventos!F27+Eventos!I27 -> 0 | K32: Operativo | L32: 5 | M32: 5 | N32: =IF(I32>=0.71,5,IF(I32>=0.51,4,IF(I32>=0.21,3,IF(I32>0,2,1)))) -> 2 | O32: 1 | P32: =(AVERAGE(L32:M32))*(AVERAGE(N32:O32)) -> 7.5 | Q32: =IF(P32>15,"Crítico",IF(P32>8,"Alto",IF(P32>4,"Medio","Bajo"))) -> Medio | R32: Evaluación en sitio: Registros y Testificación | S32: Etapa 2
A33: 25 | B33: Proceso de evaluación | C33: 9.2 | D33: Todos | E33: Aspectos Tecnológicos o Técnicos | F33: Soborno al examinador en el proceso de determinación | G33: Certificación de personas que no cumplen los requisitos del esquema | H33: Falla en selección y contratación de examinador Falla en difusión de políticas y toma de conciencia Falta de monitoreo y supervisión | I33: ='Promedio NC'!C28/'Promedio NC'!$C$2 -> 0.0074074074 | J33: =Eventos!C28+Eventos!F28+Eventos!I28 -> 0 | K33: Operativo | L33: 5 | M33: 5 | N33: =IF(I33>=0.71,5,IF(I33>=0.51,4,IF(I33>=0.21,3,IF(I33>0,2,1)))) -> 2 | O33: 1 | P33: =(AVERAGE(L33:M33))*(AVERAGE(N33:O33)) -> 7.5 | Q33: =IF(P33>15,"Crítico",IF(P33>8,"Alto",IF(P33>4,"Medio","Bajo"))) -> Medio | R33: Evaluación en sitio: Entrevistas | S33: Etapa 2
A34: 26 | B34: Proceso de evaluación | C34: 9.2 | D34: Todos | E34: Actividades Administrativas y Controles de proceso | F34: Aplicación de pruebas practicas sin cumplir los criterios de diseño de examen y del esquema | G34: Certificación de personas que no cumplen los requisitos del esquema | H34: Falta de competencia del examinador | I34: ='Promedio NC'!C29/'Promedio NC'!$C$2 -> 0.014814815 | J34: =Eventos!C29+Eventos!F29+Eventos!I29 -> 0 | K34: Operativo | L34: 4 | M34: 3 | N34: =IF(I34>=0.71,5,IF(I34>=0.51,4,IF(I34>=0.21,3,IF(I34>0,2,1)))) -> 2 | O34: 1 | P34: =(AVERAGE(L34:M34))*(AVERAGE(N34:O34)) -> 5.25 | Q34: =IF(P34>15,"Crítico",IF(P34>8,"Alto",IF(P34>4,"Medio","Bajo"))) -> Medio | R34: Evaluación en sitio: Testificación | S34: Etapa 2
A35: 27 | B35: Proceso de examen | C35: 9.3.1 | D35: Todos | E35: Actividades Administrativas y Controles de proceso | F35: Diseño de examen que no determina con suficiencia la competencia del candidato | G35: Certificación que no demuestra con suficiencia la competencia con relación al documento normativo | H35: Falta de conocimiento y metodología para la revisión y validación de los exámenes o instrumentos de evaluación | I35: ='Promedio NC'!C30/'Promedio NC'!$C$2 -> 0.014814815 | J35: =Eventos!C30+Eventos!F30+Eventos!I30 -> 0 | K35: Operativo | L35: 5 | M35: 5 | N35: =IF(I35>=0.71,5,IF(I35>=0.51,4,IF(I35>=0.21,3,IF(I35>0,2,1)))) -> 2 | O35: 1 | P35: =(AVERAGE(L35:M35))*(AVERAGE(N35:O35)) -> 7.5 | Q35: =IF(P35>15,"Crítico",IF(P35>8,"Alto",IF(P35>4,"Medio","Bajo"))) -> Medio | R35: Evaluación en sitio: Evaluación Documental | S35: Etapa 2
A36: 28 | B36: Proceso de examen | C36: 9.3.3 | D36: Todos | E36: Aspectos Tecnológicos o Técnicos | F36: Condiciones inadecuadas para la realización del examen (incomodas, inseguras o inadecuadas) | G36: Resultados de examen no confiables Quejas y apelaciones | H36: Condiciones de examen no determinadas No realizar seguimiento a las condiciones de examen | I36: ='Promedio NC'!C31/'Promedio NC'!$C$2 -> 0.014814815 | J36: =Eventos!C31+Eventos!F31+Eventos!I31 -> 0 | K36: Operativo | L36: 4 | M36: 4 | N36: =IF(I36>=0.71,5,IF(I36>=0.51,4,IF(I36>=0.21,3,IF(I36>0,2,1)))) -> 2 | O36: 1 | P36: =(AVERAGE(L36:M36))*(AVERAGE(N36:O36)) -> 6 | Q36: =IF(P36>15,"Crítico",IF(P36>8,"Alto",IF(P36>4,"Medio","Bajo"))) -> Medio | R36: Evaluación en sitio: Testificación | S36: Etapa 2
A37: 29 | B37: Proceso de examen | C37: 9.3.4 | D37: Todos | E37: Aspectos Tecnológicos o Técnicos | F37: Uso de equipos de medición no confiables para el examen (cuando sea aplicable) | G37: Resultados de examen no confiables Quejas y apelaciones | H37: Inadecuada confirmación metrológica de equipos de medición | I37: ='Promedio NC'!C32/'Promedio NC'!$C$2 -> 0.014814815 | J37: =Eventos!C32+Eventos!F32+Eventos!I32 -> 0 | K37: Operativo | L37: 1 | M37: 1 | N37: =IF(I37>=0.71,5,IF(I37>=0.51,4,IF(I37>=0.21,3,IF(I37>0,2,1)))) -> 2 | O37: 1 | P37: =(AVERAGE(L37:M37))*(AVERAGE(N37:O37)) -> 1.5 | Q37: =IF(P37>15,"Crítico",IF(P37>8,"Alto",IF(P37>4,"Medio","Bajo"))) -> Bajo | R37: Evaluación en sitio: Evaluación de registros | S37: Etapa 2
A38: 30 | B38: Proceso de examen | C38: 9.3.5 | D38: Todos | E38: Actividades Administrativas y Controles de proceso | F38: Exámenes no validos (no miden adecuadamente) o no fiables (no concordantes) | G38: Resultados de examen no confiables Quejas y apelaciones | H38: Fallas en diseño del instrumento Inadecuada reafirmación de los instrumentos | I38: ='Promedio NC'!C33/'Promedio NC'!$C$2 -> 0 | J38: =Eventos!C33+Eventos!F33+Eventos!I33 -> 0 | K38: Operativo | L38: 5 | M38: 3 | N38: =IF(I38>=0.71,5,IF(I38>=0.51,4,IF(I38>=0.21,3,IF(I38>0,2,1)))) -> 1 | O38: 1 | P38: =(AVERAGE(L38:M38))*(AVERAGE(N38:O38)) -> 4 | Q38: =IF(P38>15,"Crítico",IF(P38>8,"Alto",IF(P38>4,"Medio","Bajo"))) -> Bajo | R38: Evaluación en sitio: Evaluación de registros | S38: Etapa 2
A39: 31 | B39: Decisión de la certificación | C39: 9.4 | D39: Todos | E39: Actividades Administrativas y Controles de proceso | F39: Tomar una decisión errada con relación a la certificación de un candidato | G39: Certificación no valida, persona certificada erróneamente, perdida de credibilidad y confianza en certificación | H39: Información incompleta o insuficiente para la toma de decisión | I39: ='Promedio NC'!C34/'Promedio NC'!$C$2 -> 0.022222222 | J39: =Eventos!C34+Eventos!F34+Eventos!I34 -> 1 | K39: Operativo | L39: 5 | M39: 4 | N39: =IF(I39>=0.71,5,IF(I39>=0.51,4,IF(I39>=0.21,3,IF(I39>0,2,1)))) -> 2 | O39: 1 | P39: =(AVERAGE(L39:M39))*(AVERAGE(N39:O39)) -> 6.75 | Q39: =IF(P39>15,"Crítico",IF(P39>8,"Alto",IF(P39>4,"Medio","Bajo"))) -> Medio | R39: Evaluación en sitio: Evaluación de registros | S39: Etapa 2
A40: 32 | B40: Decisión de la certificación | C40: 9.4 | D40: Todos | E40: Comportamiento Humano | F40: Tomar una decisión errada con relación a la certificación de un candidato | G40: Certificación no valida, persona certificada erróneamente, perdida de credibilidad y confianza en certificación | H40: Falta de competencia del responsable de toma de decisión Conflicto de interés en toma de decisión | I40: ='Promedio NC'!C35/'Promedio NC'!$C$2 -> 0.0074074074 | J40: =Eventos!C35+Eventos!F35+Eventos!I35 -> 1 | K40: Operativo | L40: 5 | M40: 4 | N40: =IF(I40>=0.71,5,IF(I40>=0.51,4,IF(I40>=0.21,3,IF(I40>0,2,1)))) -> 2 | O40: 1 | P40: =(AVERAGE(L40:M40))*(AVERAGE(N40:O40)) -> 6.75 | Q40: =IF(P40>15,"Crítico",IF(P40>8,"Alto",IF(P40>4,"Medio","Bajo"))) -> Medio | R40: Evaluación en sitio: Evaluación de registros | S40: Etapa 2
A41: 33 | B41: Suspender, retirar o reducir alcance de certificación | C41: 9.5 | D41: Todos | E41: Actividades Administrativas y Controles de proceso | F41: Mantener información desactualizada del alcance de una certificación suspendida, retirada o reducida | G41: Dar información equivocada a los clientes de los clientes certificados, quejas y reclamos, y afectación a la imagen del OEC | H41: Falta de control de procesos y seguimiento al programa de evaluación Incumplimiento en revisión de información disponible al publico | I41: ='Promedio NC'!C36/'Promedio NC'!$C$2 -> 0.02962963 | J41: =Eventos!C36+Eventos!F36+Eventos!I36 -> 0 | K41: Operativo | L41: 3 | M41: 3 | N41: =IF(I41>=0.71,5,IF(I41>=0.51,4,IF(I41>=0.21,3,IF(I41>0,2,1)))) -> 2 | O41: 1 | P41: =(AVERAGE(L41:M41))*(AVERAGE(N41:O41)) -> 4.5 | Q41: =IF(P41>15,"Crítico",IF(P41>8,"Alto",IF(P41>4,"Medio","Bajo"))) -> Medio | R41: Evaluación en sitio: Evaluación de registros | S41: Etapa 1 y confirmación en etapa 2
... A53: 45 | B53: Acciones preventivas | C53: 10.2.8 | D53: Todos | E53: Actividades Administrativas y Controles de proceso | F53: No implementación de acciones preventivas | G53: No hay mejoramiento continuo en la Organización | H53: No se aplican mecanismos para determinar problemas potenciales Falta de análisis de causas Desconocimiento de conceptos y criterios para la mejora | I53: ='Promedio NC'!C48/'Promedio NC'!$C$2 -> 0 | J53: =Eventos!C48+Eventos!F48+Eventos!I48 -> 0 | K53: Operativo | L53: 2 | M53: 1 | N53: =IF(I53>=0.71,5,IF(I53>=0.51,4,IF(I53>=0.21,3,IF(I53>0,2,1)))) -> 1 | O53: 1 | P53: =(AVERAGE(L53:M53))*(AVERAGE(N53:O53)) -> 1.5 | Q53: =IF(P53>15,"Crítico",IF(P53>8,"Alto",IF(P53>4,"Medio","Bajo"))) -> Bajo | R53: Evaluación en sitio: Evaluación de registros | S53: Etapa 1 y confirmación en etapa 2

Sheet Promedio NC
B2: NUMERO TOTAL DE NC | C2: 135
B3: Requisito | C3: Total NC por Requisito
B4: 4.1Responsabilidad legal | C4: 2
B5: 4.2Responsabilidad en materia de certificación | C5: 0
B6: 4.3Gestión de imparcialidad | C6: 1
B7: 4.3Gestión de imparcialidad | C7: 0
B8: 4.3Gestión de imparcialidad | C8: 0
B9: 4.3Gestión de imparcialidad | C9: 0
B10: 4.3Gestión de imparcialidad | C10: 0
B11: 4.3Gestión de imparcialidad | C11: 1
B12: 4.3Gestión de imparcialidad | C12: 5
B13: 4.3Gestión de imparcialidad | C13: 5
B14: 4.4Responsabilidad legal y financiamientol | C14: 6
B15: 5.1Dirección y estructura de la organización | C15: 1
... B78: 10.2.8Acciones preventivas | C78: 1

Sheet Eventos
B2: QUEJAS | E2: APELACIONES | H2: SANCIONES
B3: Requisito | C3: Total por Requisito | E3: Requisito | F3: Total por Requisito | H3: Requisito | I3: Total por Requisito
B4: 4.1Responsabilidad legal | C4: 0 | E4: 4.1Responsabilidad legal | F4: 0 | H4: 4.1Responsabilidad legal | I4: 0
B5: 4.2Responsabilidad en materia de certificación | C5: 0 | E5: 4.2Responsabilidad en materia de certificación | F5: 0 | H5: 4.2Responsabilidad en materia de certificación | I5: 0
B6: 4.3Gestión de imparcialidad | C6: 0 | E6: 4.3Gestión de imparcialidad | F6: 0 | H6: 4.3Gestión de imparcialidad | I6: 0
B7: 4.3Gestión de imparcialidad | C7: 0 | E7: 4.3Gestión de imparcialidad | F7: 0 | H7: 4.3Gestión de imparcialidad | I7: 0
B8: 4.3Gestión de imparcialidad | C8: 0 | E8: 4.3Gestión de imparcialidad | F8: 0 | H8: 4.3Gestión de imparcialidad | I8: 0
B9: 4.3Gestión de imparcialidad | C9: 0 | E9: , | F9: 0 | H9: 4.3Gestión de imparcialidad | I9: 0
B10: 4.4Responsabilidad legal y financiamientol | C10: 0 | E10: 4.4Responsabilidad legal y financiamientol | F10: 0 | H10: 4.4Responsabilidad legal y financiamientol | I10: 0
B11: 4.4Responsabilidad legal y financiamientol | C11: 0 | E11: 0 | F11: 0 | H11: 4.4Responsabilidad legal y financiamientol | I11: 0
B12: 5.1Estructura de la organización y alta dirección | C12: 0 | E12: 5.1Estructura de la organización y alta dirección | F12: 0 | H12: 5.1Estructura de la organización y alta dirección | I12: 0
B13: 5.2Actividades de formación | C13: 0 | E13: 5.2Actividades de formación | F13: 0 | H13: 5.2Actividades de formación | I13: 0
B14: 6.1Requisitos generales del personal | C14: 0 | E14: 6.1Requisitos generales del personal | F14: 0 | H14: 6.1Requisitos generales del personal | I14: 0
B15: 6.2Personal que interviene en actividades de certificación | C15: 0 | E15: 6.2Personal que interviene en actividades de certificación | F15: 0 | H15: 6.2Personal que interviene en actividades de certificación | I15: 0
B16: 6.3Contratación externa | C16: 0 | E16: 6.3Contratación externa | F16: 0 | H16: 6.3Contratación externa | I16: 0
B17: 6.4Otros recursas | C17: 0 | E17: 6.4Otros recursas | F17: 1 | H17: 6.4Otros recursas | I17: 0
B18: 7.1Registros de certificación | C18: 0 | E18: 7.1Registros de certificación | F18: 0 | H18: 7.1Registros de certificación | I18: 0
B19: 7.1Registros de certificación | C19: 0 | E19: 7.1Registros de certificación | F19: 0 | H19: 7.1Registros de certificación | I19: 0
B20: 7.2Información publica | C20: 0 | E20: 7.2Información publica | F20: 0 | H20: 7.2Información publica | I20: 0
B21: 7.3Confidencialidad | C21: 0 | E21: 7.3Confidencialidad | F21: 0 | H21: 7.3Confidencialidad | I21: 0
B22: 7.4Seguridad | C22: 0 | E22: 7.4Seguridad | F22: 0 | H22: 7.4Seguridad | I22: 0
B23: 8Desarrollo de esquemas de certificación | C23: 0 | E23: 8Desarrollo de esquemas de certificación | F23: 0 | H23: 8Desarrollo de esquemas de certificación | I23: 0
... B48: 10.2.8Acciones preventivas | C48: 0 | E48: 10.2.8Acciones preventivas | F48: 0 | H48: 10.2.8Acciones preventivas | I48: 0

Sheet Mapa de riesgo OCP
E2: MAPA DE RIESGOS ORGANISMOS CERTIFICADORES DE PERSONAS | Q2: Anexo E _PR-3.3-01 Versión 03 Fecha. 2022-10-12
B5: No | C5: REQUISITOS | D5: Análisis de riesgo | F5: Nivel de riesgo | G5: Riesgo | H5: Tipo de riesgo | I5: Descripción del evento
D6: C | E6: O
B7: ='Matriz de riesgo OCP'!A9 -> 1 | C7: ='Matriz de riesgo OCP'!B9 -> Responsabilidad legal | D7: =AVERAGE('Matriz de riesgo OCP'!L9:M9) -> 2 | E7: =AVERAGE('Matriz de riesgo OCP'!N9:O9) -> 1.5 | F7: =D7*E7 -> 3 | G7: =IF(F7>15,"Crítico",IF(F7>8,"Alto",IF(F7>4,"Medio","Bajo"))) -> Bajo | H7: ='Matriz de riesgo OCP'!K9 -> Estrategico | I7: ='Matriz de riesgo OCP'!F9 -> Organismo de certificación pierde su estatus legal o incumple requisitos de habilitación (si aplican)
B8: ='Matriz de riesgo OCP'!A10 -> 2 | C8: ='Matriz de riesgo OCP'!B10 -> Responsabilidad en materia de certificación | D8: =AVERAGE('Matriz de riesgo OCP'!L10:M10) -> 1 | E8: =AVERAGE('Matriz de riesgo OCP'!N10:O10) -> 1 | F8: =D8*E8 -> 1 | G8: =IF(F8>15,"Crítico",IF(F8>8,"Alto",IF(F8>4,"Medio","Bajo"))) -> Bajo | H8: ='Matriz de riesgo OCP'!K10 -> Estratégico | I8: ='Matriz de riesgo OCP'!F10 -> Subcontratación de la toma de decisión
B9: ='Matriz de riesgo OCP'!A11 -> 3 | C9: ='Matriz de riesgo OCP'!B11 -> Gestión de imparcialidad | D9: =AVERAGE('Matriz de riesgo OCP'!L11:M11) -> 2 | E9: =AVERAGE('Matriz de riesgo OCP'!N11:O11) -> 1.5 | F9: =D9*E9 -> 3 | G9: =IF(F9>15,"Crítico",IF(F9>8,"Alto",IF(F9>4,"Medio","Bajo"))) -> Bajo | H9: ='Matriz de riesgo OCP'!K11 -> Estratégico | I9: ='Matriz de riesgo OCP'!F11 -> Inadecuada identificación, análisis, valoración y tratamiento de riesgos de imparcialidad
B10: ='Matriz de riesgo OCP'!A12 -> 4 | C10: ='Matriz de riesgo OCP'!B12 -> Gestión de imparcialidad | D10: =AVERAGE('Matriz de riesgo OCP'!L12:M12) -> 5 | E10: =AVERAGE('Matriz de riesgo OCP'!N12:O12) -> 1 | F10: =D10*E10 -> 5 | G10: =IF(F10>15,"Crítico",IF(F10>8,"Alto",IF(F10>4,"Medio","Bajo"))) -> Medio | H10: ='Matriz de riesgo OCP'!K12 -> Estratégico | I10: ='Matriz de riesgo OCP'!F12 -> Facilitar actividades de evaluación y exámen para no ser percibido como muy estricto
B11: ='Matriz de riesgo OCP'!A13 -> 5 | C11: ='Matriz de riesgo OCP'!B13 -> Gestión de imparcialidad | D11: =AVERAGE('Matriz de riesgo OCP'!L13:M13) -> 5 | E11: =AVERAGE('Matriz de riesgo OCP'!N13:O13) -> 1 | F11: =D11*E11 -> 5 | G11: =IF(F11>15,"Crítico",IF(F11>8,"Alto",IF(F11>4,"Medio","Bajo"))) -> Medio | H11: ='Matriz de riesgo OCP'!K13 -> De Mercado | I11: ='Matriz de riesgo OCP'!F13 -> Permitir presiones de organismos relacionados que afecten actividades de evaluación y exámen
B12: ='Matriz de riesgo OCP'!A14 -> 6 | C12: ='Matriz de riesgo OCP'!B14 -> Gestión de imparcialidad | D12: =AVERAGE('Matriz de riesgo OCP'!L14:M14) -> 5 | E12: =AVERAGE('Matriz de riesgo OCP'!N14:O14) -> 1 | F12: =D12*E12 -> 5 | G12: =IF(F12>15,"Crítico",IF(F12>8,"Alto",IF(F12>4,"Medio","Bajo"))) -> Medio | H12: ='Matriz de riesgo OCP'!K14 -> De Mercado | I12: ='Matriz de riesgo OCP'!F14 -> Sobornos, chantajes, amenazas u otras actuaciones ilicitas que afecten la imparcialidad
B13: ='Matriz de riesgo OCP'!A15 -> 7 | C13: ='Matriz de riesgo OCP'!B15 -> Responsabilidad legal y financiamientol | D13: =AVERAGE('Matriz de riesgo OCP'!L15:M15) -> 1.5 | E13: =AVERAGE('Matriz de riesgo OCP'!N15:O15) -> 1 | F13: =D13*E13 -> 1.5 | G13: =IF(F13>15,"Crítico",IF(F13>8,"Alto",IF(F13>4,"Medio","Bajo"))) -> Bajo | H13: ='Matriz de riesgo OCP'!K15 -> Estratégico | I13: ='Matriz de riesgo OCP'!F15 -> Falta de recursos para la operación
B14: ='Matriz de riesgo OCP'!A16 -> 8 | C14: ='Matriz de riesgo OCP'!B16 -> Responsabilidad legal y financiamientol | D14: =AVERAGE('Matriz de riesgo OCP'!L16:M16) -> 1 | E14: =AVERAGE('Matriz de riesgo OCP'!N16:O16) -> 1.5 | F14: =D14*E14 -> 1.5 | G14: =IF(F14>15,"Crítico",IF(F14>8,"Alto",IF(F14>4,"Medio","Bajo"))) -> Bajo | H14: ='Matriz de riesgo OCP'!K16 -> Estratégico | I14: ='Matriz de riesgo OCP'!F16 -> Incumplimiento de requisitos de polizas de seguros
B15: ='Matriz de riesgo OCP'!A17 -> 9 | C15: ='Matriz de riesgo OCP'!B17 -> Estructura de la organización y alta dirección | D15: =AVERAGE('Matriz de riesgo OCP'!L17:M17) -> 2.5 | E15: =AVERAGE('Matriz de riesgo OCP'!N17:O17) -> 1.5 | F15: =D15*E15 -> 3.75 | G15: =IF(F15>15,"Crítico",IF(F15>8,"Alto",IF(F15>4,"Medio","Bajo"))) -> Bajo | H15: ='Matriz de riesgo OCP'!K17 -> Operativo | I15: ='Matriz de riesgo OCP'!F17 -> Estructura inadecuada que genera fallas y errores en la gestión de los procesos del OEC
B16: ='Matriz de riesgo OCP'!A18 -> 10 | C16: ='Matriz de riesgo OCP'!B18 -> Actividades de formación | D16: =AVERAGE('Matriz de riesgo OCP'!L18:M18) -> 3.5 | E16: =AVERAGE('Matriz de riesgo OCP'!N18:O18) -> 1.5 | F16: =D16*E16 -> 5.25 | G16: =IF(F16>15,"Crítico",IF(F16>8,"Alto",IF(F16>4,"Medio","Bajo"))) -> Medio | H16: ='Matriz de riesgo OCP'!K18 -> Estratégico | I16: ='Matriz de riesgo OCP'!F18 -> Realizar actividades de capacitación en el esquema condicionando las actividades de certificación
B17: ='Matriz de riesgo OCP'!A19 -> 11 | C17: ='Matriz de riesgo OCP'!B19 -> Requisitos generales del personal | D17: =AVERAGE('Matriz de riesgo OCP'!L19:M19) -> 2.5 | E17: =AVERAGE('Matriz de riesgo OCP'!N19:O19) -> 1.5 | F17: =D17*E17 -> 3.75 | G17: =IF(F17>15,"Crítico",IF(F17>8,"Alto",IF(F17>4,"Medio","Bajo"))) -> Bajo | H17: ='Matriz de riesgo OCP'!K19 -> Operativo | I17: ='Matriz de riesgo OCP'!F19 -> Falta de evidencias de la competencia del personal
B18: ='Matriz de riesgo OCP'!A20 -> 12 | C18: ='Matriz de riesgo OCP'!B20 -> Personal que interviene en actividades de certificación | D18: =AVERAGE('Matriz de riesgo OCP'!L20:M20) -> 4.5 | E18: =AVERAGE('Matriz de riesgo OCP'!N20:O20) -> 1.5 | F18: =D18*E18 -> 6.75 | G18: =IF(F18>15,"Crítico",IF(F18>8,"Alto",IF(F18>4,"Medio","Bajo"))) -> Medio | H18: ='Matriz de riesgo OCP'!K20 -> Operativo | I18: ='Matriz de riesgo OCP'!F20 -> Realización de servicios de certificación y toma de decisión por personal no competente
... B51: ='Matriz de riesgo OCP'!A53 -> 45 | C51: ='Matriz de riesgo OCP'!B53 -> Acciones preventivas | D51: =AVERAGE('Matriz de riesgo OCP'!L53:M53) -> 1.5 | E51: =AVERAGE('Matriz de riesgo OCP'!N53:O53) -> 1 | F51: =D51*E51 -> 1.5 | G51: =IF(F51>15,"Crítico",IF(F51>8,"Alto",IF(F51>4,"Medio","Bajo"))) -> Bajo | H51: ='Matriz de riesgo OCP'!K53 -> Operativo | I51: ='Matriz de riesgo OCP'!F53 -> No implementación de acciones preventivas

Sheet Hoja1
B2: Fuentes de Riesgo | C2: Técnicas de evaluación | D2: Tipos de Riesgo
B3: Relaciones Comerciales y Contractuales | C3: Evaluación en sitio: Evaluación Documental | D3: Estratégico
B4: Normatividad y Regulación | C4: Evaluación en sitio: Evaluación de registros | D4: Operativo
B5: Circunstancias Económicas | C5: Evaluación en sitio: Testificación | D5: Financiero
B6: Comportamiento Humano | C6: Evaluación en sitio: Registros y/o Testificación | D6: Operativo
B7: Comportamiento Humano | C7: Evaluación en sitio: Entrevistas | D7: De Mercado
B8: Comportamiento Humano | C8: Evaluación en sitio: Entrevistas y regisros | D8: De Mercado
B9: Eventos naturales | C9: Evaluación en sitio: Ensayos de aptitud | D9: Ambiental
B10: Circunstancias Políticas | C10: Evaluación en remota: Evaluación Documental | D10: Tecnológico
B11: Aspectos Tecnológicos o Técnicos | C11: Evaluación en remota: Evaluación de registros | D11: Físico
B12: Actividades Administrativas y Controles de proceso | C12: Evaluación en remota: Entrevistas | D12: SISO
B13: Personas Maliciosas | C13: Evaluación en remota: Entrevistas | D13: Seguridad de la Información
B14: Imparcialidad | C14: Visitas no anunciadas

Sheet Registro Eventos e Incidentes
B2: Evento e Incidente | C2: Descripción | D2: Fecha de Ocurrencia | E2: Tratamiento / Corrección | F2: Responsable | G2: Estado

Sheet Hoja2
B2: Fuentes de Riesgo | C2: Técnicas de evaluación | D2: Tipos de Riesgo
B3: Relaciones Comerciales y Contractuales | C3: Evaluación en sitio: Evaluación Documental | D3: Estratégico
B4: Normatividad y Regulación | C4: Evaluación en sitio: Evaluación de registros | D4: Operativo
B5: Circunstancias Económicas | C5: Evaluación en sitio: Testificación | D5: Financiero
B6: Comportamiento Humano | C6: Evaluación en sitio: Registros y/o Testificación | D6: Operativo
B7: Comportamiento Humano | C7: Evaluación en sitio: Entrevistas | D7: De Mercado
B8: Comportamiento Humano | C8: Evaluación en sitio: Registros y Testificación | D8: Operativo
B9: Eventos naturales | C9: Evaluación en sitio: Ensayos de aptitud | D9: Ambiental
B10: Circunstancias Políticas | C10: Evaluación en remota: Evaluación Documental | D10: Tecnológico
B11: Aspectos Tecnológicos o Técnicos | C11: Evaluación en remota: Evaluación de registros | D11: Físico
B12: Actividades Administrativas y Controles de proceso | C12: Evaluación en remota: Entrevistas | D12: SISO
B13: Personas Maliciosas | C13: Evaluación en remota: Entrevistas | D13: Seguridad de la Información
B14: Imparcialidad | C14: Visitas no anunciadas
