Workbook
Name Excel_BuiltIn__FilterDatabase_3: #REF!
Name Excel_BuiltIn__FilterDatabase_3: #REF!
Name Excel_BuiltIn__FilterDatabase_3: #REF!

Sheet Matriz de riesgo Evaluación
C1: MATRIZ DE RIESGOS DEL PROCESO DE EVALUACIÓN | I1: Anexo 1-PR-3.3-01
I2: Versión 01
A4: No | B4: ACTIVIDAD / REQUISITO | C4: ANÁLISIS DE RIESGO | H4: EVALUACIÓN DE RIESGO | J4: Plan de Acción
C5: Evento | D5: Efecto / Consecuencia / impacto | E5: Causa / Debilidad (por que puede ocurrir) | F5: Probabilidad | G5: Consecuencia | H5: Nivel de riesgo | I5: Clasificación Riesgo
A6: 1 | B6: Revisión de documentos y registros del OEC (Requisitos normativos y alcance) | C6: El OEC no remite la información completa que se solicita para etapa 1 | D6: No ejecucion de la Etapa 1 de evaluación | E6: Falta de comunicación con el OEC y la Coordinacion, Instrucciones poco claras respecto a la documentacion a entregar. | F6: 3 | G6: 3 | H6: =(F6*G6) -> 9 | I6: =IF($H6=" "," ",IF(H6<=4,"BAJO",IF(AND(H6>4,H6<=7),"MEDIO","ALTO"))) -> ALTO | J6: Establecer canales de comunicación claros con el OEC.
A7: 2 | C7: La información que remite la Coordinación Sectorial al equipo evaluador es incompleta | D7: Dificultades para la realizacion de la evaluación. | E7: Perdida de informacion cuando la documentacion es enviada del OEC a la Coordinacion Sectorial | F7: 2 | G7: 3 | H7: =(F7*G7) -> 6 | I7: =IF($H7=" "," ",IF(H7<=4,"BAJO",IF(AND(H7>4,H7<=7),"MEDIO","ALTO"))) -> MEDIO | J7: Fortalecer las revisiones que se realizan en las Coordinaciones sectoriales cuando se recibe la solicitud del OEC.
A8: 3 | C8: Retrasos en la entrega de los resultados de la revision de documentos y registros por parte del equipo evaluador | D8: Demoras en la determinacion de resultados de la etapa 1 | E8: Los resultados de la revisión de los documentos y registros por parte del equipo evaluador EL y expertos no son entregados oportunamente | F8: 2 | G8: 2 | H8: =(F8*G8) -> 4 | I8: =IF($H8=" "," ",IF(H8<=4,"BAJO",IF(AND(H8>4,H8<=7),"MEDIO","ALTO"))) -> BAJO | J8: N.A.
A9: 4 | C9: Revisión insuficiente de la documentación | D9: No identificación de hallazgos | E9: Planificación inadecuada del tiempo asignado a la etapa 1 Expertos técnicos sin suficiente entrenamiento en el proceso de evaluación. | F9: 2 | G9: 3 | H9: =(F9*G9) -> 6 | I9: =IF($H9=" "," ",IF(H9<=4,"BAJO",IF(AND(H9>4,H9<=7),"MEDIO","ALTO"))) -> MEDIO | J9: Realizar retroalimentacion a los evaluadores y fortalecer en la unficacion de criterios
A10: 5 | C10: No contar con acceso al FTP donde se suben los documentos para la evaluación | D10: No se puede realizar la evaluación a tiempo | E10: Falta de red o capacidad en el equipo de computo | F10: 2 | G10: 3 | H10: =(F10*G10) -> 6 | I10: =IF($H10=" "," ",IF(H10<=4,"BAJO",IF(AND(H10>4,H10<=7),"MEDIO","ALTO"))) -> MEDIO | J10: Implementacion de Software que permita realizar la actividad de manera sistematica
A11: 6 | C11: Encontrar archivos encriptados, borrosos o no legibles e incompletos | D11: El equipo evaluador debe revisar en etapa 2 lo que no puede revisar en etapa 1 | E11: El OEC no fue cuidadoso con el manejo en el envio de la información a ONAC | F11: 2 | G11: 3 | H11: =(F11*G11) -> 6 | I11: =IF($H11=" "," ",IF(H11<=4,"BAJO",IF(AND(H11>4,H11<=7),"MEDIO","ALTO"))) -> MEDIO | J11: Fortalecer las condiciones para el envio de la informacion por parte del OEC (Especificaciones en el Formulario de solicitud)
A12: 8 | B12: Aplicación de criterios de muestreo (registros, personas, sitios, equipos y alcances) | C12: Desconocimiento de la aplicación de los criterios de muestreo | D12: No se da cubrimiento a todas las sedes, personas, equipos, registro y el alcance en el ciclo de acreditación | E12: Falta de capacitacion del equipo evaluador sobre parametros de muestreo | F12: 1 | G12: 2 | H12: =(F12*G12) -> 2 | I12: =IF($H12=" "," ",IF(H12<=4,"BAJO",IF(AND(H12>4,H12<=7),"MEDIO","ALTO"))) -> BAJO | J12: N.A.
A13: 9 | C13: Representatividad insuficiente en el alcance a evaluar | D13: Recomendación inadecuada sobre el estado de la acreditación | E13: No implementacion de los parametros de muestreo | F13: 2 | G13: 3 | H13: =(F13*G13) -> 6 | I13: =IF($H13=" "," ",IF(H13<=4,"BAJO",IF(AND(H13>4,H13<=7),"MEDIO","ALTO"))) -> MEDIO | J13: Socializar y fortalecer con los evaluadores la aplicación del instructivo de evaluacion de cada esquema (Parámetros de Muestreo)
A14: 10 | C14: Equipo evaluador insuficiente para un muestreo representativo. | D14: No cubrimiento de todos los criterios de evaluación. | E14: Falta de personal calificado para los diferentes esquemas de acreditación | F14: 2 | G14: 3 | H14: =(F14*G14) -> 6 | I14: =IF($H14=" "," ",IF(H14<=4,"BAJO",IF(AND(H14>4,H14<=7),"MEDIO","ALTO"))) -> MEDIO | J14: Establecer estrategias para aumentar la consecución de profesionales técnicos.
A15: 11 | C15: Selección insuficiente de la muestra | D15: Conclusiones equivocadas sobre la competencia del OEC | E15: Revisión deficiente del alcance | F15: 2 | G15: 3 | H15: =(F15*G15) -> 6 | I15: =IF($H15=" "," ",IF(H15<=4,"BAJO",IF(AND(H15>4,H15<=7),"MEDIO","ALTO"))) -> MEDIO | J15: Socializar y fortalecer con los evaluadores la aplicación del instructivo de evaluacion de cada esquema (Parámetros de Muestreo)
A16: 12 | C16: Seleccionar una muestra suficiente pero repetida de la anterior evaluación. | D16: No es posible evaluar la totalida del alcance en el ciclo de acreditación | E16: Falta de información de la evaluación anterior | F16: 2 | G16: 3 | H16: =(F16*G16) -> 6 | I16: =IF($H16=" "," ",IF(H16<=4,"BAJO",IF(AND(H16>4,H16<=7),"MEDIO","ALTO"))) -> MEDIO | J16: Revisar que este contemplada la informacion de la evaluacion anterior.
A17: 13 | C17: Sobre estimar un tamaño de muestra | D17: Disminución de tiempo a otras actividades de igual importancia en la evaluación | E17: No existe un esquema de muestreo para calcular un tamaño de muestra suficiente | F17: 2 | G17: 3 | H17: =(F17*G17) -> 6 | I17: =IF($H17=" "," ",IF(H17<=4,"BAJO",IF(AND(H17>4,H17<=7),"MEDIO","ALTO"))) -> MEDIO | J17: Implementar metodologia de muestreo para cada programa de acreditación
A18: 16 | B18: Elaboración del plan de evaluación y/o plan de testificación (Enfoque de evaluación basada en riesgos) | C18: Plan de evaluación desalineado con el enfoque basado en riesgos propuesto para cada esquema de acreditación | D18: Estructuración del plan de evaluación en criterios diferentes a los riesgos de alto impacto. | E18: Desconocimiento de las matrices de evaluacion basada en riesgo para cada esquema de acreditación | F18: 2 | G18: 2 | H18: =(F18*G18) -> 4 | I18: =IF($H18=" "," ",IF(H18<=4,"BAJO",IF(AND(H18>4,H18<=7),"MEDIO","ALTO"))) -> BAJO | J18: Socializar con los diferentes equipos evaluadores las matrices de evaluacion basada en riesgo.
A19: 17 | C19: Plan de evaluación que no es suficiente ni adecuado (No contiene las actividades criticas y sitios críticos del OEC, ni los requisitos y criterios específicos de evaluación. | D19: Evaluación deficiente, no evidencia de hallazgos. | E19: Tiempo insuficiente para la preparacion de la evaluación | F19: 2 | G19: 3 | H19: =(F19*G19) -> 6 | I19: =IF($H19=" "," ",IF(H19<=4,"BAJO",IF(AND(H19>4,H19<=7),"MEDIO","ALTO"))) -> MEDIO | J19: Entrenamiento a evaluadores, unificación de criterios.
A20: 18 | C20: Asignación de tiempo muy corta para la revisión de los diferentes requisitos | D20: No identificar hallazgos suficientes | E20: falta de conocimiento del alcance del OEC | F20: 2 | G20: 3 | H20: =(F20*G20) -> 6 | I20: =IF($H20=" "," ",IF(H20<=4,"BAJO",IF(AND(H20>4,H20<=7),"MEDIO","ALTO"))) -> MEDIO | J20: Revisar los tiempos de evaluacion para cada esquema (modelos de calculos de tiempos de evaluación)
A21: 19 | C21: Entrega demorada del plan de evaluación al OEC | D21: Tiempo insuficiente para disponer de los ítems para las testificaciones | E21: Falta de seguimiento de la Coordinacion sectorial a los entregables por parte del equipo evaluador. | F21: 2 | G21: 3 | H21: =(F21*G21) -> 6 | I21: =IF($H21=" "," ",IF(H21<=4,"BAJO",IF(AND(H21>4,H21<=7),"MEDIO","ALTO"))) -> MEDIO | J21: Implementar seguimiento de este tiempo por medio del CPS (Cuadro de planeacion y seguimiento)
A22: 20 | C22: No tener en cuenta las actividades que indica el plan de evaluación, tanto para atestiguar como la evaluación por registros | D22: Riesgo de no atestiguar el alcance del OEC en el ciclo de acreditación. | E22: No se encuentra trazabilidad del plan de evaluación por ciclo de acreditación | F22: 2 | G22: 3 | H22: =(F22*G22) -> 6 | I22: =IF($H22=" "," ",IF(H22<=4,"BAJO",IF(AND(H22>4,H22<=7),"MEDIO","ALTO"))) -> MEDIO | J22: Entrenamiento a evaluadores, unificación de criterios.
A23: 21 | B23: Identificación de Hallazgos de etapa 1 | C23: Falta de conocimiento sobre las resoluciones o normatividad a evaluar, falta de interpretacion de la normativa por parte del experto técnico | D23: Dificultad en la identificación de los hallazgos. | E23: Falta de entrenamiento de los expertos, deficiencias en el proceso de calificacion de expertos tecnicos | F23: 4 | G23: 5 | H23: =(F23*G23) -> 20 | I23: =IF($H23=" "," ",IF(H23<8,"BAJO",IF(AND(H23>=8,H23<15),"MEDIO","ALTO"))) -> ALTO | J23: Inducción de expertos (enfocada en la interpretación del requisito y en la imparcialidad de las evaluaciones), hacer valoracion por cada esquema para determinar cual es la documentacion que se requiere revisar en E1 (informes).
A24: 22 | C24: La descripción del hallazgo y el requisito que se incumple no son coherentes | D24: Apelación por parte del OEC | E24: Falta de entrenamiento de los expertos, deficiencias en el proceso de calificacion de expertos tecnicos | F24: 3 | G24: 4 | H24: =(F24*G24) -> 12 | I24: =IF($H24=" "," ",IF(H24<8,"BAJO",IF(AND(H24>=8,H24<15),"MEDIO","ALTO"))) -> MEDIO | J24: Inducción de expertos (enfocada en la interpretación del requisito y en la imparcialidad de las evaluaciones), hacer valoracion por cada esquema para ver cual es la documentacion que se requiere revisar en E1 (informes).
A25: 23 | C25: Encontrar falsos hallazgos | D25: Tiempo en la etapa 2 se reduce ya que se pierde tiempo en revisar documentación que debía ser revisada en etapa 1. | E25: Documentación incompleta e informacion insuficiente | F25: 2 | G25: 1 | H25: =(F25*G25) -> 2 | I25: =IF($H25=" "," ",IF(H25<8,"BAJO",IF(AND(H25>=8,H25<15),"MEDIO","ALTO"))) -> BAJO
A26: 24 | B26: Envío de entregables etapa 1 | C26: Oportunidad en el envío de entregables y entrega incompleta de documentos | D26: Retrasos en el proceso de evaluación. | E26: Seguimiento a las entregas por parte del grupo evaluador | F26: 4 | G26: 4 | H26: =(F26*G26) -> 16 | I26: =IF($H26=" "," ",IF(H26<8,"BAJO",IF(AND(H26>=8,H26<15),"MEDIO","ALTO"))) -> ALTO | J26: Definir desde las coordinaciones que documentacion es la que deben entregar. Incluir en las agendas de los evaluadores las fechas de entrega de etapa 1 como recordatorio."
A27: 25 | C27: Monitoreo deficiente no soportado mediante registros del proceso de evaluación | D27: Fuga de información o descontrol del proceso para tomar acciones correctivas de aquellos procesos por fuera del estándar. | E27: Documentación incompleta e informacion insuficiente | F27: 3 | G27: 3 | H27: =(F27*G27) -> 9 | I27: =IF($H27=" "," ",IF(H27<8,"BAJO",IF(AND(H27>=8,H27<15),"MEDIO","ALTO"))) -> MEDIO | J27: Definir desde las coordinaciones que documentacion es la que deben entregar. Incluir en las agendas de los evaluadores las fechas de entrega de etapa 1 como recordatorio."
A28: 26 | B28: Reunión de apertura | C28: No se informa de forma completa y clara el objetivo de la evaluación al OEC | D28: Mala interpretacion de la informacion brindada al OEC | E28: Desconocimiento y manejo inadecuado de la evaluacion por parte del Evaluador Lider | F28: 3 | G28: 3 | H28: =(F28*G28) -> 9 | I28: =IF($H28=" "," ",IF(H28<8,"BAJO",IF(AND(H28>=8,H28<15),"MEDIO","ALTO"))) -> MEDIO | J28: Entrenamiento a evaluadores, unificación de criterios.
A29: 27 | C29: Desconocimiento del alcance del proceso de evaluación incluyendo la identificación de participantes | D29: Extralimitación de los requerimientos por ambas partes (comentarios inapropiados de expertos, que desconocen su rol en la evaluación) | E29: Deficiente induccion sobre los roles al equipo evaluador | F29: 4 | G29: 4 | H29: =(F29*G29) -> 16 | I29: =IF($H29=" "," ",IF(H29<8,"BAJO",IF(AND(H29>=8,H29<15),"MEDIO","ALTO"))) -> ALTO | J29: Entrenamiento a evaluadores, unificación de criterios.
A30: 28 | B30: Evaluación de Sistema de Gestión y Requisitos Técnicos | C30: Identificar hallazgos que no aportan valor al OEC | D30: Apelación por parte del OEC | E30: No se profundiza respecto a si se trata de una situación sistemática o fortuita. | F30: 3 | G30: 4 | H30: =(F30*G30) -> 12 | I30: =IF($H30=" "," ",IF(H30<8,"BAJO",IF(AND(H30>=8,H30<15),"MEDIO","ALTO"))) -> MEDIO | J30: Entrenamiento al equipo evaluador. Unificación de criterios, hacer ejercicios de simulación. "
A31: 29 | C31: La metodologia utilizada por el equipo evaluador no permite llegar a una conclusión objetiva de la competencia técnica del OEC. | D31: Apelación por parte del OEC | E31: No se unfican criterios de evaluacion con los equipos evaluadores | F31: 4 | G31: 5 | H31: =(F31*G31) -> 20 | I31: =IF($H31=" "," ",IF(H31<8,"BAJO",IF(AND(H31>=8,H31<15),"MEDIO","ALTO"))) -> ALTO | J31: Entrenamiento al equipo evaluador. Unificación de criterios, hacer ejercicios de simulación. "
A32: 30 | B32: Evaluación de testificación | C32: Priorizacion incorrecta de los elementos a testificar involucrados dentro de la testificacion a realizar | D32: No es posible determinar la competencia del OEC en actividades de alto riesgo de evaluacion de la conformidad. | E32: Falta de capacitacion del equipo evaluador | F32: 4 | G32: 5 | H32: =(F32*G32) -> 20 | I32: =IF($H32=" "," ",IF(H32<8,"BAJO",IF(AND(H32>=8,H32<15),"MEDIO","ALTO"))) -> ALTO | J32: Matriz de riesgos en permanente revisión y actualización. Metodologia adecuada que asegure una permanente identificacion de riesgos que ayduen a evaluar la eficacia y los controles establecidos y a su vez establecer nuevos controles.
A33: 31 | C33: Desconocimiento del rol dentro de la evaluación de tetsificación | D33: Extralimitación de los requerimientos por ambas partes (comentarios inapropiados de expertos, que desconocen su rol en la evaluación) | E33: Deficiente induccion sobre los roles al equipo evaluador | F33: 3 | G33: 4 | H33: =(F33*G33) -> 12 | I33: =IF($H33=" "," ",IF(H33<8,"BAJO",IF(AND(H33>=8,H33<15),"MEDIO","ALTO"))) -> MEDIO | J33: Entrenamiento a evaluadores, unificación de criterios.
A34: 32 | B34: Retroalimentación diaria al OEC | C34: No presentar los resultados de forma clara y precisa al OEC | D34: Confusion respecto a los resultados parciales de la evaluación y generando insatisfacción sobre el servicio de acreditación. | E34: Falta de capacitacion del equipo evaluador | F34: 4 | G34: 4 | H34: =(F34*G34) -> 16 | I34: =IF($H34=" "," ",IF(H34<8,"BAJO",IF(AND(H34>=8,H34<15),"MEDIO","ALTO"))) -> ALTO | J34: Hacer un balance diario con el equipo evaluador sobre lo que se evidencio dentro de la evaluacion, antes de presentar los resultados al OEC. Entrenamiento de los evaluadores.
A35: 33 | C35: Oportunidad en la retroalimentación del equipo de evaluación al OEC | D35: Evaluacion enfocada de manera incorrecta | E35: Falta de capacitacion del equipo evaluador | F35: 3 | G35: 3 | H35: =(F35*G35) -> 9 | I35: =IF($H35=" "," ",IF(H35<8,"BAJO",IF(AND(H35>=8,H35<15),"MEDIO","ALTO"))) -> MEDIO | J35: Hacer un balance diario con el equipo evaluador sobre lo que se evidencio dentro de la evaluacion, antes de presentar los resultados al OEC. Entrenamiento de los evaluadores.
A36: 34 | B36: Preparación de informe | C36: Insuficiencia en cuanto a la descripción del hallazgo, la evidencia objetiva y el requisito de la norma, por parte del equipo evaluador | D36: No permita llegar a conclusiones. | E36: Falta de capacitacion del equipo evaluador | F36: 4 | G36: 4 | H36: =(F36*G36) -> 16 | I36: =IF($H36=" "," ",IF(H36<8,"BAJO",IF(AND(H36>=8,H36<15),"MEDIO","ALTO"))) -> ALTO | J36: Realizar balances previos o intermedios con el equipo evaluador luego de evaluar cada actividad.
A37: 35 | C37: Mal manejo del tiempo que conduce a preparar un informe contra el tiempo | D37: Informes con informacion incompleta o deficiente | E37: Falta de capacitacion del equipo evaluador | F37: 3 | G37: 3 | H37: =(F37*G37) -> 9 | I37: =IF($H37=" "," ",IF(H37<8,"BAJO",IF(AND(H37>=8,H37<15),"MEDIO","ALTO"))) -> MEDIO | J37: Realizar balances previos o intermedios con el equipo evaluador luego de evaluar cada actividad.
A38: 36 | B38: Reunión de cierre | C38: No presentar con claridad los resultados identificados al OEC | D38: Generar un mensaje erróneo o incompleto. | E38: Falta de capacitacion al equipo evaluador | F38: 2 | G38: 5 | H38: =(F38*G38) -> 10 | I38: =IF($H38=" "," ",IF(H38<8,"BAJO",IF(AND(H38>=8,H38<15),"MEDIO","ALTO"))) -> MEDIO | J38: Monitoreos a evaluadores, formato de reunion de apertura y cierre, el OEC firma la aceptacion de las NC declaradas. Unificacion de criterios.
A39: 37 | C39: No explicar al OEC las siguientes etapas del proceso de acreditación, así como las fechas y plazos que aplican. | D39: Generar un mensaje erróneo o incompleto. | E39: Retroalimentacion al equipo evaluador sobre los tiempos | F39: 3 | G39: 4 | H39: =(F39*G39) -> 12 | I39: =IF($H39=" "," ",IF(H39<8,"BAJO",IF(AND(H39>=8,H39<15),"MEDIO","ALTO"))) -> MEDIO | J39: Monitoreos a evaluadores, formato de reunion de apertura y cierre, el OEC firma la aceptacion de las NC declaradas. Unificacion de criterios.
A40: 38 | C40: Llegar a la reunión de cierre sin haber concertado los hallazgos con el OEC | D40: Debates prolongados. | E40: Falta de preparacion en la evaluacion con los roles definidos para el equipo evaluador | F40: 1 | G40: 4 | H40: =(F40*G40) -> 4 | I40: =IF($H40=" "," ",IF(H40<8,"BAJO",IF(AND(H40>=8,H40<15),"MEDIO","ALTO"))) -> BAJO | J40: En el formato de apertura y cierre listar la informacion que se debe dar en la reunion de inicio y cierre de evaluacion.
A41: 39 | B41: Revisión del PCAC | C41: Revisar un PCAC, pese a que se encuentre por fuera de los términos establecidos en las Reglas del Servicio de Acreditación de ONAC. | D41: Incumplimiento de las Reglas de Acreditacion de ONAC | E41: Falta de conocimiento del equipo evaluador sobre lo estipulado en el RAC | F41: 2 | G41: 4 | H41: =(F41*G41) -> 8 | I41: =IF($H41=" "," ",IF(H41<8,"BAJO",IF(AND(H41>=8,H41<15),"MEDIO","ALTO"))) -> MEDIO | J41: Retroalimentacion al equipo evaluador, unificacion de criterios constante para cada esquema (analisis de casos particulares), monitoreos.
A42: 40 | C42: Pese a ser entregado un PCAC dentro de los términos, el Evaluador Líder no lo identifica, e inicia su revisión por fuera de los términos de las Reglas del Servicio de Acreditación. | D42: Incumplimiento de las Reglas de Acreditacion de ONAC | E42: Falta de conocimiento del equipo evaluador sobre lo estipulado en el RAC Retroalimentacion deficiente de los miembros del equipo evaluador | F42: 2 | G42: 4 | H42: =(F42*G42) -> 8 | I42: =IF($H42=" "," ",IF(H42<8,"BAJO",IF(AND(H42>=8,H42<15),"MEDIO","ALTO"))) -> MEDIO | J42: Retroalimentacion al equipo evaluador, unificacion de criterios constante para cada esquema (analisis de casos particulares), monitoreos.
A43: 41 | C43: Revisión insuficiente e inadecuada del PCAC | D43: Hallazgos injustificados | E43: Falra de capacitacion del equipo evaluador | F43: 2 | G43: 4 | H43: =(F43*G43) -> 8 | I43: =IF($H43=" "," ",IF(H43<8,"BAJO",IF(AND(H43>=8,H43<15),"MEDIO","ALTO"))) -> MEDIO | J43: Retroalimentacion al equipo evaluador, unificacion de criterios constante para cada esquema (analisis de casos particulares), monitoreos.
A44: 42 | C44: Entrega demorada de la respuesta al OEC que no permita darle tiempo suficiente al OEC para efectuar los ajustes necesarios | D44: Apelación por parte del OEC | E44: Falta de seguimiento del proceso de respuesta del evaluador | F44: 2 | G44: 5 | H44: =(F44*G44) -> 10 | I44: =IF($H44=" "," ",IF(H44<8,"BAJO",IF(AND(H44>=8,H44<15),"MEDIO","ALTO"))) -> MEDIO | J44: Alerta en cps sobre vencimiento de PCAC, teniendo en cuenta el minimo de revisiones.
A45: 43 | C45: Continua y desgastante revisión de PCAC por parte evaluador líder | D45: El OEC puede ser suspendido por no aprobación del PCAC | E45: El OEC no presenta a conciencia un PCAC ya sea porque no se entendió la NC o porque no desea comprometerse con gastos | F45: 3 | G45: 3 | H45: =(F45*G45) -> 9 | I45: =IF($H45=" "," ",IF(H45<8,"BAJO",IF(AND(H45>=8,H45<15),"MEDIO","ALTO"))) -> MEDIO | J45: Establecido lineamiento en el RAC 3.0-01 V8
A46: 44 | C46: El evaluador no comunique de manera oportuna a ONAC sobre la aprobacion del PCAC | D46: Apelación por parte del OEC | E46: Falra de seguimiento al proceso de aprobacion del PCAC | F46: 2 | G46: 3 | H46: =(F46*G46) -> 6 | I46: =IF($H46=" "," ",IF(H46<8,"BAJO",IF(AND(H46>=8,H46<15),"MEDIO","ALTO"))) -> BAJO | J46: N.A.
A47: 45 | C47: Ausencia de expertos en la revision de hallazgos técnicos del PCAC. | D47: Evidencias que no aportan al cierre eficaz de los hallazgos | E47: Retroalimentacion y calificacion de expertos deficiente | F47: 4 | G47: 4 | H47: =(F47*G47) -> 16 | I47: =IF($H47=" "," ",IF(H47<8,"BAJO",IF(AND(H47>=8,H47<15),"MEDIO","ALTO"))) -> ALTO | J47: Asignar al experto técnico en la revision del PCAC, incluir el tiempo de revisión dentro de los honorarios.
A48: 46 | B48: Solicitar evaluación complementaria. | C48: El Líder del equipo presenta una solicitud que no corresponde con la naturaleza de los hallazgos | D48: Eficacia de la implementacion no genera valor al OEC, lo que puede ocasionar que el OEC realice una apelacion | E48: Tiempo y numero de expertos insuficiente | F48: 2 | G48: 5 | H48: =(F48*G48) -> 10 | I48: =IF($H48=" "," ",IF(H48<8,"BAJO",IF(AND(H48>=8,H48<15),"MEDIO","ALTO"))) -> MEDIO | J48: Fortalecer la revisión de la solicitud por parte del coordinador.
A49: 47 | C49: Solicitar una evaluación complementaria para una fecha equivocada. | D49: Incumplimientos y apelaciones del OEC | E49: Falta de capacitacion y retroalimentacion al equipo evaluador | F49: 2 | G49: 4 | H49: =(F49*G49) -> 8 | I49: =IF($H49=" "," ",IF(H49<8,"BAJO",IF(AND(H49>=8,H49<15),"MEDIO","ALTO"))) -> MEDIO | J49: Fortalecer la revisión de la solicitud por parte del coordinador.
A50: 48 | C50: Solicitud retrasada de la evaluación complementaria | D50: Incrementoe en el numero de reprogramaciones, Incumplimiento de tiempos a los OEC | E50: Exceso de trabajo, que lleve a que se cruce con otras actividades. | F50: 2 | G50: 3 | H50: =(F50*G50) -> 6 | I50: =IF($H50=" "," ",IF(H50<8,"BAJO",IF(AND(H50>=8,H50<15),"MEDIO","ALTO"))) -> BAJO | J50: Desde el CPS el Profesional de Apoyo verifica estado de solicitudes. (revisión de tiempos para envio de la solicitud
A51: 49 | B51: Elaborar informe parcial | C51: Elaboración del informe con información incompleta o errónea. | D51: Incumplimientos y apelaciones del OEC | E51: Falta de capacitacion y retroalimentacion al equipo evaluador | F51: 4 | G51: 2 | H51: =(F51*G51) -> 8 | I51: =IF($H51=" "," ",IF(H51<8,"BAJO",IF(AND(H51>=8,H51<15),"MEDIO","ALTO"))) -> MEDIO | J51: Unificación de criterios - lineamientos claros de lo que se espera
A52: 50 | C52: No elaborar el informe en la fecha prevista en la programación del servicio. | D52: Incumplimientos y apelaciones del OEC | E52: Falta de capacitacion y retroalimentacion al equipo evaluador | F52: 4 | G52: 2 | H52: =(F52*G52) -> 8 | I52: =IF($H52=" "," ",IF(H52<8,"BAJO",IF(AND(H52>=8,H52<15),"MEDIO","ALTO"))) -> MEDIO | J52: Seguimiento por medio del CPS
A53: 51 | B53: Evaluación complementaria (verificación de eficacia de las Correcciones y Acciones Correctivas) | C53: Declarar el cierre de las NC solo a partir de las evidencias de implementación del PCAC, sin confirmar la eficacia de éste. | D53: Incumplimientos y apelaciones del OEC | E53: Falta de capacitacion y retroalimentacion al equipo evaluador | F53: 4 | G53: 5 | H53: =(F53*G53) -> 20 | I53: =IF($H53=" "," ",IF(H53<8,"BAJO",IF(AND(H53>=8,H53<15),"MEDIO","ALTO"))) -> ALTO | J53: Recopilar los casos particulares de los evaluadores y exponerlos en unificacion de criterios. retroalimentacion a evaluadores.
A54: 52 | C54: No cerrar NC por presentación incompleta de las evidencias propuestas por el OEC; pese a no ser necesarias para confirmar la eficacia del PCAC. | D54: Incumplimientos y apelaciones del OEC | E54: Falta de capacitacion y retroalimentacion al equipo evaluador | F54: 4 | G54: 4 | H54: =(F54*G54) -> 16 | I54: =IF($H54=" "," ",IF(H54<8,"BAJO",IF(AND(H54>=8,H54<15),"MEDIO","ALTO"))) -> ALTO | J54: Retroalimentacion sobre las NC abiertas o comité.
A55: 53 | C55: Incumplimiento de las fechas establecidas para ejecutar la evaluacion complementaria | D55: Incumplimientos y apelaciones del OEC | E55: No se confirma agenda con los evaluadores, para realizar la programacion sin que existanc ruces | F55: 3 | G55: 3 | H55: =(F55*G55) -> 9 | I55: =IF($H55=" "," ",IF(H55<8,"BAJO",IF(AND(H55>=8,H55<15),"MEDIO","ALTO"))) -> MEDIO | J55: Establecer estrategias para aumentar la consecución de profesionales técnicos.
A56: 54 | C56: Resultados de evaluacion complementaria que no demuestre la competencia del OEC, debido a una revision inadecuada de las evidencias. | D56: Incumplimientos y apelaciones del OEC | E56: Falta de capacitacion y retroalimentacion al equipo evaluador | F56: 3 | G56: 4 | H56: =(F56*G56) -> 12 | I56: =IF($H56=" "," ",IF(H56<8,"BAJO",IF(AND(H56>=8,H56<15),"MEDIO","ALTO"))) -> MEDIO | J56: Casos particulares de los evaluadores llevados a la unificacion de criterios. retroalimentacion a evaluadores.
A57: 55 | B57: Complementar y concluir informe final | C57: Coherencia en la información registrada para consolidación del informe | D57: Se afecta la decision sobre la evaluacion, se pierde la trazabilidad sobre las evaluaciones | E57: Información insuficiente, sin contar con todos los anexos suficientes por parte del equipo evaluador | F57: 3 | G57: 3 | H57: =(F57*G57) -> 9 | I57: =IF($H57=" "," ",IF(H57<8,"BAJO",IF(AND(H57>=8,H57<15),"MEDIO","ALTO"))) -> MEDIO | J57: Inducción del rol del experto en la evaluación.
A58: 56 | C58: Recomendación confusa, insuficientes o inadeacudas por parte del Líder de Equipo | D58: Se afecta la decision sobre la evaluacion | E58: El equipo evaluador registra informacion que no se soporta con los resultados de la evaluación. | F58: 2 | G58: 3 | H58: =(F58*G58) -> 6 | I58: =IF($H58=" "," ",IF(H58<8,"BAJO",IF(AND(H58>=8,H58<15),"MEDIO","ALTO"))) -> BAJO | J58: Definir claramente cuales son los canales de comunicacion del OEC al ONAC. Definir conducto regular que se cumpla tanto en el OEC como en ONAC.
A59: 57 | C59: Emitir recomendación influenciada sobre el estado de la acreditación | D59: Decisiontomada sin respetarel principio de imparcialidad | E59: Presiones indebidas por parte del OEC | F59: 2 | G59: 4 | H59: =(F59*G59) -> 8 | I59: =IF($H59=" "," ",IF(H59<8,"BAJO",IF(AND(H59>=8,H59<15),"MEDIO","ALTO"))) -> MEDIO | J59: Retroalimentacion sobre la matriz de imparcialidad
A60: 58 | B60: Remitir informe final | C60: Informe presentado a la Coordinación Sectorial de forma posterior a la fecha establecida en la programación del servicio o en fecha posterior al día siguiente de la evaluación complementaria. | D60: Demoras en el cierre del servicio de evaluacion y en la decision. | E60: Falta de seguimiento desde la Coordinación sectorial a las entregas por parte del equipo evaluador. Cargas de trabajo que hace que se presente cruce de actividades. | F60: 3 | G60: 3 | H60: =(F60*G60) -> 9 | I60: =IF($H60=" "," ",IF(H60<8,"BAJO",IF(AND(H60>=8,H60<15),"MEDIO","ALTO"))) -> MEDIO | J60: Control desde el CPS, unificacion de criterios recordandole a los evaluadores los tiempos para entrega (recomendacion CPS).
H61: =MAX(G6:G61)*(AVERAGE(F6:F61)) -> 13.272727 | I61: =IF($H61=" "," ",IF(H61<8,"BAJO",IF(AND(H61>=8,H61<15),"MEDIO","ALTO"))) -> MEDIO

Sheet Mapa de riesgo EV.
C1: MATRIZ DE RIESGOS DEL PROCESO DE EVALUACIÓN | N1: Anexo 1-PR-3.3-01
N2: Versión 01
A4: No | B4: Análisis de riesgo | D4: Nivel de riesgo | E4: Clasifica-ción del Riesgo | F4: Descripción del evento
B5: P | C5: C
A6: 1 | B6: ='Matriz de riesgo Evaluación'!F6 -> 3 | C6: ='Matriz de riesgo Evaluación'!G6 -> 3 | D6: =B6*C6 -> 9 | E6: =IF(D6=" "," ",IF(D6<=4,"BAJO",IF(AND(D6>4,D6<=7),"MEDIO","ALTO"))) -> ALTO | F6: ='Matriz de riesgo Evaluación'!C6 -> El OEC no remite la información completa que se solicita para etapa 1
A7: 2 | B7: ='Matriz de riesgo Evaluación'!F7 -> 2 | C7: ='Matriz de riesgo Evaluación'!G7 -> 3 | D7: =B7*C7 -> 6 | E7: =IF(D7=" "," ",IF(D7<=4,"BAJO",IF(AND(D7>4,D7<=7),"MEDIO","ALTO"))) -> MEDIO | F7: ='Matriz de riesgo Evaluación'!C7 -> La información que remite la Coordinación Sectorial al equipo evaluador es incompleta
A8: 3 | B8: ='Matriz de riesgo Evaluación'!F8 -> 2 | C8: ='Matriz de riesgo Evaluación'!G8 -> 2 | D8: =B8*C8 -> 4 | E8: =IF(D8=" "," ",IF(D8<=4,"BAJO",IF(AND(D8>4,D8<=7),"MEDIO","ALTO"))) -> BAJO | F8: ='Matriz de riesgo Evaluación'!C8 -> Retrasos en la entrega de los resultados de la revision de documentos y registros por parte del equipo evaluador
A9: 4 | B9: ='Matriz de riesgo Evaluación'!F9 -> 2 | C9: ='Matriz de riesgo Evaluación'!G9 -> 3 | D9: =B9*C9 -> 6 | E9: =IF(D9=" "," ",IF(D9<=4,"BAJO",IF(AND(D9>4,D9<=7),"MEDIO","ALTO"))) -> MEDIO | F9: ='Matriz de riesgo Evaluación'!C9 -> Revisión insuficiente de la documentación
A10: 5 | B10: ='Matriz de riesgo Evaluación'!F10 -> 2 | C10: ='Matriz de riesgo Evaluación'!G10 -> 3 | D10: =B10*C10 -> 6 | E10: =IF(D10=" "," ",IF(D10<=4,"BAJO",IF(AND(D10>4,D10<=7),"MEDIO","ALTO"))) -> MEDIO | F10: ='Matriz de riesgo Evaluación'!C10 -> No contar con acceso al FTP donde se suben los documentos para la evaluación
A11: 6 | B11: ='Matriz de riesgo Evaluación'!F11 -> 2 | C11: ='Matriz de riesgo Evaluación'!G11 -> 3 | D11: =B11*C11 -> 6 | E11: =IF(D11=" "," ",IF(D11<=4,"BAJO",IF(AND(D11>4,D11<=7),"MEDIO","ALTO"))) -> MEDIO | F11: ='Matriz de riesgo Evaluación'!C11 -> Encontrar archivos encriptados, borrosos o no legibles e incompletos
A12: 7 | B12: ='Matriz de riesgo Evaluación'!F12 -> 1 | C12: ='Matriz de riesgo Evaluación'!G12 -> 2 | D12: =B12*C12 -> 2 | E12: =IF(D12=" "," ",IF(D12<=4,"BAJO",IF(AND(D12>4,D12<=7),"MEDIO","ALTO"))) -> BAJO | F12: ='Matriz de riesgo Evaluación'!C12 -> Desconocimiento de la aplicación de los criterios de muestreo
A13: 8 | B13: ='Matriz de riesgo Evaluación'!F13 -> 2 | C13: ='Matriz de riesgo Evaluación'!G13 -> 3 | D13: =B13*C13 -> 6 | E13: =IF(D13=" "," ",IF(D13<=4,"BAJO",IF(AND(D13>4,D13<=7),"MEDIO","ALTO"))) -> MEDIO | F13: ='Matriz de riesgo Evaluación'!C13 -> Representatividad insuficiente en el alcance a evaluar
A14: 9 | B14: ='Matriz de riesgo Evaluación'!F14 -> 2 | C14: ='Matriz de riesgo Evaluación'!G14 -> 3 | D14: =B14*C14 -> 6 | E14: =IF(D14=" "," ",IF(D14<=4,"BAJO",IF(AND(D14>4,D14<=7),"MEDIO","ALTO"))) -> MEDIO | F14: ='Matriz de riesgo Evaluación'!C14 -> Equipo evaluador insuficiente para un muestreo representativo.
A15: 10 | B15: ='Matriz de riesgo Evaluación'!F15 -> 2 | C15: ='Matriz de riesgo Evaluación'!G15 -> 3 | D15: =B15*C15 -> 6 | E15: =IF(D15=" "," ",IF(D15<=4,"BAJO",IF(AND(D15>4,D15<=7),"MEDIO","ALTO"))) -> MEDIO | F15: ='Matriz de riesgo Evaluación'!C15 -> Selección insuficiente de la muestra
A16: 11 | B16: ='Matriz de riesgo Evaluación'!F16 -> 2 | C16: ='Matriz de riesgo Evaluación'!G16 -> 3 | D16: =B16*C16 -> 6 | E16: =IF(D16=" "," ",IF(D16<=4,"BAJO",IF(AND(D16>4,D16<=7),"MEDIO","ALTO"))) -> MEDIO | F16: ='Matriz de riesgo Evaluación'!C16 -> Seleccionar una muestra suficiente pero repetida de la anterior evaluación.
A17: 12 | B17: ='Matriz de riesgo Evaluación'!F17 -> 2 | C17: ='Matriz de riesgo Evaluación'!G17 -> 3 | D17: =B17*C17 -> 6 | E17: =IF(D17=" "," ",IF(D17<=4,"BAJO",IF(AND(D17>4,D17<=7),"MEDIO","ALTO"))) -> MEDIO | F17: ='Matriz de riesgo Evaluación'!C17 -> Sobre estimar un tamaño de muestra
... A22: 17 | B22: ='Matriz de riesgo Evaluación'!F22 -> 2 | C22: ='Matriz de riesgo Evaluación'!G22 -> 3 | D22: =B22*C22 -> 6 | E22: =IF(D22=" "," ",IF(D22<=4,"BAJO",IF(AND(D22>4,D22<=7),"MEDIO","ALTO"))) -> MEDIO | F22: ='Matriz de riesgo Evaluación'!C22 -> No tener en cuenta las actividades que indica el plan de evaluación, tanto para atestiguar como la evaluación por registros
A23: 18 | B23: ='Matriz de riesgo Evaluación'!F23 -> 4 | C23: ='Matriz de riesgo Evaluación'!G23 -> 5 | D23: =B23*C23 -> 20 | E23: =IF(D23=" "," ",IF(D23<8,"BAJO",IF(AND(D23>=8,D23<15),"MEDIO","ALTO"))) -> ALTO | F23: ='Matriz de riesgo Evaluación'!C23 -> Falta de conocimiento sobre las resoluciones o normatividad a evaluar, falta de interpretacion de la normativa por parte del experto técnico
A24: 19 | B24: ='Matriz de riesgo Evaluación'!F24 -> 3 | C24: ='Matriz de riesgo Evaluación'!G24 -> 4 | D24: =B24*C24 -> 12 | E24: =IF(D24=" "," ",IF(D24<8,"BAJO",IF(AND(D24>=8,D24<15),"MEDIO","ALTO"))) -> MEDIO | F24: ='Matriz de riesgo Evaluación'!C24 -> La descripción del hallazgo y el requisito que se incumple no son coherentes
A25: 20 | B25: ='Matriz de riesgo Evaluación'!F25 -> 2 | C25: ='Matriz de riesgo Evaluación'!G25 -> 1 | D25: =B25*C25 -> 2 | E25: =IF(D25=" "," ",IF(D25<8,"BAJO",IF(AND(D25>=8,D25<15),"MEDIO","ALTO"))) -> BAJO | F25: ='Matriz de riesgo Evaluación'!C25 -> Encontrar falsos hallazgos
A26: 21 | B26: ='Matriz de riesgo Evaluación'!F26 -> 4 | C26: ='Matriz de riesgo Evaluación'!G26 -> 4 | D26: =B26*C26 -> 16 | E26: =IF(D26=" "," ",IF(D26<8,"BAJO",IF(AND(D26>=8,D26<15),"MEDIO","ALTO"))) -> ALTO | F26: ='Matriz de riesgo Evaluación'!C26 -> Oportunidad en el envío de entregables y entrega incompleta de documentos
A27: 22 | B27: ='Matriz de riesgo Evaluación'!F27 -> 3 | C27: ='Matriz de riesgo Evaluación'!G27 -> 3 | D27: =B27*C27 -> 9 | E27: =IF(D27=" "," ",IF(D27<8,"BAJO",IF(AND(D27>=8,D27<15),"MEDIO","ALTO"))) -> MEDIO | F27: ='Matriz de riesgo Evaluación'!C27 -> Monitoreo deficiente no soportado mediante registros del proceso de evaluación
A28: 23 | B28: ='Matriz de riesgo Evaluación'!F28 -> 3 | C28: ='Matriz de riesgo Evaluación'!G28 -> 3 | D28: =B28*C28 -> 9 | E28: =IF(D28=" "," ",IF(D28<8,"BAJO",IF(AND(D28>=8,D28<15),"MEDIO","ALTO"))) -> MEDIO | F28: ='Matriz de riesgo Evaluación'!C28 -> No se informa de forma completa y clara el objetivo de la evaluación al OEC
A29: 24 | B29: ='Matriz de riesgo Evaluación'!F29 -> 4 | C29: ='Matriz de riesgo Evaluación'!G29 -> 4 | D29: =B29*C29 -> 16 | E29: =IF(D29=" "," ",IF(D29<8,"BAJO",IF(AND(D29>=8,D29<15),"MEDIO","ALTO"))) -> ALTO | F29: ='Matriz de riesgo Evaluación'!C29 -> Desconocimiento del alcance del proceso de evaluación incluyendo la identificación de participantes
A30: 25 | B30: ='Matriz de riesgo Evaluación'!F30 -> 3 | C30: ='Matriz de riesgo Evaluación'!G30 -> 4 | D30: =B30*C30 -> 12 | E30: =IF(D30=" "," ",IF(D30<8,"BAJO",IF(AND(D30>=8,D30<15),"MEDIO","ALTO"))) -> MEDIO | F30: ='Matriz de riesgo Evaluación'!C30 -> Identificar hallazgos que no aportan valor al OEC
A31: 26 | B31: ='Matriz de riesgo Evaluación'!F31 -> 4 | C31: ='Matriz de riesgo Evaluación'!G31 -> 5 | D31: =B31*C31 -> 20 | E31: =IF(D31=" "," ",IF(D31<8,"BAJO",IF(AND(D31>=8,D31<15),"MEDIO","ALTO"))) -> ALTO | F31: ='Matriz de riesgo Evaluación'!C31 -> La metodologia utilizada por el equipo evaluador no permite llegar a una conclusión objetiva de la competencia técnica del OEC.
A32: 27 | B32: ='Matriz de riesgo Evaluación'!F32 -> 4 | C32: ='Matriz de riesgo Evaluación'!G32 -> 5 | D32: =B32*C32 -> 20 | E32: =IF(D32=" "," ",IF(D32<8,"BAJO",IF(AND(D32>=8,D32<15),"MEDIO","ALTO"))) -> ALTO | F32: ='Matriz de riesgo Evaluación'!C32 -> Priorizacion incorrecta de los elementos a testificar involucrados dentro de la testificacion a realizar
A33: 28 | B33: ='Matriz de riesgo Evaluación'!F33 -> 3 | C33: ='Matriz de riesgo Evaluación'!G33 -> 4 | D33: =B33*C33 -> 12 | E33: =IF(D33=" "," ",IF(D33<8,"BAJO",IF(AND(D33>=8,D33<15),"MEDIO","ALTO"))) -> MEDIO | F33: ='Matriz de riesgo Evaluación'!C33 -> Desconocimiento del rol dentro de la evaluación de tetsificación
A34: 29 | B34: ='Matriz de riesgo Evaluación'!F34 -> 4 | C34: ='Matriz de riesgo Evaluación'!G34 -> 4 | D34: =B34*C34 -> 16 | E34: =IF(D34=" "," ",IF(D34<8,"BAJO",IF(AND(D34>=8,D34<15),"MEDIO","ALTO"))) -> ALTO | F34: ='Matriz de riesgo Evaluación'!C34 -> No presentar los resultados de forma clara y precisa al OEC
... A60: 55 | B60: ='Matriz de riesgo Evaluación'!F60 -> 3 | C60: ='Matriz de riesgo Evaluación'!G60 -> 3 | D60: =B60*C60 -> 9 | E60: =IF(D60=" "," ",IF(D60<8,"BAJO",IF(AND(D60>=8,D60<15),"MEDIO","ALTO"))) -> MEDIO | F60: ='Matriz de riesgo Evaluación'!C60 -> Informe presentado a la Coordinación Sectorial de forma posterior a la fecha establecida en la programación del servicio o en fecha posterior al día siguiente de la evaluación complementaria.

Sheet Registro Eventos e Incidentes
B2: Evento e Incidente | C2: Descripción | D2: Fecha de Ocurrencia | E2: Tratamiento / Corrección | F2: Responsable | G2: Estado

Sheet Data
B2: Fuentes de Riesgo | C2: Opciones de Tratamiento de Riesgo | D2: Tipos de Riesgo | E2: Consecuencia | F2: Frecuencia
B3: Relaciones Comerciales y Contractuales | C3: Prevenir | D3: Estrategico | E3: 1 | F3: 1
B4: Normatividad y Regulación | C4: Proteger | D4: Operativo | E4: 2 | F4: 2
B5: Circunstancias Economicas | C5: Transferir | D5: Financiero | E5: 3 | F5: 3
B6: Comportamiento Humano | C6: Retener | D6: De Mercado | E6: 4 | F6: 4
B7: Eventos naturales | C7: Aceptar | D7: Ambiental | E7: 5 | F7: 5
B8: Circunstancias Politicas | C8: Evitar | D8: Tecnologico
B9: Aspectos Tecnologicos o Técnicos | D9: Fisico
B10: Actividades Administrativas y Controles de proceso | D10: SISO
B11: Personas Maliciosas | D11: Seguridad de la Información
