Workbook
Name Excel_BuiltIn__FilterDatabase_3: #REF!
Name Excel_BuiltIn__FilterDatabase_3: #REF!
Name Excel_BuiltIn__FilterDatabase_3: #REF!

Sheet Matriz de riesgo LCL
E2: MATRIZ DE RIESGOS LABORATORIOS CLINICOS | S2: Código | T2: PR-3.3-01 Anexo A
E3: PROCESO | F3: Laboratorios Clìnicos ISO 15189: 2012 | H3: Objetivo | I3: Proporcionar confianza a todas las partes interesadas en que un laboratorio clínico cumple los requisitos especificados. | S3: Versión | T3: 1
S4: Fecha: | T4: 43565
B6: No | C6: ACTIVIDAD / REQUISITO | D6: REQUISITO ISO/IEC 17025 RELACIONADO | E6: IDENTIFICACIÓN DEL RIESGO | K6: ANÁLISIS DE RIESGO | Q6: EVALUACIÓN DE RIESGO | S6: TÉCNICA DE EVALUACIÓN
K7: Consecuencias Ares de Impacto | O7: Ocurrencia
E8: Fuente del Riesgo | F8: Evento | G8: Efecto / Consecuencia / impacto | H8: Causa / Debilidad (por que puede ocurrir) | I8: Promedio de No Conformidades en el periodo | J8: Tipo de Riesgo | K8: Confianza en la evaluación | L8: Financiero / legal | M8: Calidad / Imagen | N8: Personas / Seguridad | O8: No Conformidades | P8: Frecuencia | Q8: Nivel de riesgo | R8: Clasificación Riesgo | S8: Tipo de técnica de evaluación 17011 | T8: Etapa de evaluación
B9: 1 | C9: REQUISITOS DE GESTIÓN | D9: 4.1 4.2 4.3 4.10 4.11 4.12 4.13 4.14 4.15 | E9: Actividades Administrativas y Controles de proceso | F9: Uso de procesos y procedimientos inadecuados para la gestión de las actividades del laboratorio | G9: Dificultad para el cumplimiento de logros coherentes de los requisitos del laboratorio | H9: Desconocimiento o ausencia de procedimientos para la gestión Enfoque netamente técnico y no integral sobre la gestión del laboratorio. | I9: =10/16 -> 0.625 | J9: Estratégico | K9: 4 | L9: 4 | M9: 5 | N9: 4 | O9: =IF(I9>=0.71,5,IF(I9>=0.51,4,IF(I9>=0.21,3,IF(I9>0,2,1)))) -> 4 | P9: 2 | Q9: =(AVERAGE(O9:P9))*(AVERAGE(K9:N9)) -> 12.75 | R9: =IF(Q9>15,"Crítico",IF(Q9>8,"Alto",IF(Q9>4,"Medio","Bajo"))) -> Alto | S9: Evaluación Documental Evaluación de Registros Entrevistas | T9: Etapa 1. Etapa 2. Evaluaciones extraordinarias. Evaluaciones complementarias.
B10: 2 | C10: ACUERDO DE PRESTACIÓN DE SERVICIOS | D10: 4.4.1 4.4.2 | E10: Actividades Administrativas y Controles de proceso | F10: No definir y acordar adecuadamente las condiciones de prestación del servicio | G10: realización incorrecta o errada de análisis diagnósticos Consecuencias legales | H10: Desconocimiento de las pruebas/técnicas Desconocimiento o ausencia de procedimientos para la oferta de servicios No es asignado personal competente para esta actividad | I10: =0/16 -> 0 | J10: Financiero | K10: 4 | L10: 5 | M10: 4 | N10: 1 | O10: =IF(I10>=0.71,5,IF(I10>=0.51,4,IF(I10>=0.21,3,IF(I10>0,2,1)))) -> 1 | P10: 1 | Q10: =(AVERAGE(O10:P10))*(AVERAGE(K10:N10)) -> 3.5 | R10: =IF(Q10>15,"Crítico",IF(Q10>8,"Alto",IF(Q10>4,"Medio","Bajo"))) -> Bajo | S10: Evaluación Documental Evaluación de Registros | T10: Etapa 1. Etapa 2. Evaluaciones extraordinarias. Evaluaciones complementarias.
B11: 3 | C11: ANÁLISIS EFECTUADOS POR LABORATORIOS SUBCONTRATADOS | D11: 4.5.1 4.5.2 | E11: Actividades Administrativas y Controles de proceso | F11: Selección y uso de subcontratistas y/o proveedores de productos o servicios no competentes. | G11: Afectación a la calidad de las pruebas/análisis | H11: 1. Falta de recursos para realizar una adecuada compra o subcontratación 2. Definición inadecuada de los requisitos de compra y subcontratación 3. Definición inadecuada de los criterios para la evaluación a los proveedores de suministros y/o de servicios críticos. | I11: =0/16 -> 0 | J11: Financiero | K11: 4 | L11: 5 | M11: 5 | N11: 4 | O11: =IF(I11>=0.71,5,IF(I11>=0.51,4,IF(I11>=0.21,3,IF(I11>0,2,1)))) -> 1 | P11: 3 | Q11: =(AVERAGE(O11:P11))*(AVERAGE(K11:N11)) -> 9 | R11: =IF(Q11>15,"Crítico",IF(Q11>8,"Alto",IF(Q11>4,"Medio","Bajo"))) -> Alto | S11: Evaluación registros Entrevistas Testificación | T11: Etapa 1. Etapa 2. Evaluaciones extraordinarias. Evaluaciones complementarias.
B12: 4 | C12: SERVICIOS EXTERNOS Y SUMINISTROS | D12: 4.6 | E12: Actividades Administrativas y Controles de proceso | F12: Productos y servicios adquiridos no sean adecuados para el fin previsto dentro las actividades del laboratorio | G12: Afectación a la calidad de las pruebas/análisis | H12: 1. Falta de conocimiento técnico/administrativo para adquisición de productos y servicios | I12: =0/16 -> 0 | J12: Operativo | K12: 4 | L12: 4 | M12: 5 | N12: 4 | O12: =IF(I12>=0.71,5,IF(I12>=0.51,4,IF(I12>=0.21,3,IF(I12>0,2,1)))) -> 1 | P12: 3 | Q12: =(AVERAGE(O12:P12))*(AVERAGE(K12:N12)) -> 8.5 | R12: =IF(Q12>15,"Crítico",IF(Q12>8,"Alto",IF(Q12>4,"Medio","Bajo"))) -> Alto | S12: Evaluación de Registros | T12: Etapa 1. Etapa 2. Evaluaciones extraordinarias. Evaluaciones complementarias.
B13: 5 | C13: SERVICIOS DE ASESORAMIENTO | D13: 4.7 | E13: Relaciones Comerciales y Contractuales | F13: El laboratorio realice asesoramientos no adecuados | G13: errores en la posterior interpretación diagnóstica. Consecuencias legales | H13: 1. falta de conocimiento técnico en el asesoramiento 2. Desconocimiento de límites de asesoramiento del laboratorio | I13: =0/16 -> 0 | J13: De Mercado | K13: 4 | L13: 4 | M13: 5 | N13: 5 | O13: =IF(I13>=0.71,5,IF(I13>=0.51,4,IF(I13>=0.21,3,IF(I13>0,2,1)))) -> 1 | P13: 2 | Q13: =(AVERAGE(O13:P13))*(AVERAGE(K13:N13)) -> 6.75 | R13: =IF(Q13>15,"Crítico",IF(Q13>8,"Alto",IF(Q13>4,"Medio","Bajo"))) -> Medio | S13: Evaluación de Registros Entrevistas | T13: Etapa 1. Etapa 2. Evaluaciones extraordinarias. Evaluaciones complementarias.
B14: 6 | C14: RESOLUCIÓN DE RECLAMACIONES | D14: 4.8 | E14: Actividades Administrativas y Controles de proceso | F14: Falta de respuesta o respuesta inoportuna e inadecuada a las reclamaciones asociadas a las actividades del laboratorio. | G14: Pérdida de clientes Consecuencias legales | H14: Desconocimiento o ausencia de los proceso para el manejo de reclamaciones | I14: =0/16 -> 0 | J14: Operativo | K14: 4 | L14: 5 | M14: 5 | N14: 1 | O14: =IF(I14>=0.71,5,IF(I14>=0.51,4,IF(I14>=0.21,3,IF(I14>0,2,1)))) -> 1 | P14: 2 | Q14: =(AVERAGE(O14:P14))*(AVERAGE(K14:N14)) -> 5.625 | R14: =IF(Q14>15,"Crítico",IF(Q14>8,"Alto",IF(Q14>4,"Medio","Bajo"))) -> Medio | S14: Evaluación documental Evaluación de Registros | T14: Etapa 1. Etapa 2. Evaluaciones extraordinarias. Evaluaciones complementarias.
B15: 7 | C15: IDENTIFICACIÓN Y CONTROL DE LAS NO CONFORMIDADES | D15: 4.9 | E15: Actividades Administrativas y Controles de proceso | F15: Falta de identificación y gestión inadecuada de trabajos no conformes asociados a las actividades del laboratorio. | G15: Pérdida de clientes Consecuencias legales Afectación a la validez de los resultados | H15: Falta de seguimiento a las estrategias de aseguramiento a la validez de los resultados o los resultados de los controles implementados por el Laboratorio. | I15: =2/16 -> 0.125 | J15: Operativo | K15: 4 | L15: 5 | M15: 5 | N15: 1 | O15: =IF(I15>=0.71,5,IF(I15>=0.51,4,IF(I15>=0.21,3,IF(I15>0,2,1)))) -> 2 | P15: 2 | Q15: =(AVERAGE(O15:P15))*(AVERAGE(K15:N15)) -> 7.5 | R15: =IF(Q15>15,"Crítico",IF(Q15>8,"Alto",IF(Q15>4,"Medio","Bajo"))) -> Medio | S15: Evaluación de Registros | T15: Etapa 1. Etapa 2. Evaluaciones extraordinarias. Evaluaciones complementarias.
B16: 8 | C16: PERSONAL | D16: 5.1.1 5.1.2 5.1.3 5.1.4 5.1.5 5.1.6 5.1.7 5.1.8 5.1.9 | E16: Actividades Administrativas y Controles de proceso | F16: Falta de identificación de requisitos de competencia del personal que participa en el laboratorio | G16: Afectación a la calidad de las pruebas/análisis | H16: Desconocimiento por parte de la alta dirección acerca del perfil requerido para el personal del laboratorio. | I16: =0/16 -> 0 | J16: Estratégico | K16: 4 | L16: 3 | M16: 4 | N16: 2 | O16: =IF(I16>=0.71,5,IF(I16>=0.51,4,IF(I16>=0.21,3,IF(I16>0,2,1)))) -> 1 | P16: 3 | Q16: =(AVERAGE(O16:P16))*(AVERAGE(K16:N16)) -> 6.5 | R16: =IF(Q16>15,"Crítico",IF(Q16>8,"Alto",IF(Q16>4,"Medio","Bajo"))) -> Medio | S16: Evaluación de Registros Entrevistas | T16: Etapa 1. Etapa 2. Evaluaciones extraordinarias. Evaluaciones complementarias.
B17: 9 | C17: PERSONAL | D17: 5.1.1 5.1.2 5.1.3 5.1.4 5.1.5 5.1.6 5.1.7 5.1.8 5.1.9 | E17: Actividades Administrativas y Controles de proceso | F17: Asignación de personal no competente para fases especificas dentro de la cadena de valor del laboratorio. | G17: Afectación a la calidad de las pruebas/análisis | H17: Definición errónea de requisitos para los perfiles de cargo. Asignación insuficiente de recursos para contratación del personal. | I17: =0/16 -> 0 | J17: Operativo | K17: 4 | L17: 3 | M17: 4 | N17: 2 | O17: =IF(I17>=0.71,5,IF(I17>=0.51,4,IF(I17>=0.21,3,IF(I17>0,2,1)))) -> 1 | P17: 3 | Q17: =(AVERAGE(O17:P17))*(AVERAGE(K17:N17)) -> 6.5 | R17: =IF(Q17>15,"Crítico",IF(Q17>8,"Alto",IF(Q17>4,"Medio","Bajo"))) -> Medio | S17: Evaluación de Registros Entrevistas | T17: Etapa 1. Etapa 2. Evaluaciones extraordinarias. Evaluaciones complementarias.
B18: 10 | C18: INSTALACIÓNES Y CONDICIONES AMBIENTALES | D18: 5.2.1 5.2.2 5.2.3 5.2.4 5.2.5 5.2.6 | E18: Actividades Administrativas y Controles de proceso | F18: Instalaciones y condiciones ambientales no son controladas | G18: Afectación a la calidad de las pruebas/análisis | H18: Desconocimiento de los métodos utilizados Falta de asignación de recursos Desconocimiento o ausencia de procedimientos para el control de condiciones ambientales | I18: =0/16 -> 0 | J18: Operativo | K18: 4 | L18: 3 | M18: 4 | N18: 2 | O18: =IF(I18>=0.71,5,IF(I18>=0.51,4,IF(I18>=0.21,3,IF(I18>0,2,1)))) -> 1 | P18: 2 | Q18: =(AVERAGE(O18:P18))*(AVERAGE(K18:N18)) -> 4.875 | R18: =IF(Q18>15,"Crítico",IF(Q18>8,"Alto",IF(Q18>4,"Medio","Bajo"))) -> Medio | S18: Evaluación de Registros Testificación | T18: Etapa 1. Etapa 2. Evaluaciones extraordinarias. Evaluaciones complementarias.
B19: 11 | C19: EQUIPO DE LABORATORIO, REACTIVOS Y MATERIALES CONSUMIBLES | D19: 5.3.1 5.3.2 | E19: Actividades Administrativas y Controles de proceso | F19: Uso de equipamiento que no obedece a los requisitos especificados para su aplicación en las pruebas/análisis | G19: Afectación a la calidad de las pruebas/análisis | H19: Desconocimiento de los métodos utilizados Falta de asignación de recursos | I19: =3/16 -> 0.1875 | J19: Operativo | K19: 4 | L19: 3 | M19: 4 | N19: 1 | O19: =IF(I19>=0.71,5,IF(I19>=0.51,4,IF(I19>=0.21,3,IF(I19>0,2,1)))) -> 2 | P19: 3 | Q19: =(AVERAGE(O19:P19))*(AVERAGE(K19:N19)) -> 7.5 | R19: =IF(Q19>15,"Crítico",IF(Q19>8,"Alto",IF(Q19>4,"Medio","Bajo"))) -> Medio | S19: Evaluación de Registros Testificación | T19: Etapa 1. Etapa 2. Evaluaciones extraordinarias. Evaluaciones complementarias.
B20: 12 | C20: PROCESOS PREANALITICOS | D20: 5.4.1 5.4.2 5.4.3 | E20: Actividades Administrativas y Controles de proceso | F20: Información disponible no adecuada para el objeto del paciente | G20: Manejo y direccionamiento inadecuado del paciente Consecuencias legales | H20: No es asignado personal competente para esta actividad Fallas en sistemas de información para acceso de clientes | I20: =0/16 -> 0 | J20: De Mercado | K20: 4 | L20: 2 | M20: 5 | N20: 2 | O20: =IF(I20>=0.71,5,IF(I20>=0.51,4,IF(I20>=0.21,3,IF(I20>0,2,1)))) -> 1 | P20: 2 | Q20: =(AVERAGE(O20:P20))*(AVERAGE(K20:N20)) -> 4.875 | R20: =IF(Q20>15,"Crítico",IF(Q20>8,"Alto",IF(Q20>4,"Medio","Bajo"))) -> Medio | S20: Evaluación de Registros Testificación | T20: Etapa 1. Etapa 2. Evaluaciones extraordinarias. Evaluaciones complementarias.
B21: 13 | C21: PROCESOS PREANALITICOS | D21: 5.4.4 5.4.5 5.4.6 5.4.7 | E21: Actividades Administrativas y Controles de proceso | F21: Deterioro/perdida/ confusión de la muestra | G21: Afectación a la calidad de resultados de las pruebas/análisis | H21: Desconocimiento de los métodos Falta de asignación de recursos para la adecuada conservación de los ítems Desconocimiento o ausencia de procedimientos para la manipulación de ítems | I21: =0/16 -> 0 | J21: Operativo | K21: 4 | L21: 3 | M21: 5 | N21: 1 | O21: =IF(I21>=0.71,5,IF(I21>=0.51,4,IF(I21>=0.21,3,IF(I21>0,2,1)))) -> 1 | P21: 2 | Q21: =(AVERAGE(O21:P21))*(AVERAGE(K21:N21)) -> 4.875 | R21: =IF(Q21>15,"Crítico",IF(Q21>8,"Alto",IF(Q21>4,"Medio","Bajo"))) -> Medio | S21: Evaluación de Registros Testificación Entrevistas | T21: Etapa 1. Etapa 2. Evaluaciones extraordinarias. Evaluaciones complementarias.
B22: 14 | C22: PROCESOS ANALITICOS | D22: 5.5.1 | E22: Actividades Administrativas y Controles de proceso | F22: Emplear pruebas/análisis de las actividades del laboratorio que no hayan sido previamente verificados o validados, y de acuerdo a su fin previsto | G22: Afectación a la calidad de resultados de las pruebas/análisis | H22: No se cuente con metodologías adecuadas para la validación o verificación de métodos No se cuenta con metodologías adecuadas para la estimación de incertidumbre de medición No es asignado personal competente para esta actividad | I22: =1/16 -> 0.0625 | J22: Operativo | K22: 4 | L22: 3 | M22: 5 | N22: 1 | O22: =IF(I22>=0.71,5,IF(I22>=0.51,4,IF(I22>=0.21,3,IF(I22>0,2,1)))) -> 2 | P22: 3 | Q22: =(AVERAGE(O22:P22))*(AVERAGE(K22:N22)) -> 8.125 | R22: =IF(Q22>15,"Crítico",IF(Q22>8,"Alto",IF(Q22>4,"Medio","Bajo"))) -> Alto | S22: Evaluación Documental Evaluación de Registros Testificación Entrevistas Revisión del desempeño en ensayos de aptitud y otras comparaciones interlaboratorios. | T22: Etapa 1. Etapa 2. Evaluaciones extraordinarias. Evaluaciones complementarias.
B23: 15 | C23: PROCESOS ANALITICOS | D23: 5.5.2 | E23: Actividades Administrativas y Controles de proceso | F23: Emplear intervalos de referencia inadecuados para la población objeto del servicio y de acuerdo a su fin previsto | G23: Afectación a la calidad de resultados de las pruebas/análisis Interpretación diagnostica errada por parte del personal medico | H23: No es asignado personal competente para esta actividad Desconocimiento de necesidades y definiciones de la población objeto de servicio | I23: =1/16 -> 0.0625 | J23: Operativo | K23: 4 | L23: 2 | M23: 4 | N23: 3 | O23: =IF(I23>=0.71,5,IF(I23>=0.51,4,IF(I23>=0.21,3,IF(I23>0,2,1)))) -> 2 | P23: 3 | Q23: =(AVERAGE(O23:P23))*(AVERAGE(K23:N23)) -> 8.125 | R23: =IF(Q23>15,"Crítico",IF(Q23>8,"Alto",IF(Q23>4,"Medio","Bajo"))) -> Alto | S23: Evaluación Documental Evaluación de Registros Testificación Entrevistas Revisión del desempeño en ensayos de aptitud y otras comparaciones interlaboratorios. | T23: Etapa 1. Etapa 2. Evaluaciones extraordinarias. Evaluaciones complementarias.
B24: 16 | C24: PROCESOS ANALITICOS | D24: 5.5.3 | E24: Actividades Administrativas y Controles de proceso | F24: Documentación inadecuada de procedimientos analíticos | G24: Afectación a la calidad y validez de resultados de las pruebas/análisis | H24: No es asignado personal competente para esta actividad Divulgación del documento analítico no asegura el entendimiento por parte del personal | I24: =1/16 -> 0.0625 | J24: Operativo | K24: 4 | L24: 1 | M24: 1 | N24: 3 | O24: =IF(I24>=0.71,5,IF(I24>=0.51,4,IF(I24>=0.21,3,IF(I24>0,2,1)))) -> 2 | P24: 2 | Q24: =(AVERAGE(O24:P24))*(AVERAGE(K24:N24)) -> 4.5 | R24: =IF(Q24>15,"Crítico",IF(Q24>8,"Alto",IF(Q24>4,"Medio","Bajo"))) -> Medio | S24: Evaluación Documental Evaluación de Registros Testificación Entrevistas Revisión del desempeño en ensayos de aptitud y otras comparaciones interlaboratorios. | T24: Etapa 1. Etapa 2. Evaluaciones extraordinarias. Evaluaciones complementarias.
B25: 17 | C25: ASEGURAMIENTO DE LA CALIDAD DE LOS RESULTADOS DEL ANALISIS | D25: 5.6 | E25: Actividades Administrativas y Controles de proceso | F25: Inadecuado aseguramiento de la calidad de resultados | G25: Afectación a la calidad y validez de los resultados de las pruebas/análisis | H25: Desconocimiento o ausencia de los procedimientos para aseguramiento de calidad No es asignado personal competente para esta actividad | I25: =1/16 -> 0.0625 | J25: Operativo | K25: 4 | L25: 3 | M25: 5 | N25: 1 | O25: =IF(I25>=0.71,5,IF(I25>=0.51,4,IF(I25>=0.21,3,IF(I25>0,2,1)))) -> 2 | P25: 3 | Q25: =(AVERAGE(O25:P25))*(AVERAGE(K25:N25)) -> 8.125 | R25: =IF(Q25>15,"Crítico",IF(Q25>8,"Alto",IF(Q25>4,"Medio","Bajo"))) -> Alto | S25: Evaluación de Registros Testificación Revisión del desempeño en ensayos de aptitud y otras comparaciones interlaboratorios. | T25: Etapa 1. Etapa 2. Evaluaciones extraordinarias. Evaluaciones complementarias.
B26: 18 | C26: PROCESOS POS ANALITICOS | D26: 5.7.1 | E26: Actividades Administrativas y Controles de proceso | F26: Revisión ineficiente y/o inadecuada de resultados de análisis | G26: Afectación a la validez de los resultados de las pruebas/análisis | H26: Desconocimiento o ausencia de los procedimientos para aseguramiento de calidad No es asignado personal competente para esta actividad | I26: =0/16 -> 0 | J26: De Mercado | K26: 4 | L26: 3 | M26: 5 | N26: 3 | O26: =IF(I26>=0.71,5,IF(I26>=0.51,4,IF(I26>=0.21,3,IF(I26>0,2,1)))) -> 1 | P26: 2 | Q26: =(AVERAGE(O26:P26))*(AVERAGE(K26:N26)) -> 5.625 | R26: =IF(Q26>15,"Crítico",IF(Q26>8,"Alto",IF(Q26>4,"Medio","Bajo"))) -> Medio | S26: Evaluación de Registros | T26: Etapa 1. Etapa 2. Evaluaciones extraordinarias. Evaluaciones complementarias.
B27: 19 | C27: PROCESOS POS ANALITICOS | D27: 5.7.2 | E27: Normatividad y Regulación | F27: Desecho de muestras fuera de las condiciones legales del país | G27: Consecuencias legales | H27: Desconocimiento de legislación colombiana | I27: =0/16 -> 0 | J27: De Mercado | K27: 4 | L27: 3 | M27: 5 | N27: 2 | O27: =IF(I27>=0.71,5,IF(I27>=0.51,4,IF(I27>=0.21,3,IF(I27>0,2,1)))) -> 1 | P27: 2 | Q27: =(AVERAGE(O27:P27))*(AVERAGE(K27:N27)) -> 5.25 | R27: =IF(Q27>15,"Crítico",IF(Q27>8,"Alto",IF(Q27>4,"Medio","Bajo"))) -> Medio | S27: Evaluación de Registros | T27: Etapa 1. Etapa 2. Evaluaciones extraordinarias. Evaluaciones complementarias.
B28: 20 | C28: REPORTE DE RESULTADOS | D28: 5.8.1 5.8.2 5.8.3 | E28: Actividades Administrativas y Controles de proceso | F28: Emisión de reportes de resultados que no contengan la información completa, exacta y sin ambigüedades. | G28: Afectación a la validez de los resultados | H28: Falta de conocimiento de la norma de acreditación ISO 15189 en cuanto a reportes de resultados | I28: =0/16 -> 0 | J28: Operativo | K28: 4 | L28: 5 | M28: 5 | N28: 3 | O28: =IF(I28>=0.71,5,IF(I28>=0.51,4,IF(I28>=0.21,3,IF(I28>0,2,1)))) -> 1 | P28: 2 | Q28: =(AVERAGE(O28:P28))*(AVERAGE(K28:N28)) -> 6.375 | R28: =IF(Q28>15,"Crítico",IF(Q28>8,"Alto",IF(Q28>4,"Medio","Bajo"))) -> Medio | S28: Evaluación de Registros | T28: Etapa 1. Etapa 2. Evaluaciones extraordinarias. Evaluaciones complementarias.
B29: 21 | C29: LIBERACIÓN DE LOS RESULTADOS | D29: 5.9.1 5.9.2 5.9.3 | E29: Actividades Administrativas y Controles de proceso | F29: Liberación de resultados en el momento no indicado | G29: Pérdida de Confianza en el laboratorio Pérdida Clientes Consecuencias legales para el laboratorio | H29: Falta de definición de roles para liberación de resultados Falta de controles para liberación de resultados | I29: =0/16 -> 0 | J29: De Mercado | K29: 4 | L29: 2 | M29: 5 | N29: 3 | O29: =IF(I29>=0.71,5,IF(I29>=0.51,4,IF(I29>=0.21,3,IF(I29>0,2,1)))) -> 1 | P29: 2 | Q29: =(AVERAGE(O29:P29))*(AVERAGE(K29:N29)) -> 5.25 | R29: =IF(Q29>15,"Crítico",IF(Q29>8,"Alto",IF(Q29>4,"Medio","Bajo"))) -> Medio | S29: Evaluación documental Evaluación de Registros | T29: Etapa 1. Etapa 2. Evaluaciones extraordinarias. Evaluaciones complementarias.
B30: 22 | C30: GESTION DE LA INFORMACIÓN | D30: 5.10.1 5.10.2 5.10.3 | E30: Actividades Administrativas y Controles de proceso | F30: Perdida, deterioro o modificación no autorizada de la información. | G30: Pérdida de Confianza en el laboratorio Pérdida Clientes Consecuencias legales para el laboratorio | H30: Falta de seguridad de la información Desconocimiento o ausencia de protocolos para manejo de la información | I30: =0/16 -> 0 | J30: Operativo | K30: 4 | L30: 5 | M30: 5 | N30: 1 | O30: =IF(I30>=0.71,5,IF(I30>=0.51,4,IF(I30>=0.21,3,IF(I30>0,2,1)))) -> 1 | P30: 2 | Q30: =(AVERAGE(O30:P30))*(AVERAGE(K30:N30)) -> 5.625 | R30: =IF(Q30>15,"Crítico",IF(Q30>8,"Alto",IF(Q30>4,"Medio","Bajo"))) -> Medio | S30: Evaluación de Registros | T30: Etapa 1. Etapa 2. Evaluaciones extraordinarias. Evaluaciones complementarias.

Sheet Mapa de riesgo LCL
E2: MAPA DE RIESGOS LABORATORIOS CLÍNICOS | Q2: Código | R2: PR-3.3-01 Anexo A
Q3: Versión | R3: 1
B5: No | C5: REQUISITOS | D5: Análisis de riesgo | F5: Nivel de riesgo | G5: Riesgo | H5: Tipo de riesgo | I5: Descripción del evento
D6: C | E6: O
B7: ='Matriz de riesgo LCL'!B9 -> 1 | C7: ='Matriz de riesgo LCL'!C9 -> REQUISITOS DE GESTIÓN | D7: =AVERAGE('Matriz de riesgo LCL'!K9:N9) -> 4.25 | E7: =AVERAGE('Matriz de riesgo LCL'!O9:P9) -> 3 | F7: =D7*E7 -> 12.75 | G7: =IF(F7>15,"Crítico",IF(F7>8,"Alto",IF(F7>4,"Medio","Bajo"))) -> Alto | H7: ='Matriz de riesgo LCL'!J9 -> Estratégico | I7: ='Matriz de riesgo LCL'!F9 -> Uso de procesos y procedimientos inadecuados para la gestión de las actividades del laboratorio
B8: ='Matriz de riesgo LCL'!B10 -> 2 | C8: ='Matriz de riesgo LCL'!C10 -> ACUERDO DE PRESTACIÓN DE SERVICIOS | D8: =AVERAGE('Matriz de riesgo LCL'!K10:N10) -> 3.5 | E8: =AVERAGE('Matriz de riesgo LCL'!O10:P10) -> 1 | F8: =D8*E8 -> 3.5 | G8: =IF(F8>15,"Crítico",IF(F8>8,"Alto",IF(F8>4,"Medio","Bajo"))) -> Bajo | H8: ='Matriz de riesgo LCL'!J10 -> Financiero | I8: ='Matriz de riesgo LCL'!F10 -> No definir y acordar adecuadamente las condiciones de prestación del servicio
B9: ='Matriz de riesgo LCL'!B11 -> 3 | C9: ='Matriz de riesgo LCL'!C11 -> ANÁLISIS EFECTUADOS POR LABORATORIOS SUBCONTRATADOS | D9: =AVERAGE('Matriz de riesgo LCL'!K11:N11) -> 4.5 | E9: =AVERAGE('Matriz de riesgo LCL'!O11:P11) -> 2 | F9: =D9*E9 -> 9 | G9: =IF(F9>15,"Crítico",IF(F9>8,"Alto",IF(F9>4,"Medio","Bajo"))) -> Alto | H9: ='Matriz de riesgo LCL'!J11 -> Financiero | I9: ='Matriz de riesgo LCL'!F11 -> Selección y uso de subcontratistas y/o proveedores de productos o servicios no competentes.
B10: ='Matriz de riesgo LCL'!B12 -> 4 | C10: ='Matriz de riesgo LCL'!C12 -> SERVICIOS EXTERNOS Y SUMINISTROS | D10: =AVERAGE('Matriz de riesgo LCL'!K12:N12) -> 4.25 | E10: =AVERAGE('Matriz de riesgo LCL'!O12:P12) -> 2 | F10: =D10*E10 -> 8.5 | G10: =IF(F10>15,"Crítico",IF(F10>8,"Alto",IF(F10>4,"Medio","Bajo"))) -> Alto | H10: ='Matriz de riesgo LCL'!J12 -> Operativo | I10: ='Matriz de riesgo LCL'!F12 -> Productos y servicios adquiridos no sean adecuados para el fin previsto dentro las actividades del laboratorio
B11: ='Matriz de riesgo LCL'!B13 -> 5 | C11: ='Matriz de riesgo LCL'!C13 -> SERVICIOS DE ASESORAMIENTO | D11: =AVERAGE('Matriz de riesgo LCL'!K13:N13) -> 4.5 | E11: =AVERAGE('Matriz de riesgo LCL'!O13:P13) -> 1.5 | F11: =D11*E11 -> 6.75 | G11: =IF(F11>15,"Crítico",IF(F11>8,"Alto",IF(F11>4,"Medio","Bajo"))) -> Medio | H11: ='Matriz de riesgo LCL'!J13 -> De Mercado | I11: ='Matriz de riesgo LCL'!F13 -> El laboratorio realice asesoramientos no adecuados
B12: ='Matriz de riesgo LCL'!B14 -> 6 | C12: ='Matriz de riesgo LCL'!C14 -> RESOLUCIÓN DE RECLAMACIONES | D12: =AVERAGE('Matriz de riesgo LCL'!K14:N14) -> 3.75 | E12: =AVERAGE('Matriz de riesgo LCL'!O14:P14) -> 1.5 | F12: =D12*E12 -> 5.625 | G12: =IF(F12>15,"Crítico",IF(F12>8,"Alto",IF(F12>4,"Medio","Bajo"))) -> Medio | H12: ='Matriz de riesgo LCL'!J14 -> Operativo | I12: ='Matriz de riesgo LCL'!F14 -> Falta de respuesta o respuesta inoportuna e inadecuada a las reclamaciones asociadas a las actividades del laboratorio.
B13: ='Matriz de riesgo LCL'!B15 -> 7 | C13: ='Matriz de riesgo LCL'!C15 -> IDENTIFICACIÓN Y CONTROL DE LAS NO CONFORMIDADES | D13: =AVERAGE('Matriz de riesgo LCL'!K15:N15) -> 3.75 | E13: =AVERAGE('Matriz de riesgo LCL'!O15:P15) -> 2 | F13: =D13*E13 -> 7.5 | G13: =IF(F13>15,"Crítico",IF(F13>8,"Alto",IF(F13>4,"Medio","Bajo"))) -> Medio | H13: ='Matriz de riesgo LCL'!J15 -> Operativo | I13: ='Matriz de riesgo LCL'!F15 -> Falta de identificación y gestión inadecuada de trabajos no conformes asociados a las actividades del laboratorio.
B14: ='Matriz de riesgo LCL'!B16 -> 8 | C14: ='Matriz de riesgo LCL'!C16 -> PERSONAL | D14: =AVERAGE('Matriz de riesgo LCL'!K16:N16) -> 3.25 | E14: =AVERAGE('Matriz de riesgo LCL'!O16:P16) -> 2 | F14: =D14*E14 -> 6.5 | G14: =IF(F14>15,"Crítico",IF(F14>8,"Alto",IF(F14>4,"Medio","Bajo"))) -> Medio | H14: ='Matriz de riesgo LCL'!J16 -> Estratégico | I14: ='Matriz de riesgo LCL'!F16 -> Falta de identificación de requisitos de competencia del personal que participa en el laboratorio
B15: ='Matriz de riesgo LCL'!B17 -> 9 | C15: ='Matriz de riesgo LCL'!C17 -> PERSONAL | D15: =AVERAGE('Matriz de riesgo LCL'!K17:N17) -> 3.25 | E15: =AVERAGE('Matriz de riesgo LCL'!O17:P17) -> 2 | F15: =D15*E15 -> 6.5 | G15: =IF(F15>15,"Crítico",IF(F15>8,"Alto",IF(F15>4,"Medio","Bajo"))) -> Medio | H15: ='Matriz de riesgo LCL'!J17 -> Operativo | I15: ='Matriz de riesgo LCL'!F17 -> Asignación de personal no competente para fases especificas dentro de la cadena de valor del laboratorio.
B16: ='Matriz de riesgo LCL'!B18 -> 10 | C16: ='Matriz de riesgo LCL'!C18 -> INSTALACIÓNES Y CONDICIONES AMBIENTALES | D16: =AVERAGE('Matriz de riesgo LCL'!K18:N18) -> 3.25 | E16: =AVERAGE('Matriz de riesgo LCL'!O18:P18) -> 1.5 | F16: =D16*E16 -> 4.875 | G16: =IF(F16>15,"Crítico",IF(F16>8,"Alto",IF(F16>4,"Medio","Bajo"))) -> Medio | H16: ='Matriz de riesgo LCL'!J18 -> Operativo | I16: ='Matriz de riesgo LCL'!F18 -> Instalaciones y condiciones ambientales no son controladas
B17: ='Matriz de riesgo LCL'!B19 -> 11 | C17: ='Matriz de riesgo LCL'!C19 -> EQUIPO DE LABORATORIO, REACTIVOS Y MATERIALES CONSUMIBLES | D17: =AVERAGE('Matriz de riesgo LCL'!K19:N19) -> 3 | E17: =AVERAGE('Matriz de riesgo LCL'!O19:P19) -> 2.5 | F17: =D17*E17 -> 7.5 | G17: =IF(F17>15,"Crítico",IF(F17>8,"Alto",IF(F17>4,"Medio","Bajo"))) -> Medio | H17: ='Matriz de riesgo LCL'!J19 -> Operativo | I17: ='Matriz de riesgo LCL'!F19 -> Uso de equipamiento que no obedece a los requisitos especificados para su aplicación en las pruebas/análisis
B18: ='Matriz de riesgo LCL'!B20 -> 12 | C18: ='Matriz de riesgo LCL'!C20 -> PROCESOS PREANALITICOS | D18: =AVERAGE('Matriz de riesgo LCL'!K20:N20) -> 3.25 | E18: =AVERAGE('Matriz de riesgo LCL'!O20:P20) -> 1.5 | F18: =D18*E18 -> 4.875 | G18: =IF(F18>15,"Crítico",IF(F18>8,"Alto",IF(F18>4,"Medio","Bajo"))) -> Medio | H18: ='Matriz de riesgo LCL'!J20 -> De Mercado | I18: ='Matriz de riesgo LCL'!F20 -> Información disponible no adecuada para el objeto del paciente
... B28: ='Matriz de riesgo LCL'!B30 -> 22 | C28: ='Matriz de riesgo LCL'!C30 -> GESTION DE LA INFORMACIÓN | D28: =AVERAGE('Matriz de riesgo LCL'!K30:N30) -> 3.75 | E28: =AVERAGE('Matriz de riesgo LCL'!O30:P30) -> 1.5 | F28: =D28*E28 -> 5.625 | G28: =IF(F28>15,"Crítico",IF(F28>8,"Alto",IF(F28>4,"Medio","Bajo"))) -> Medio | H28: ='Matriz de riesgo LCL'!J30 -> Operativo | I28: ='Matriz de riesgo LCL'!F30 -> Perdida, deterioro o modificación no autorizada de la información.

Sheet Hoja1
B2: Fuentes de Riesgo | C2: Opciones de Tratamiento de Riesgo | D2: Tipos de Riesgo
B3: Relaciones Comerciales y Contractuales | C3: Prevenir | D3: Estrategico
B4: Normatividad y Regulación | C4: Proteger | D4: Operativo
B5: Circunstancias Economicas | C5: Transferir | D5: Financiero
B6: Comportamiento Humano | C6: Retener | D6: De Mercado
B7: Eventos naturales | C7: Aceptar | D7: Ambiental
B8: Circunstancias Politicas | C8: Evitar | D8: Tecnologico
B9: Aspectos Tecnologicos o Técnicos | D9: Fisico
B10: Actividades Administrativas y Controles de proceso | D10: SISO
B11: Personas Maliciosas | D11: Seguridad de la Información
